BEGIN:VCALENDAR
VERSION:2.0
PRODID:-//Tillamook Coast - ECPv6.15.16//NONSGML v1.0//EN
CALSCALE:GREGORIAN
METHOD:PUBLISH
X-WR-CALNAME:Tillamook Coast
X-ORIGINAL-URL:https://tillamookcoast.com
X-WR-CALDESC:Events for Tillamook Coast
REFRESH-INTERVAL;VALUE=DURATION:PT1H
X-Robots-Tag:noindex
X-PUBLISHED-TTL:PT1H
BEGIN:VTIMEZONE
TZID:America/Los_Angeles
BEGIN:DAYLIGHT
TZOFFSETFROM:-0800
TZOFFSETTO:-0700
TZNAME:PDT
DTSTART:20250309T100000
END:DAYLIGHT
BEGIN:STANDARD
TZOFFSETFROM:-0700
TZOFFSETTO:-0800
TZNAME:PST
DTSTART:20251102T090000
END:STANDARD
BEGIN:DAYLIGHT
TZOFFSETFROM:-0800
TZOFFSETTO:-0700
TZNAME:PDT
DTSTART:20260308T100000
END:DAYLIGHT
BEGIN:STANDARD
TZOFFSETFROM:-0700
TZOFFSETTO:-0800
TZNAME:PST
DTSTART:20261101T090000
END:STANDARD
BEGIN:DAYLIGHT
TZOFFSETFROM:-0800
TZOFFSETTO:-0700
TZNAME:PDT
DTSTART:20270314T100000
END:DAYLIGHT
BEGIN:STANDARD
TZOFFSETFROM:-0700
TZOFFSETTO:-0800
TZNAME:PST
DTSTART:20271107T090000
END:STANDARD
END:VTIMEZONE
BEGIN:VEVENT
DTSTART;TZID=America/Los_Angeles:20260307T090000
DTEND;TZID=America/Los_Angeles:20260307T100000
DTSTAMP:20260420T195047
CREATED:20251208T170746Z
LAST-MODIFIED:20260307T224107Z
UID:10008694-1772874000-1772877600@tillamookcoast.com
SUMMARY:Yoga With Dawn
DESCRIPTION:🧘‍♀️ Yoga with Dawn – Find Your Flow! 🧘‍♂️ \nStart your day with peace\, strength\, and positive energy 🌞Join Dawn for a refreshing yoga class every: \n🗓️ Monday\, Wednesday\, Friday & Saturday🕘 9:00 AM – 10:00 AM📍 Kiawanda Community Center \nAll levels are welcome—whether you’re new to yoga or a seasoned pro\, Dawn’s calm guidance and supportive atmosphere will leave you feeling refreshed and centered. \n✨ Bring a mat\, some water\, and a smile.No registration needed—just drop in and breathe it out with us! \n#YogaWithDawn #KiawandaCommunityCenter #MorningYoga #WellnessInPacificCity #MindBodySoul
URL:https://tillamookcoast.com/plan-your-trip/events/event/yoga-with-dawn-127/
LOCATION:Kiawanda Community Center\, 34600 Cape Kiwanda Dr\, Pacific City\, OR 97135\, OR\, United States
CATEGORIES:Classes and Workshops,Community
ATTACH;FMTTYPE=image/jpeg:https://tillamookcoast.com/wp-content/uploads/2025/07/yoga-oRzciY.jpg
GEO:45.2048476;-123.9670463
X-APPLE-STRUCTURED-LOCATION;VALUE=URI;X-ADDRESS=Kiawanda Community Center 34600 Cape Kiwanda Dr Pacific City OR 97135 OR United States;X-APPLE-RADIUS=500;X-TITLE=34600 Cape Kiwanda Dr\, Pacific City\, OR 97135:geo:-123.9670463,45.2048476
END:VEVENT
BEGIN:VEVENT
DTSTART;TZID=America/Los_Angeles:20260307T090000
DTEND;TZID=America/Los_Angeles:20260307T170000
DTSTAMP:20260420T195047
CREATED:20251230T182939Z
LAST-MODIFIED:20260307T224107Z
UID:10008829-1772874000-1772902800@tillamookcoast.com
SUMMARY:Compassionate Communication Workshop – No-Cost
DESCRIPTION:Compassionate Communication Workshop – Online  \nJoin expert trainer Iain Haukka for an engaging and practical workshop on Compassionate Communication (formerly known as Nonviolent Communication). This experiential session offers tools for expressing yourself honestly\, listening deeply\, and navigating difficult conversations with greater clarity and care.  \nThrough real-life examples\, guided practice\, and supportive dialogue\, participants will explore how to build mutual understanding\, reduce conflict\, and strengthen relationships at work\, at home\, and within themselves. Whether you’re new to compassionate communication or looking to deepen your practice\, Iain’s grounded expertise and approachable teaching style create a welcoming space for learning and growth. \nThis no-cost workshop is open to all experience levels. Come curious\, leave connected. \nTo register\, visit: https://www.tillamookmediation.org/events/compassionate-communication-workshop \nHappily hosted by Tillamook Office of Mediation.
URL:https://tillamookcoast.com/plan-your-trip/events/event/compassionate-communication-workshop-no-cost/
LOCATION:Oregon
CATEGORIES:Classes and Workshops,Community
END:VEVENT
BEGIN:VEVENT
DTSTART;TZID=America/Los_Angeles:20260307T100000
DTEND;TZID=America/Los_Angeles:20260307T120000
DTSTAMP:20260420T195047
CREATED:20251208T170746Z
LAST-MODIFIED:20260307T224108Z
UID:10008695-1772877600-1772884800@tillamookcoast.com
SUMMARY:Dungeons and Dragons at Tillamook Library
DESCRIPTION:Play a variety of tabletop RPGs with local storytellers at the library! Open to all!
URL:https://tillamookcoast.com/plan-your-trip/events/event/dungeons-and-dragons-at-tillamook-library-70/
LOCATION:Tillamook County Library\, 1716 3rd Street Tillamook Oregon 97141
CATEGORIES:Community
ATTACH;FMTTYPE=image/png:https://tillamookcoast.com/wp-content/uploads/2025/07/Dungeons-Dragons-2025-TM-GIMjO9.png
GEO:45.4566251;-123.846324
X-APPLE-STRUCTURED-LOCATION;VALUE=URI;X-ADDRESS=Tillamook County Library 1716 3rd Street Tillamook Oregon 97141;X-APPLE-RADIUS=500;X-TITLE=1716 3rd Street Tillamook Oregon 97141:geo:-123.846324,45.4566251
END:VEVENT
BEGIN:VEVENT
DTSTART;TZID=America/Los_Angeles:20260307T100000
DTEND;TZID=America/Los_Angeles:20260307T160000
DTSTAMP:20260420T195047
CREATED:20260106T173351Z
LAST-MODIFIED:20260307T173604Z
UID:10008924-1772877600-1772899200@tillamookcoast.com
SUMMARY:CLAY OPEN STUDIO
DESCRIPTION:Participants can purchase clay\, plus there are a number of bisque pieces available to buy and glaze as well.  All experience levels are welcome and a Studio Host is available to answer questions and offer tips.  Children under 12 must be accompanied by an adult.  Studio fees are $2 per hour\, which includes glazing and firing up the finished product.  Clay is $2 per 1 pound section.  For more information\, contact the Clay hosts at: hoffmanclaystudio@gmail.com
URL:https://tillamookcoast.com/plan-your-trip/events/event/clay-open-studio-69/
LOCATION:Hoffman Center for the Arts\, 594 Laneda Ave\, Manzanita\, OR\, United States
CATEGORIES:Arts
GEO:45.719325;-123.931502
X-APPLE-STRUCTURED-LOCATION;VALUE=URI;X-ADDRESS=Hoffman Center for the Arts 594 Laneda Ave Manzanita OR United States;X-APPLE-RADIUS=500;X-TITLE=594 Laneda Ave:geo:-123.931502,45.719325
END:VEVENT
BEGIN:VEVENT
DTSTART;TZID=America/Los_Angeles:20260307T123000
DTEND;TZID=America/Los_Angeles:20260307T163000
DTSTAMP:20260420T195047
CREATED:20260126T154321Z
LAST-MODIFIED:20260307T224235Z
UID:10009075-1772886600-1772901000@tillamookcoast.com
SUMMARY:COASST Beached Bird Training Session at Tillamook Library
DESCRIPTION:Join the Coastal Observation and Seabird Survey Team (COASST)\, and make a difference for the environment! COASST participants collect monthly data on beached carcasses of marine birds to establish the pattern of bird mortality on North Pacific beaches. Data collected helps address important marine conservation issues. No prior scientific experience is needed!\nBeach surveys are best when conducted in groups of 2 or more — so please come with a partner in mind or in tow! The training is free\, but we do ask for a $31 refundable survey kit deposit to take the materials home.
URL:https://tillamookcoast.com/plan-your-trip/events/event/coasst-beached-bird-training-session-at-tillamook-library/
LOCATION:Tillamook County Library\, 1716 3rd Street Tillamook Oregon 97141
CATEGORIES:Community,Education
ATTACH;FMTTYPE=image/png:https://tillamookcoast.com/wp-content/uploads/2026/01/coasst-zvN0Qw.png
GEO:45.4566251;-123.846324
X-APPLE-STRUCTURED-LOCATION;VALUE=URI;X-ADDRESS=Tillamook County Library 1716 3rd Street Tillamook Oregon 97141;X-APPLE-RADIUS=500;X-TITLE=1716 3rd Street Tillamook Oregon 97141:geo:-123.846324,45.4566251
END:VEVENT
BEGIN:VEVENT
DTSTART;TZID=America/Los_Angeles:20260307T130000
DTEND;TZID=America/Los_Angeles:20260307T143000
DTSTAMP:20260420T195047
CREATED:20260217T160637Z
LAST-MODIFIED:20260307T224108Z
UID:10009255-1772888400-1772893800@tillamookcoast.com
SUMMARY:Auditions: The Miracle Worker
DESCRIPTION:TAPA is holding auditions for “The Miracle Worker” March 7th @ 1:00 pm\, held at Oregon Coast Dance Center (312 Main Ave\, Tillamook). \nTAPA is seeking a diverse and dynamic cast of performers of all backgrounds\, identities\, and experience levels to bring this powerful story to life. Read more about the characters and script samples in the audition packet\, available here:\nThe Miracle Worker Audition Packet \nThe Miracle Worker tells the inspiring true story of Helen Keller and her teacher\, Annie Sullivan. Trapped in a silent and dark world\, young Helen’s life changes when Annie arrives and undertakes the seemingly impossible task of teaching her to communicate. What follows is a gripping battle of wills\, filled with heart\, humor\, and determination\, as teacher and student forge a bond that transforms them both. \nJoin TAPA in telling this powerful story of perseverance\, connection\, and the life-changing power of language.
URL:https://tillamookcoast.com/plan-your-trip/events/event/auditions-the-miracle-worker/
LOCATION:Oregon Coast Dance Center\, 312 Main Avenue\, Tillamook\, OR\, 97141\, United States
CATEGORIES:Community,Theater
ATTACH;FMTTYPE=image/png:https://tillamookcoast.com/wp-content/uploads/2026/02/Miracle-Worker-auditions-o48kld.png
GEO:45.4575884;-123.8443443
X-APPLE-STRUCTURED-LOCATION;VALUE=URI;X-ADDRESS=Oregon Coast Dance Center 312 Main Avenue Tillamook OR 97141 United States;X-APPLE-RADIUS=500;X-TITLE=312 Main Avenue:geo:-123.8443443,45.4575884
END:VEVENT
BEGIN:VEVENT
DTSTART;TZID=America/Los_Angeles:20260307T140000
DTEND;TZID=America/Los_Angeles:20260307T170000
DTSTAMP:20260420T195047
CREATED:20251208T170657Z
LAST-MODIFIED:20260307T224109Z
UID:10008674-1772892000-1772902800@tillamookcoast.com
SUMMARY:Maker Saturday at the Bay City Library
DESCRIPTION:Join us at the Bay City Branch Library on the 3rd Saturday of the month at 2:00pm and 5:00pm for Maker Saturday! Bring a project you have been working on or come and be inspired by the supplies we have. \nDo you have a new model or a LEGO kit you’ve been meaning to work on? Is there a painting or craft you’ve been wanting to start and/or finish? Are you looking for a place to get away for a while to work on your project? \nWe can help! Please note\, supplies are limited.
URL:https://tillamookcoast.com/plan-your-trip/events/event/maker-saturday-at-the-bay-city-library-35/
LOCATION:Bay City Library\, 5525 B St\, Bay City\, OR
CATEGORIES:Community
ATTACH;FMTTYPE=image/png:https://tillamookcoast.com/wp-content/uploads/2025/03/maker_saturdays-swH1cv.tmp_.png
GEO:45.5243851;-123.8908552
X-APPLE-STRUCTURED-LOCATION;VALUE=URI;X-ADDRESS=Bay City Library 5525 B St Bay City OR;X-APPLE-RADIUS=500;X-TITLE=5525 B St\, Bay City\, OR:geo:-123.8908552,45.5243851
END:VEVENT
BEGIN:VEVENT
DTSTART;TZID=America/Los_Angeles:20260307T170000
DTEND;TZID=America/Los_Angeles:20260307T190000
DTSTAMP:20260420T195047
CREATED:20260218T170229Z
LAST-MODIFIED:20260307T224109Z
UID:10009265-1772902800-1772910000@tillamookcoast.com
SUMMARY:Artist Reception “The Fisherman and his Wife” Exhibition Featuring Robert Vaughan
DESCRIPTION:Immerse yourself in an evening of creativity at Blue Water Fine Art Gallery as we highlight our March Featured Artist\, acclaimed watercolorist and local resident Robert Vaughan. His exhibition\, “The Fisherman and his Wife“\, is open from March 6 to April 5\, presenting a luminous series of watercolor pieces influenced by the refined simplicity of Abstract Asian Art. Vaughan’s work\, characterized by stylized figures\, gentle horizons\, and understated narrative moments\, offers each painting as an individual visual story. \n\n\n\n\n\n\nJoin us for the Artist Reception on Saturday\, March 7\, 2026 • 5–7 PM | Free & Open to the Public—an occasion to meet the artist\, view his work\, and enjoy an evening of art\, thoughtful conversation\, and community with light refreshments. \n\n\nStay Connected  \nFor more information—and to stay in the loop about upcoming events\, new exhibitions\, and artist features\, visit our website and sign up for our newsletter: bluewaterfineartgallery.com
URL:https://tillamookcoast.com/plan-your-trip/events/event/artist-reception-the-fisherman-and-his-wife-exhibition-featuring-robert-vaughan/
LOCATION:Blue Water Fine Art Gallery\, 119 S Miller St.\, Rockaway Beach\, OR 97136
CATEGORIES:Arts and Culture,Community
ATTACH;FMTTYPE=image/png:https://tillamookcoast.com/wp-content/uploads/2026/02/The-Fisherman-and-his-Wife-KsqI4s.png
END:VEVENT
BEGIN:VEVENT
DTSTART;TZID=America/Los_Angeles:20260307T190000
DTEND;TZID=America/Los_Angeles:20260307T210000
DTSTAMP:20260420T195047
CREATED:20251208T170657Z
LAST-MODIFIED:20260307T224110Z
UID:10008675-1772910000-1772917200@tillamookcoast.com
SUMMARY:Live Music!
DESCRIPTION:Live music every Saturday from 7–9pm in The Schooner Lounge—because your weekend deserves a soundtrack. \nKick back to the sounds of local musicians\, stay for the crave-worthy eats\, craft cocktails\, cold beers\, and our fabulous crew who always bring the good vibes. \nCurious who’s playing? Check out our lineup of Oregon-grown talent on our website!
URL:https://tillamookcoast.com/plan-your-trip/events/event/live-music-35/
LOCATION:The Schooner Restaurant & Lounge\, 2065 Boat Basin Rd
CATEGORIES:Arts and Culture,Live Music
ATTACH;FMTTYPE=image/jpeg:https://tillamookcoast.com/wp-content/uploads/2025/05/Schooner-music-scaled-ZTtYJX-scaled.jpg
GEO:45.4309728;-123.9467868
X-APPLE-STRUCTURED-LOCATION;VALUE=URI;X-ADDRESS=The Schooner Restaurant & Lounge 2065 Boat Basin Rd;X-APPLE-RADIUS=500;X-TITLE=2065 Boat Basin Rd:geo:-123.9467868,45.4309728
END:VEVENT
BEGIN:VEVENT
DTSTART;TZID=America/Los_Angeles:20260307T190000
DTEND;TZID=America/Los_Angeles:20260307T213000
DTSTAMP:20260420T195047
CREATED:20260224T192234Z
LAST-MODIFIED:20260307T224110Z
UID:10009319-1772910000-1772919000@tillamookcoast.com
SUMMARY:Bulls & Broncs
DESCRIPTION:Hold onto your hats! Bulls & Broncs is charging into the Tillamook County Fairgrounds March 7th with big bulls\, bold broncs\, and edge-of-your-seat excitement the whole family will love. Get ready for a fun-filled evening for all ages featuring tasty grub\, exciting merch\, and giveaways! And the best part? You’ll have a front-row seat to all the action at the Pavilion Indoor Arena\, where every seat feels like VIP! \nGet your tickets before it sells out: https://aftontickets.com/bullsandbroncs26 \n*all sales are final and non-refundable*
URL:https://tillamookcoast.com/plan-your-trip/events/event/bulls-broncs/
LOCATION:Tillamook County Fairgrounds\, 4603 3rd St\, Tillamook\, OR\, 97141\, United States
CATEGORIES:Community,Family Fun
ATTACH;FMTTYPE=image/jpeg:https://tillamookcoast.com/wp-content/uploads/2026/02/2026_BullsBroncs_Social-01-GY3sxV.jpg
GEO:45.4566806;-123.8073604
X-APPLE-STRUCTURED-LOCATION;VALUE=URI;X-ADDRESS=Tillamook County Fairgrounds 4603 3rd St Tillamook OR 97141 United States;X-APPLE-RADIUS=500;X-TITLE=4603 3rd St:geo:-123.8073604,45.4566806
END:VEVENT
BEGIN:VEVENT
DTSTART;TZID=America/Los_Angeles:20260307T200000
DTEND;TZID=America/Los_Angeles:20260307T200000
DTSTAMP:20260420T195047
CREATED:20260223T190724Z
LAST-MODIFIED:20260307T224111Z
UID:10009313-1772913600-1772913600@tillamookcoast.com
SUMMARY:Bulls and Broncs Rodeo After Party
DESCRIPTION:Don’t miss the “HOTTEST” party in town at the Tillamook Elk’s lodge. Saturday\, March 7th\, doors open at 8:00 pm. Live music “Sweetwater Band”\, Ride the Mechanical Bull\, Line Dancing\, Food\, Beer\, Spirts. This is a 21+ event\, with a $10.00 cover charge.  “Get your Cowboy & Cowgirl on”…… See you there!!!! \n\n1907 3rd Street\, doors open at 8pm.
URL:https://tillamookcoast.com/plan-your-trip/events/event/bulls-and-broncs-rodeo-after-party/
LOCATION:Tillamook Elks\, 1907 3rd Street\, Tillamook\, 97141
CATEGORIES:Festivals and Events,Live Music
ATTACH;FMTTYPE=image/jpeg:https://tillamookcoast.com/wp-content/uploads/2026/02/RenderedImage-cPrk0Y.jpg
GEO:45.4560267;-123.8446516
X-APPLE-STRUCTURED-LOCATION;VALUE=URI;X-ADDRESS=Tillamook Elks 1907 3rd Street Tillamook 97141;X-APPLE-RADIUS=500;X-TITLE=1907 3rd Street:geo:-123.8446516,45.4560267
END:VEVENT
BEGIN:VEVENT
DTSTART;TZID=America/Los_Angeles:20260307T200000
DTEND;TZID=America/Los_Angeles:20260307T235900
DTSTAMP:20260420T195047
CREATED:20260219T170650Z
LAST-MODIFIED:20260307T224111Z
UID:10009275-1772913600-1772927940@tillamookcoast.com
SUMMARY:Tillamook Elk’s Bull’s & Broncs After Party
DESCRIPTION:Don’t miss the “HOTTEST” party in town at the Tillamook Elk’s lodge. Saturday\, March 7th\, doors open at 8:00pm. Live music “Sweetwater Band”\, Ride the Mechanical Bull\, Line Dancing\, Food\, Beer\, Spirts. This is a 21+ event\, $10.00 cover charge.        “Get your Cowboy & Cowgirl on”…… See you there!!!!
URL:https://tillamookcoast.com/plan-your-trip/events/event/tillamook-elks-bulls-broncs-after-party/
LOCATION:Oregon
CATEGORIES:Community,Live Music
END:VEVENT
END:VCALENDAR