BEGIN:VCALENDAR
VERSION:2.0
PRODID:-//Tillamook Coast - ECPv6.15.16//NONSGML v1.0//EN
CALSCALE:GREGORIAN
METHOD:PUBLISH
X-WR-CALNAME:Tillamook Coast
X-ORIGINAL-URL:https://tillamookcoast.com
X-WR-CALDESC:Events for Tillamook Coast
REFRESH-INTERVAL;VALUE=DURATION:PT1H
X-Robots-Tag:noindex
X-PUBLISHED-TTL:PT1H
BEGIN:VTIMEZONE
TZID:America/Los_Angeles
BEGIN:DAYLIGHT
TZOFFSETFROM:-0800
TZOFFSETTO:-0700
TZNAME:PDT
DTSTART:20250309T100000
END:DAYLIGHT
BEGIN:STANDARD
TZOFFSETFROM:-0700
TZOFFSETTO:-0800
TZNAME:PST
DTSTART:20251102T090000
END:STANDARD
BEGIN:DAYLIGHT
TZOFFSETFROM:-0800
TZOFFSETTO:-0700
TZNAME:PDT
DTSTART:20260308T100000
END:DAYLIGHT
BEGIN:STANDARD
TZOFFSETFROM:-0700
TZOFFSETTO:-0800
TZNAME:PST
DTSTART:20261101T090000
END:STANDARD
BEGIN:DAYLIGHT
TZOFFSETFROM:-0800
TZOFFSETTO:-0700
TZNAME:PDT
DTSTART:20270314T100000
END:DAYLIGHT
BEGIN:STANDARD
TZOFFSETFROM:-0700
TZOFFSETTO:-0800
TZNAME:PST
DTSTART:20271107T090000
END:STANDARD
END:VTIMEZONE
BEGIN:VEVENT
DTSTART;TZID=America/Los_Angeles:20260308T090000
DTEND;TZID=America/Los_Angeles:20260308T150000
DTSTAMP:20260420T195125
CREATED:20260221T183706Z
LAST-MODIFIED:20260308T230115Z
UID:10009296-1772960400-1772982000@tillamookcoast.com
SUMMARY:Nehalem Estuary Cleanup – 14th Biennial
DESCRIPTION:‘Tis the season of waterproof pants! Grab your family\, your friends\, and prepare to get muddy at the 14th Biennial Nehalem Estuary Cleanup! Register to join one of ten Zone teams in a community-wide effort to collect marine debris from Nehalem Bay. \nWhether you’re a regular rugged explorer or will have kids in tow\, there is a Zone with terrain for most! Zone Leaders will meet you out in the estuary at 9AM on Sunday\, March 8th\, to guide you through a section of the Bay’s edge before returning to Wheeler for a volunteer celebration you won’t want to miss. \nLearn more & register here: https://www.nehalemtrust.org/cleanup/
URL:https://tillamookcoast.com/plan-your-trip/events/event/nehalem-estuary-cleanup-14th-biennial/
LOCATION:Oregon
CATEGORIES:Community,Family Fun,Outdoor
ATTACH;FMTTYPE=image/jpeg:https://tillamookcoast.com/wp-content/uploads/2026/02/Official-14-TH-Estuary-Cleanup-Poster-AJUlua.jpg
END:VEVENT
BEGIN:VEVENT
DTSTART;TZID=America/Los_Angeles:20260308T100000
DTEND;TZID=America/Los_Angeles:20260308T130000
DTSTAMP:20260420T195125
CREATED:20260107T174350Z
LAST-MODIFIED:20260308T180114Z
UID:10008945-1772964000-1772974800@tillamookcoast.com
SUMMARY:LIFE DRAWING GROUP
DESCRIPTION:Weekly life drawing session with live model.\nModel fee collected from each participant. For address and more information call Judy: 503-368-7868\, sorrel@nehalemtel.net\,
URL:https://tillamookcoast.com/plan-your-trip/events/event/life-drawing-group/
LOCATION:Nehalem\, Nehalem\, OR\, United States
CATEGORIES:Arts
GEO:45.651933;-123.853529
END:VEVENT
END:VCALENDAR