BEGIN:VCALENDAR
VERSION:2.0
PRODID:-//Tillamook Coast - ECPv6.15.16//NONSGML v1.0//EN
CALSCALE:GREGORIAN
METHOD:PUBLISH
X-WR-CALNAME:Tillamook Coast
X-ORIGINAL-URL:https://tillamookcoast.com
X-WR-CALDESC:Events for Tillamook Coast
REFRESH-INTERVAL;VALUE=DURATION:PT1H
X-Robots-Tag:noindex
X-PUBLISHED-TTL:PT1H
BEGIN:VTIMEZONE
TZID:America/Los_Angeles
BEGIN:DAYLIGHT
TZOFFSETFROM:-0800
TZOFFSETTO:-0700
TZNAME:PDT
DTSTART:20250309T100000
END:DAYLIGHT
BEGIN:STANDARD
TZOFFSETFROM:-0700
TZOFFSETTO:-0800
TZNAME:PST
DTSTART:20251102T090000
END:STANDARD
BEGIN:DAYLIGHT
TZOFFSETFROM:-0800
TZOFFSETTO:-0700
TZNAME:PDT
DTSTART:20260308T100000
END:DAYLIGHT
BEGIN:STANDARD
TZOFFSETFROM:-0700
TZOFFSETTO:-0800
TZNAME:PST
DTSTART:20261101T090000
END:STANDARD
BEGIN:DAYLIGHT
TZOFFSETFROM:-0800
TZOFFSETTO:-0700
TZNAME:PDT
DTSTART:20270314T100000
END:DAYLIGHT
BEGIN:STANDARD
TZOFFSETFROM:-0700
TZOFFSETTO:-0800
TZNAME:PST
DTSTART:20271107T090000
END:STANDARD
END:VTIMEZONE
BEGIN:VEVENT
DTSTART;TZID=America/Los_Angeles:20260313T090000
DTEND;TZID=America/Los_Angeles:20260313T100000
DTSTAMP:20260420T212740
CREATED:20251215T154542Z
LAST-MODIFIED:20260313T083659Z
UID:10008743-1773392400-1773396000@tillamookcoast.com
SUMMARY:Yoga With Dawn
DESCRIPTION:🧘‍♀️ Yoga with Dawn – Find Your Flow! 🧘‍♂️ \nStart your day with peace\, strength\, and positive energy 🌞Join Dawn for a refreshing yoga class every: \n🗓️ Monday\, Wednesday\, Friday & Saturday🕘 9:00 AM – 10:00 AM📍 Kiawanda Community Center \nAll levels are welcome—whether you’re new to yoga or a seasoned pro\, Dawn’s calm guidance and supportive atmosphere will leave you feeling refreshed and centered. \n✨ Bring a mat\, some water\, and a smile.No registration needed—just drop in and breathe it out with us! \n#YogaWithDawn #KiawandaCommunityCenter #MorningYoga #WellnessInPacificCity #MindBodySoul
URL:https://tillamookcoast.com/plan-your-trip/events/event/yoga-with-dawn-130/
LOCATION:Kiawanda Community Center\, 34600 Cape Kiwanda Dr\, Pacific City\, OR 97135\, OR\, United States
CATEGORIES:Classes and Workshops,Community
ATTACH;FMTTYPE=image/jpeg:https://tillamookcoast.com/wp-content/uploads/2025/07/yoga-oRzciY.jpg
GEO:45.2048476;-123.9670463
X-APPLE-STRUCTURED-LOCATION;VALUE=URI;X-ADDRESS=Kiawanda Community Center 34600 Cape Kiwanda Dr Pacific City OR 97135 OR United States;X-APPLE-RADIUS=500;X-TITLE=34600 Cape Kiwanda Dr\, Pacific City\, OR 97135:geo:-123.9670463,45.2048476
END:VEVENT
BEGIN:VEVENT
DTSTART;TZID=America/Los_Angeles:20260313T100000
DTEND;TZID=America/Los_Angeles:20260313T110000
DTSTAMP:20260420T212740
CREATED:20251215T154542Z
LAST-MODIFIED:20260313T083700Z
UID:10008744-1773396000-1773399600@tillamookcoast.com
SUMMARY:Tillamook Main Library Storytime: Mother Goose on the Loose
DESCRIPTION:Mother Goose on the Loose (MGOL) on Fri @ 10am; developmentally appropriate for birth to 24mos; rhythm\, rhymes\, instruments\, scarves and puppets! There is no expectation that your children will sit still or be quiet. It’s not developmentally appropriate to ask them to.
URL:https://tillamookcoast.com/plan-your-trip/events/event/tillamook-main-library-storytime-mother-goose-on-the-loose-34/
LOCATION:Tillamook Main Library\, Tillamook\, 1716 3rd St\, Tillamook\, OR\, 97141\, United States
CATEGORIES:Education,Family Fun
ATTACH;FMTTYPE=image/png:https://tillamookcoast.com/wp-content/uploads/2023/01/TCL-transparent-logo-1-MLNzaD.tmp_.png
ORGANIZER;CN="Melanie Hetrick":MAILTO:mhetrick@co.tillamook.or.us
GEO:45.4566251;-123.846324
X-APPLE-STRUCTURED-LOCATION;VALUE=URI;X-ADDRESS=Tillamook Main Library Tillamook 1716 3rd St Tillamook OR 97141 United States;X-APPLE-RADIUS=500;X-TITLE=1716 3rd St:geo:-123.846324,45.4566251
END:VEVENT
BEGIN:VEVENT
DTSTART;TZID=America/Los_Angeles:20260313T100000
DTEND;TZID=America/Los_Angeles:20260313T110000
DTSTAMP:20260420T212740
CREATED:20251215T154542Z
LAST-MODIFIED:20260313T083830Z
UID:10008745-1773396000-1773399600@tillamookcoast.com
SUMMARY:Walking Wonders
DESCRIPTION:Join this active group rain or shine to get your steps in and around town.
URL:https://tillamookcoast.com/plan-your-trip/events/event/walking-wonders-98/
LOCATION:Kiawanda Community Center\, 34600 Cape Kiwanda Dr\, Pacific City\, OR 97135\, OR\, United States
CATEGORIES:Fitness and Athletics
ATTACH;FMTTYPE=image/png:https://tillamookcoast.com/wp-content/uploads/2024/04/Walking-Wonders-Cc3r9X.tmp_.png
GEO:45.2048476;-123.9670463
X-APPLE-STRUCTURED-LOCATION;VALUE=URI;X-ADDRESS=Kiawanda Community Center 34600 Cape Kiwanda Dr Pacific City OR 97135 OR United States;X-APPLE-RADIUS=500;X-TITLE=34600 Cape Kiwanda Dr\, Pacific City\, OR 97135:geo:-123.9670463,45.2048476
END:VEVENT
BEGIN:VEVENT
DTSTART;TZID=America/Los_Angeles:20260313T100000
DTEND;TZID=America/Los_Angeles:20260313T120000
DTSTAMP:20260420T212740
CREATED:20251215T154446Z
LAST-MODIFIED:20260313T083700Z
UID:10008737-1773396000-1773403200@tillamookcoast.com
SUMMARY:Trail Building in Nehalem Bay With LNCT!
DESCRIPTION:Every Friday\, volunteers gather on LNCT lands near Manzanita\, Nehalem and Wheeler to protect and restore habitat in the lower Nehalem watershed. We would love to see new faces out on the land!\n\n\n\nThese work parties are beginner friendly and an opportunity to learn about the engineering of hiking trails. We will be working on uneven ground\, bending\, and moving small rocks and brush during this process. Tools and gloves are provided\, new volunteers welcome and no prior experience needed. Join as frequently as you please.  Email shane@nehalemtrust.org for weekly updates on where to meet.\n\nAlder Creek Farm and Natural Area’s Nehalem Teaching Trail already supports an impressive variety of native plants and simulated ecosystems for community learning—but we’re looking to grow. This short trail will extend educational access into a different ecosystem and connect to the Natural Area’s pollinator meadow. We hope it will also add some variety to habitat access for bird watchers who visit the farm as a part of the Oregon Coast Birding Trail.
URL:https://tillamookcoast.com/plan-your-trip/events/event/trail-building-in-nehalem-bay-with-lnct-30/
LOCATION:Lower Nehalem Community Trust
CATEGORIES:Community,Education,Outdoor
ATTACH;FMTTYPE=image/jpeg:https://tillamookcoast.com/wp-content/uploads/2025/12/LNCT-Stewardship-Poster-4-LH2xa6.jpg
GEO:45.7201074;-123.8940225
END:VEVENT
BEGIN:VEVENT
DTSTART;TZID=America/Los_Angeles:20260313T100000
DTEND;TZID=America/Los_Angeles:20260313T190000
DTSTAMP:20260420T212740
CREATED:20260211T130402Z
LAST-MODIFIED:20260313T083702Z
UID:10009204-1773396000-1773428400@tillamookcoast.com
SUMMARY:ReCurrent’s Store-Wide Clearance Sale
DESCRIPTION:ReCurrent is having a three day store-wide* clearance sale! Located at 2015 2nd Street in Tillamook. \n30% Off Friday March 13th\, 50% Off Saturday March 14th\, 75% Off Sunday March 15th \nKICK-OFF EVENT FRIDAY MARCH 13th 10am \nMimosas\, fresh locally made pastries\, and goodie bags for the first 10 people! Thirty percent off all day! \nSIP + SHOP FRIDAY MARCH 13th 5pm-7pm \nJoin us for happy hour! Get 30% off! \nFIFTY PERCENT OFF ALL DAY SATURDAY MARCH 14th! \nOpen 10am-5pm! Get 50% off! \n7TH BIRTHDAY BASH SUNDAY MARCH 15th 10am-5pm \nClose-out the weekend with cupcakes\, champagne\, and a free gift with every $25 purchase! Get 75% off! \n*excludes purple tags and showcases
URL:https://tillamookcoast.com/plan-your-trip/events/event/recurrents-store-wide-clearance-sale/
LOCATION:Downtown Tillamook\, Tillamook\, OR\, United States
CATEGORIES:Community,Shopping and Sales
ATTACH;FMTTYPE=image/jpeg:https://tillamookcoast.com/wp-content/uploads/2026/02/Copy-of-Copy-of-bag-sale-Postcard-US-1920-x-1080-px-Ni03jq.jpg
GEO:45.489825;-123.958743
END:VEVENT
BEGIN:VEVENT
DTSTART;TZID=America/Los_Angeles:20260313T100000
DTEND;TZID=America/Los_Angeles:20260313T200000
DTSTAMP:20260420T212740
CREATED:20251215T154446Z
LAST-MODIFIED:20260313T083701Z
UID:10008738-1773396000-1773432000@tillamookcoast.com
SUMMARY:All You Can Eat Fish and Chips
DESCRIPTION:Fresh\, local\, fried rockfish served with coleslaw and crispy french fries. Unlimited fish every Friday $18.99
URL:https://tillamookcoast.com/plan-your-trip/events/event/all-you-can-eat-fish-and-chips-20/
LOCATION:Fish Peddler at Pacific Oyster\, 5150 Hayes Oyster Dr
CATEGORIES:Community
END:VEVENT
BEGIN:VEVENT
DTSTART;TZID=America/Los_Angeles:20260313T110000
DTEND;TZID=America/Los_Angeles:20260313T120000
DTSTAMP:20260420T212740
CREATED:20251215T154446Z
LAST-MODIFIED:20260313T083702Z
UID:10008739-1773399600-1773403200@tillamookcoast.com
SUMMARY:Storytime at Garibaldi Library
DESCRIPTION:Kids of all ages are welcome to the Garibaldi Library for storytime\, Fridays at 11:00am.
URL:https://tillamookcoast.com/plan-your-trip/events/event/storytime-at-garibaldi-library-47/
LOCATION:Garibaldi Library\, 107 6th St\, Garibaldi OR
CATEGORIES:Community,Family Fun
ATTACH;FMTTYPE=image/png:https://tillamookcoast.com/wp-content/uploads/2025/06/Garibaldi-Story-Time-flyer-NiDhO7.png
GEO:40.4437739;-80.0023533
X-APPLE-STRUCTURED-LOCATION;VALUE=URI;X-ADDRESS=Garibaldi Library 107 6th St Garibaldi OR;X-APPLE-RADIUS=500;X-TITLE=107 6th St\, Garibaldi OR:geo:-80.0023533,40.4437739
END:VEVENT
BEGIN:VEVENT
DTSTART;TZID=America/Los_Angeles:20260313T120000
DTEND;TZID=America/Los_Angeles:20260313T190000
DTSTAMP:20260420T212740
CREATED:20260113T164921Z
LAST-MODIFIED:20260313T083703Z
UID:10008978-1773403200-1773428400@tillamookcoast.com
SUMMARY:Spring Bazaar
DESCRIPTION:Please join us at the Annual Spring Bazaar\, taking place at the Tillamook County Fairgrounds on March 13th and 14th\, 2026. The event hours are from 12:00 p.m. to 7:00 p.m. on Friday and from 10:00 a.m. to 5:00 p.m. on Saturday. Attendees can explore a diverse selection of vendors and enjoy lunch options on-site.
URL:https://tillamookcoast.com/plan-your-trip/events/event/spring-bazaar/
LOCATION:Tillamook County Fairgrounds\, 4603 3rd St\, Tillamook\, OR\, 97141\, United States
CATEGORIES:Community,Shopping and Sales
ATTACH;FMTTYPE=image/jpeg:https://tillamookcoast.com/wp-content/uploads/2026/01/Spring-Bazaar-Flyer-ry1JsJ.jpg
GEO:45.4566806;-123.8073604
X-APPLE-STRUCTURED-LOCATION;VALUE=URI;X-ADDRESS=Tillamook County Fairgrounds 4603 3rd St Tillamook OR 97141 United States;X-APPLE-RADIUS=500;X-TITLE=4603 3rd St:geo:-123.8073604,45.4566806
END:VEVENT
BEGIN:VEVENT
DTSTART;TZID=America/Los_Angeles:20260313T160000
DTEND;TZID=America/Los_Angeles:20260313T170000
DTSTAMP:20260420T212740
CREATED:20260309T232325Z
LAST-MODIFIED:20260313T083703Z
UID:10009430-1773417600-1773421200@tillamookcoast.com
SUMMARY:Miniatures Workshops at Tillamook Library
DESCRIPTION:Create miniatures with expert Laura in a variety of themes and media! \nFriday March 13th: Spring \nFriday March 20th: Felt \nFriday March 27th: Fairies
URL:https://tillamookcoast.com/plan-your-trip/events/event/miniatures-workshops-at-tillamook-library/
LOCATION:Tillamook County Library\, 1716 3rd Street Tillamook Oregon 97141
CATEGORIES:Classes and Workshops,Community
GEO:45.4566251;-123.846324
X-APPLE-STRUCTURED-LOCATION;VALUE=URI;X-ADDRESS=Tillamook County Library 1716 3rd Street Tillamook Oregon 97141;X-APPLE-RADIUS=500;X-TITLE=1716 3rd Street Tillamook Oregon 97141:geo:-123.846324,45.4566251
END:VEVENT
BEGIN:VEVENT
DTSTART;TZID=America/Los_Angeles:20260313T170000
DTEND;TZID=America/Los_Angeles:20260313T190000
DTSTAMP:20260420T212740
CREATED:20260228T202312Z
LAST-MODIFIED:20260313T083703Z
UID:10009362-1773421200-1773428400@tillamookcoast.com
SUMMARY:March Sip + Shop
DESCRIPTION:
URL:https://tillamookcoast.com/plan-your-trip/events/event/march-sip-shop/
LOCATION:Oregon
CATEGORIES:Community,Shopping and Sales
END:VEVENT
BEGIN:VEVENT
DTSTART;TZID=America/Los_Angeles:20260313T180000
DTEND;TZID=America/Los_Angeles:20260313T200000
DTSTAMP:20260420T212740
CREATED:20260113T170731Z
LAST-MODIFIED:20260313T190703Z
UID:10008984-1773424800-1773432000@tillamookcoast.com
SUMMARY:DANCE: Spirit Dance 2.0
DESCRIPTION:Join us for our weekly free-form dance celebration. Music by DJ Pranawave. 6pm warm-up and stretch. 6:15 Circle opens and dance begins. 8pm finish. Suggested donation\, $10. Free for kids!
URL:https://tillamookcoast.com/plan-your-trip/events/event/dance-spirit-dance-2-0-35/
LOCATION:Pine Grove Community Club\, 225 Laneda Ave\, Manzanita\, OR\, United States
CATEGORIES:Arts
GEO:45.718587;-123.936947
X-APPLE-STRUCTURED-LOCATION;VALUE=URI;X-ADDRESS=Pine Grove Community Club 225 Laneda Ave Manzanita OR United States;X-APPLE-RADIUS=500;X-TITLE=225 Laneda Ave:geo:-123.936947,45.718587
END:VEVENT
BEGIN:VEVENT
DTSTART;TZID=America/Los_Angeles:20260313T180000
DTEND;TZID=America/Los_Angeles:20260313T200000
DTSTAMP:20260420T212740
CREATED:20260113T170731Z
LAST-MODIFIED:20260313T190703Z
UID:10008985-1773424800-1773432000@tillamookcoast.com
SUMMARY:EVENT: Garibaldi Jam
DESCRIPTION:The Jam plays mostly old-time favorites and Country-Western standards using their complete sound system\, with the audience “cutting a rug” on the large dance floor while others sit and enjoy\, toes a-tapping.\nNo admission fee is charged\, but donations are always welcome. Come join them for an evening of fun – they always welcome good musicians.\nLocation: Garibaldi Community Hall\, 6th St. and Acacia Ave.\nDate(s): Most Fridays\nTime: 6 pm to 8 pm\nAdmission: By donation\nFor more information contact Bud & Elsie Massey at 503-801-0953
URL:https://tillamookcoast.com/plan-your-trip/events/event/event-garibaldi-jam-35/
LOCATION:Garibaldi Community Hall\, Garibaldi\, OR\, United States
CATEGORIES:Arts
GEO:45.558563;-123.921656
END:VEVENT
BEGIN:VEVENT
DTSTART;TZID=America/Los_Angeles:20260313T190000
DTEND;TZID=America/Los_Angeles:20260313T210000
DTSTAMP:20260420T212740
CREATED:20251215T154446Z
LAST-MODIFIED:20260313T083704Z
UID:10008740-1773428400-1773435600@tillamookcoast.com
SUMMARY:Artist/Music Showcase
DESCRIPTION:Local and visiting musicans perform a free concert at the Tillamook Fairview Grange\, featuring Eric Sappington and other musicans and artists monthly. Relax and take in music in one of the best local performance halls.
URL:https://tillamookcoast.com/plan-your-trip/events/event/artist-music-showcase-8/
LOCATION:Tillamook Fairview Grange\, 5620 E. 3rd Street\, Tillamook\, OR 97141\, OR
CATEGORIES:Community,Live Music
ATTACH;FMTTYPE=image/jpeg:https://tillamookcoast.com/wp-content/uploads/2022/01/eric-at-grange-sP1DzR.tmp_.jpg
ORGANIZER;CN="Tillamook Fairview Grange":MAILTO:mary.mcginnis05@gmail.com
GEO:45.4982764;-123.9598036
X-APPLE-STRUCTURED-LOCATION;VALUE=URI;X-ADDRESS=Tillamook Fairview Grange 5620 E. 3rd Street Tillamook OR 97141 OR;X-APPLE-RADIUS=500;X-TITLE=5620 E. 3rd Street\, Tillamook\, OR 97141:geo:-123.9598036,45.4982764
END:VEVENT
BEGIN:VEVENT
DTSTART;TZID=America/Los_Angeles:20260313T190000
DTEND;TZID=America/Los_Angeles:20260313T210000
DTSTAMP:20260420T212740
CREATED:20260224T192251Z
LAST-MODIFIED:20260313T083705Z
UID:10009321-1773428400-1773435600@tillamookcoast.com
SUMMARY:Barbecuing Hamlet
DESCRIPTION:Barbecuing Hamlet is a comedic play that centers around a small-town community theater group attempting to stage Shakespeare’s Hamlet. Chaos ensues when the group hires a director from NY (Buffalo) who tries to modernize the classic with wild changes…including a community theater set in an old funeral home. The quirky cast\, full of eccentric local actors\, struggles with the language\, staging\, and each other. As rehearsals spiral out of control\, personal dramas and misunderstandings threaten to derail the production. Ultimately\, the play is a hilarious look at artistic ambition clashing with small-town charm. \nBarbecuing Hamlet opens March 13 and runs through March 29. Friday and Saturday shows start at 7:00 pm\, Sunday shows start at 2:00 pm. Tickets are available at: https://tillamooktheater.ludus.com/index.php?sections=events
URL:https://tillamookcoast.com/plan-your-trip/events/event/barbecuing-hamlet/
LOCATION:The Barn Community Playhouse\, 1204 Ivy Ave
CATEGORIES:Community,Theater
ATTACH;FMTTYPE=image/png:https://tillamookcoast.com/wp-content/uploads/2026/02/TAPA-Event-Cover-image-1-scaled-SKN0OQ-scaled.png
END:VEVENT
END:VCALENDAR