BEGIN:VCALENDAR
VERSION:2.0
PRODID:-//Tillamook Coast - ECPv6.15.16//NONSGML v1.0//EN
CALSCALE:GREGORIAN
METHOD:PUBLISH
X-WR-CALNAME:Tillamook Coast
X-ORIGINAL-URL:https://tillamookcoast.com
X-WR-CALDESC:Events for Tillamook Coast
REFRESH-INTERVAL;VALUE=DURATION:PT1H
X-Robots-Tag:noindex
X-PUBLISHED-TTL:PT1H
BEGIN:VTIMEZONE
TZID:America/Los_Angeles
BEGIN:DAYLIGHT
TZOFFSETFROM:-0800
TZOFFSETTO:-0700
TZNAME:PDT
DTSTART:20250309T100000
END:DAYLIGHT
BEGIN:STANDARD
TZOFFSETFROM:-0700
TZOFFSETTO:-0800
TZNAME:PST
DTSTART:20251102T090000
END:STANDARD
BEGIN:DAYLIGHT
TZOFFSETFROM:-0800
TZOFFSETTO:-0700
TZNAME:PDT
DTSTART:20260308T100000
END:DAYLIGHT
BEGIN:STANDARD
TZOFFSETFROM:-0700
TZOFFSETTO:-0800
TZNAME:PST
DTSTART:20261101T090000
END:STANDARD
BEGIN:DAYLIGHT
TZOFFSETFROM:-0800
TZOFFSETTO:-0700
TZNAME:PDT
DTSTART:20270314T100000
END:DAYLIGHT
BEGIN:STANDARD
TZOFFSETFROM:-0700
TZOFFSETTO:-0800
TZNAME:PST
DTSTART:20271107T090000
END:STANDARD
END:VTIMEZONE
BEGIN:VEVENT
DTSTART;TZID=America/Los_Angeles:20260318T000000
DTEND;TZID=America/Los_Angeles:20260318T233000
DTSTAMP:20260420T195017
CREATED:20260318T114847Z
LAST-MODIFIED:20260318T114847Z
UID:10009506-1773792000-1773876600@tillamookcoast.com
SUMMARY:CALL FOR ART- CALLING NORTH COAST ARTISTS!
DESCRIPTION:Blue Water Fine Art Gallery is now accepting submissions for May Flowers\, our first community exhibition celebrating the colors and renewal of spring along the Oregon Coast. \nArtists may submit up to three original artworks inspired by the May Flowers theme. \nSubmission Deadline: April 21\, 2026 \nThe exhibition runs May 8 – June 6\, with a Community Reception on May 9\, 5–7 PM — free and open to all. \nSubmit your work and help us welcome spring with creativity and community. \nFull details and guidelines on website: \nBlueWaterFineArtGallery.com \nStay connected with upcoming exhibitions and artist calls — sign up for our newsletter at BlueWaterFineArtGallery.com
URL:https://tillamookcoast.com/plan-your-trip/events/event/call-for-art-calling-north-coast-artists/
LOCATION:Blue Water Fine Art Gallery\, 119 S Miller St.\, Rockaway Beach\, OR 97136
CATEGORIES:Arts and Culture,Community
ATTACH;FMTTYPE=image/png:https://tillamookcoast.com/wp-content/uploads/2026/03/Call-FOR-ART-PURPLE-oQ7D6z.png
END:VEVENT
BEGIN:VEVENT
DTSTART;TZID=America/Los_Angeles:20260318T100000
DTEND;TZID=America/Los_Angeles:20260318T110000
DTSTAMP:20260420T195017
CREATED:20251218T180126Z
LAST-MODIFIED:20260318T114858Z
UID:10008765-1773828000-1773831600@tillamookcoast.com
SUMMARY:Tillamook Main Library Storytime: Preschool
DESCRIPTION:Preschool storytime (PS) on Wed @ 10; developmentally appropriate for 3-5 yos; music\, stories\, interactive play and lots of laughs! In this class little begin to learn about a leader at the front of the room\, how to hold their wiggles\, listening and sitting still. When a child is transitioning from TT to PS my expectation is that they will sit for 5-10 minutes and then they might go play. I do not force them to sit still if they are not ready to. \nA couple of things about the children’s room that might set you at ease: \n\nThere is no expectation that it will be a quiet zone; kids are kids and they are allowed to act like themselves in the children’s room.\nOnly 2 hard and fast rules: No Running & No Screaming.\nIf your child needs a snack\, feed them!
URL:https://tillamookcoast.com/plan-your-trip/events/event/tillamook-main-library-storytime-preschool-34/
LOCATION:Tillamook Main Library\, Tillamook\, 1716 3rd St\, Tillamook\, OR\, 97141\, United States
CATEGORIES:Education,Family Fun
ATTACH;FMTTYPE=image/png:https://tillamookcoast.com/wp-content/uploads/2023/01/TCL-transparent-logo-9SAvyC.tmp_.png
ORGANIZER;CN="Melanie Hetrick":MAILTO:mhetrick@co.tillamook.or.us
GEO:45.4566251;-123.846324
X-APPLE-STRUCTURED-LOCATION;VALUE=URI;X-ADDRESS=Tillamook Main Library Tillamook 1716 3rd St Tillamook OR 97141 United States;X-APPLE-RADIUS=500;X-TITLE=1716 3rd St:geo:-123.846324,45.4566251
END:VEVENT
BEGIN:VEVENT
DTSTART;TZID=America/Los_Angeles:20260318T100000
DTEND;TZID=America/Los_Angeles:20260318T110000
DTSTAMP:20260420T195017
CREATED:20251218T180319Z
LAST-MODIFIED:20260318T114858Z
UID:10008769-1773828000-1773831600@tillamookcoast.com
SUMMARY:Walking Wonders
DESCRIPTION:Join this active group rain or shine to get your steps in and around town.
URL:https://tillamookcoast.com/plan-your-trip/events/event/walking-wonders-100/
LOCATION:Kiawanda Community Center\, 34600 Cape Kiwanda Dr\, Pacific City\, OR 97135\, OR\, United States
CATEGORIES:Fitness and Athletics
ATTACH;FMTTYPE=image/png:https://tillamookcoast.com/wp-content/uploads/2024/04/Walking-Wonders-Cc3r9X.tmp_.png
GEO:45.2048476;-123.9670463
X-APPLE-STRUCTURED-LOCATION;VALUE=URI;X-ADDRESS=Kiawanda Community Center 34600 Cape Kiwanda Dr Pacific City OR 97135 OR United States;X-APPLE-RADIUS=500;X-TITLE=34600 Cape Kiwanda Dr\, Pacific City\, OR 97135:geo:-123.9670463,45.2048476
END:VEVENT
BEGIN:VEVENT
DTSTART;TZID=America/Los_Angeles:20260318T103000
DTEND;TZID=America/Los_Angeles:20260318T113000
DTSTAMP:20260420T195017
CREATED:20251218T180126Z
LAST-MODIFIED:20260318T114859Z
UID:10008766-1773829800-1773833400@tillamookcoast.com
SUMMARY:Book Babies Storytime at Manzanita Library
DESCRIPTION:Stories and activities for the smallest patrons every 3rd Wednesday at 10:30 am!
URL:https://tillamookcoast.com/plan-your-trip/events/event/book-babies-storytime-at-manzanita-library-6/
LOCATION:Manzanita Library\, 571 Laneda Ave Manzanita OR
CATEGORIES:Community,Family Fun
ATTACH;FMTTYPE=image/png:https://tillamookcoast.com/wp-content/uploads/2025/09/Book-Babies-storytime-TZ-XiR6zM.png
GEO:45.7194514;-123.9317481
X-APPLE-STRUCTURED-LOCATION;VALUE=URI;X-ADDRESS=Manzanita Library 571 Laneda Ave Manzanita OR;X-APPLE-RADIUS=500;X-TITLE=571 Laneda Ave Manzanita OR:geo:-123.9317481,45.7194514
END:VEVENT
BEGIN:VEVENT
DTSTART;TZID=America/Los_Angeles:20260318T113000
DTEND;TZID=America/Los_Angeles:20260318T123000
DTSTAMP:20260420T195017
CREATED:20251231T191523Z
LAST-MODIFIED:20260318T115032Z
UID:10008877-1773833400-1773837000@tillamookcoast.com
SUMMARY:Senior Meals Tuesday & Wednesday
DESCRIPTION:🍽️ Senior Meals at the Kiawanda Community Center 🍽️ \nJoin us every Tuesday and Wednesday at 11:30 AM for delicious\, nutritious senior meals at the Kiawanda Community Center!\nCome enjoy great food and even better company in a warm and welcoming atmosphere. \n✨ Who: Seniors & community members\n📍 Where: Kiawanda Community Center\n📅 When: Every Tuesday & Wednesday\n⏰ Time: 11:30 AM \nBring a friend\, make new ones\, and enjoy a healthy midday meal! ❤️ \nFor more information\, call the Kiawanda Community Center.
URL:https://tillamookcoast.com/plan-your-trip/events/event/senior-meals-tuesday-wednesday-23/
LOCATION:Kiawanda Community Center\, 34600 Cape Kiwanda Dr\, Pacific City\, OR 97135\, OR\, United States
CATEGORIES:Community
ATTACH;FMTTYPE=image/png:https://tillamookcoast.com/wp-content/uploads/2025/12/Brown-Orange-Modern-Food-Price-Instagram-Post-Invitation-portrait-a9KvXm.png
GEO:45.2048476;-123.9670463
X-APPLE-STRUCTURED-LOCATION;VALUE=URI;X-ADDRESS=Kiawanda Community Center 34600 Cape Kiwanda Dr Pacific City OR 97135 OR United States;X-APPLE-RADIUS=500;X-TITLE=34600 Cape Kiwanda Dr\, Pacific City\, OR 97135:geo:-123.9670463,45.2048476
END:VEVENT
BEGIN:VEVENT
DTSTART;TZID=America/Los_Angeles:20260318T133000
DTEND;TZID=America/Los_Angeles:20260318T150000
DTSTAMP:20260420T195017
CREATED:20251218T180126Z
LAST-MODIFIED:20260318T114859Z
UID:10008767-1773840600-1773846000@tillamookcoast.com
SUMMARY:American Legion Tillamook Post 47
DESCRIPTION:Monthly meetings will be the third Wednesday of each month at 1:30 pm at the Tillamook Eagles Lodge.  All active duty honorably discharged veterans of all branches including the Coast Guard are eligible to join and help us grow this 103 year old American Legion post.  Next year we are launching to programs for our County youth: \nhttps://orlegion.org/programs/law-enforcement-career-camp/ \nhttps://www.legion.org/shooting
URL:https://tillamookcoast.com/plan-your-trip/events/event/american-legion-tillamook-post-47-8/
LOCATION:Tillamook Eagles Lodge\, 209 Stillwell Ave.
CATEGORIES:Business
ATTACH;FMTTYPE=image/jpeg:https://tillamookcoast.com/wp-content/uploads/2023/10/IMG_1308-PSi58X.tmp_.jpg
ORGANIZER;CN="Larry Emery Post Adjutant":MAILTO:larry@tillamookpost47.com
END:VEVENT
BEGIN:VEVENT
DTSTART;TZID=America/Los_Angeles:20260318T161500
DTEND;TZID=America/Los_Angeles:20260318T171500
DTSTAMP:20260420T195017
CREATED:20251218T180126Z
LAST-MODIFIED:20260318T114900Z
UID:10008768-1773850500-1773854100@tillamookcoast.com
SUMMARY:Teen Craft & Chat at Garibaldi Library
DESCRIPTION:Drop in crafting and social time for teens!
URL:https://tillamookcoast.com/plan-your-trip/events/event/teen-craft-chat-at-garibaldi-library-9/
LOCATION:Garibaldi Library\, 107 6th St\, Garibaldi OR
CATEGORIES:Community
ATTACH;FMTTYPE=image/png:https://tillamookcoast.com/wp-content/uploads/2025/03/Teen-Craft-Chat-8IMqYQ.tmp_.png
GEO:40.4437739;-80.0023533
X-APPLE-STRUCTURED-LOCATION;VALUE=URI;X-ADDRESS=Garibaldi Library 107 6th St Garibaldi OR;X-APPLE-RADIUS=500;X-TITLE=107 6th St\, Garibaldi OR:geo:-80.0023533,40.4437739
END:VEVENT
BEGIN:VEVENT
DTSTART;TZID=America/Los_Angeles:20260318T180000
DTEND;TZID=America/Los_Angeles:20260318T180000
DTSTAMP:20260420T195017
CREATED:20260309T232342Z
LAST-MODIFIED:20260318T114900Z
UID:10009432-1773856800-1773856800@tillamookcoast.com
SUMMARY:March Movies at Main: Women in Crime
DESCRIPTION:Movies aimed at adults but OK for most ages\, snacks provided! \n3/4 Chicago (2002) \n3/11 Baby Face (1933) \n3/18 Arsenic and Old Lace (1944) \n3/25 What Ever Happened To Baby Jane? (1962)
URL:https://tillamookcoast.com/plan-your-trip/events/event/march-movies-at-main-women-in-crime-2/
LOCATION:Tillamook County Library\, 1716 3rd Street Tillamook Oregon 97141
CATEGORIES:Community
ATTACH;FMTTYPE=image/png:https://tillamookcoast.com/wp-content/uploads/2026/03/Women-in-Crime-Movies-TM-Dm4Nr5.png
GEO:45.4566251;-123.846324
X-APPLE-STRUCTURED-LOCATION;VALUE=URI;X-ADDRESS=Tillamook County Library 1716 3rd Street Tillamook Oregon 97141;X-APPLE-RADIUS=500;X-TITLE=1716 3rd Street Tillamook Oregon 97141:geo:-123.846324,45.4566251
END:VEVENT
BEGIN:VEVENT
DTSTART;TZID=America/Los_Angeles:20260318T180000
DTEND;TZID=America/Los_Angeles:20260318T193000
DTSTAMP:20260420T195017
CREATED:20260119T231029Z
LAST-MODIFIED:20260318T211850Z
UID:10009032-1773856800-1773862200@tillamookcoast.com
SUMMARY:SQUARE DANCE LESSONS
DESCRIPTION:Square Dance Lessons every Wednesday at 6pm. Learn modern Square Dancing with the Wave Steppers of Tillamook Bay. Children 9 and older welcome with an adult. For more information\, call Barb (503) 812-4126\, or Carolyn (503) 801-4044. FREE!
URL:https://tillamookcoast.com/plan-your-trip/events/event/square-dance-lessons-36/
LOCATION:Elks Lodge\, 1907 3rd St\, Tillamook\, OR\, United States
CATEGORIES:Arts
GEO:45.456251;-123.844973
X-APPLE-STRUCTURED-LOCATION;VALUE=URI;X-ADDRESS=Elks Lodge 1907 3rd St Tillamook OR United States;X-APPLE-RADIUS=500;X-TITLE=1907 3rd St:geo:-123.844973,45.456251
END:VEVENT
BEGIN:VEVENT
DTSTART;TZID=America/Los_Angeles:20260318T183000
DTEND;TZID=America/Los_Angeles:20260318T193000
DTSTAMP:20260420T195017
CREATED:20260306T222124Z
LAST-MODIFIED:20260318T114901Z
UID:10009396-1773858600-1773862200@tillamookcoast.com
SUMMARY:Turning the Tide in Oregon’s Blue Ecosystems: Seaweeds & Green Crabs
DESCRIPTION:Join Friends of Netarts Bay – WEBS on Wednesday\, March 18th\, 6:30-7:30 for the second webinar presentation in our 2026 “Producers of the Bay” series! \nOregon’s coastal blue ecosystems are dynamic\, productive\, and increasingly shaped by climate change and invasive species. This webinar explores the ecological roles of seaweeds and invasive green crabs\, and how science-informed\, ancestral stewardship and harvesting practices can contribute to ecosystem resilience. Drawing from marine ecology\, the Indigenous 13 Moons seasonal framework\, and Asian coastal food traditions\, the session connects ecosystem literacy with culinary nourishment. \nDr. Siew Sun Wong from OSU’s School of Nutrition and Public Health and Dr. Samuel Chan from OSU’s Department of Fisheries\, Wildlife\, and Conservation Sciences will share their insights into Oregon’s nearshore systems and how thoughtful harvesting and cooking can transform ecological challenges into opportunities for stewardship and sustainability—while also creating meaningful and nourishing meals. \nSeaweed samples will be available at the WEBS office for pick-up to enjoy during the presentation. Details will be sent to all registrants. \nVisit https://www.netartsbaywebs.org/events to learn more and register. \nQuestions or Cancellations? Contact info@netartsbaywebs.org  \nConnect with the Friends of Netarts Bay WEBS online!  \nWebsite: www.netartsbaywebs.org  \nSocial Media: @netartsbaywebs
URL:https://tillamookcoast.com/plan-your-trip/events/event/turning-the-tide-in-oregons-blue-ecosystems-seaweeds-green-crabs/
LOCATION:Zoom
CATEGORIES:Community,Education
END:VEVENT
END:VCALENDAR