BEGIN:VCALENDAR
VERSION:2.0
PRODID:-//Tillamook Coast - ECPv6.15.16//NONSGML v1.0//EN
CALSCALE:GREGORIAN
METHOD:PUBLISH
X-WR-CALNAME:Tillamook Coast
X-ORIGINAL-URL:https://tillamookcoast.com
X-WR-CALDESC:Events for Tillamook Coast
REFRESH-INTERVAL;VALUE=DURATION:PT1H
X-Robots-Tag:noindex
X-PUBLISHED-TTL:PT1H
BEGIN:VTIMEZONE
TZID:America/Los_Angeles
BEGIN:DAYLIGHT
TZOFFSETFROM:-0800
TZOFFSETTO:-0700
TZNAME:PDT
DTSTART:20250309T100000
END:DAYLIGHT
BEGIN:STANDARD
TZOFFSETFROM:-0700
TZOFFSETTO:-0800
TZNAME:PST
DTSTART:20251102T090000
END:STANDARD
BEGIN:DAYLIGHT
TZOFFSETFROM:-0800
TZOFFSETTO:-0700
TZNAME:PDT
DTSTART:20260308T100000
END:DAYLIGHT
BEGIN:STANDARD
TZOFFSETFROM:-0700
TZOFFSETTO:-0800
TZNAME:PST
DTSTART:20261101T090000
END:STANDARD
BEGIN:DAYLIGHT
TZOFFSETFROM:-0800
TZOFFSETTO:-0700
TZNAME:PDT
DTSTART:20270314T100000
END:DAYLIGHT
BEGIN:STANDARD
TZOFFSETFROM:-0700
TZOFFSETTO:-0800
TZNAME:PST
DTSTART:20271107T090000
END:STANDARD
END:VTIMEZONE
BEGIN:VEVENT
DTSTART;TZID=America/Los_Angeles:20260319T000000
DTEND;TZID=America/Los_Angeles:20260319T233000
DTSTAMP:20260420T195026
CREATED:20260318T114901Z
LAST-MODIFIED:20260319T120357Z
UID:10009507-1773878400-1773963000@tillamookcoast.com
SUMMARY:CALL FOR ART- CALLING NORTH COAST ARTISTS!
DESCRIPTION:Blue Water Fine Art Gallery is now accepting submissions for May Flowers\, our first community exhibition celebrating the colors and renewal of spring along the Oregon Coast. \nArtists may submit up to three original artworks inspired by the May Flowers theme. \nSubmission Deadline: April 21\, 2026 \nThe exhibition runs May 8 – June 6\, with a Community Reception on May 9\, 5–7 PM — free and open to all. \nSubmit your work and help us welcome spring with creativity and community. \nFull details and guidelines on website: \nBlueWaterFineArtGallery.com \nStay connected with upcoming exhibitions and artist calls — sign up for our newsletter at BlueWaterFineArtGallery.com
URL:https://tillamookcoast.com/plan-your-trip/events/event/call-for-art-calling-north-coast-artists-2/
LOCATION:Blue Water Fine Art Gallery\, 119 S Miller St.\, Rockaway Beach\, OR 97136
CATEGORIES:Arts and Culture,Community
ATTACH;FMTTYPE=image/png:https://tillamookcoast.com/wp-content/uploads/2026/03/Call-FOR-ART-PURPLE-oQ7D6z.png
END:VEVENT
BEGIN:VEVENT
DTSTART;TZID=America/Los_Angeles:20260319T090000
DTEND;TZID=America/Los_Angeles:20260319T100000
DTSTAMP:20260420T195026
CREATED:20251219T181032Z
LAST-MODIFIED:20260319T120536Z
UID:10008778-1773910800-1773914400@tillamookcoast.com
SUMMARY:Yoga With Dawn
DESCRIPTION:🧘‍♀️ Yoga with Dawn – Find Your Flow! 🧘‍♂️ \nStart your day with peace\, strength\, and positive energy 🌞Join Dawn for a refreshing yoga class every: \n🗓️ Monday\, Wednesday\, Friday & Saturday🕘 9:00 AM – 10:00 AM📍 Kiawanda Community Center \nAll levels are welcome—whether you’re new to yoga or a seasoned pro\, Dawn’s calm guidance and supportive atmosphere will leave you feeling refreshed and centered. \n✨ Bring a mat\, some water\, and a smile.No registration needed—just drop in and breathe it out with us! \n#YogaWithDawn #KiawandaCommunityCenter #MorningYoga #WellnessInPacificCity #MindBodySoul
URL:https://tillamookcoast.com/plan-your-trip/events/event/yoga-with-dawn-133/
LOCATION:Kiawanda Community Center\, 34600 Cape Kiwanda Dr\, Pacific City\, OR 97135\, OR\, United States
CATEGORIES:Classes and Workshops,Community
ATTACH;FMTTYPE=image/jpeg:https://tillamookcoast.com/wp-content/uploads/2025/07/yoga-oRzciY.jpg
GEO:45.2048476;-123.9670463
X-APPLE-STRUCTURED-LOCATION;VALUE=URI;X-ADDRESS=Kiawanda Community Center 34600 Cape Kiwanda Dr Pacific City OR 97135 OR United States;X-APPLE-RADIUS=500;X-TITLE=34600 Cape Kiwanda Dr\, Pacific City\, OR 97135:geo:-123.9670463,45.2048476
END:VEVENT
BEGIN:VEVENT
DTSTART;TZID=America/Los_Angeles:20260319T090000
DTEND;TZID=America/Los_Angeles:20260319T100000
DTSTAMP:20260420T195026
CREATED:20251219T181032Z
LAST-MODIFIED:20260319T120357Z
UID:10008777-1773910800-1773914400@tillamookcoast.com
SUMMARY:Fit and Fabulous at the KCC
DESCRIPTION:Come join this group keeping active two days a week. Only $15 for the month!
URL:https://tillamookcoast.com/plan-your-trip/events/event/fit-and-fabulous-at-the-kcc-68/
LOCATION:Kiawanda Community Center\, 34600 Cape Kiwanda Dr\, Pacific City\, OR 97135\, OR\, United States
CATEGORIES:Fitness and Athletics
ATTACH;FMTTYPE=image/png:https://tillamookcoast.com/wp-content/uploads/2024/04/Fit-Fabulous-r9K52w.tmp_.png
GEO:45.2048476;-123.9670463
X-APPLE-STRUCTURED-LOCATION;VALUE=URI;X-ADDRESS=Kiawanda Community Center 34600 Cape Kiwanda Dr Pacific City OR 97135 OR United States;X-APPLE-RADIUS=500;X-TITLE=34600 Cape Kiwanda Dr\, Pacific City\, OR 97135:geo:-123.9670463,45.2048476
END:VEVENT
BEGIN:VEVENT
DTSTART;TZID=America/Los_Angeles:20260319T100000
DTEND;TZID=America/Los_Angeles:20260319T110000
DTSTAMP:20260420T195026
CREATED:20251219T180914Z
LAST-MODIFIED:20260319T120358Z
UID:10008773-1773914400-1773918000@tillamookcoast.com
SUMMARY:Family Storytime at Bay City Library
DESCRIPTION:Bring the whole family down to the Bay City Library for a fun storytime and activity every Thursday at 10am!
URL:https://tillamookcoast.com/plan-your-trip/events/event/family-storytime-at-bay-city-library-32/
LOCATION:Bay City Library\, 5525 B St\, Bay City\, OR
CATEGORIES:Community,Family Fun
ATTACH;FMTTYPE=image/png:https://tillamookcoast.com/wp-content/uploads/2024/12/Bay-City-Storytime1-iSlpg8.tmp_.png
GEO:45.5243851;-123.8908552
X-APPLE-STRUCTURED-LOCATION;VALUE=URI;X-ADDRESS=Bay City Library 5525 B St Bay City OR;X-APPLE-RADIUS=500;X-TITLE=5525 B St\, Bay City\, OR:geo:-123.8908552,45.5243851
END:VEVENT
BEGIN:VEVENT
DTSTART;TZID=America/Los_Angeles:20260319T100000
DTEND;TZID=America/Los_Angeles:20260319T160000
DTSTAMP:20260420T195026
CREATED:20260119T231030Z
LAST-MODIFIED:20260319T213400Z
UID:10009034-1773914400-1773936000@tillamookcoast.com
SUMMARY:CLAY OPEN STUDIO
DESCRIPTION:Clay open studio.  Ages 12 and up.  $2 per hour.  Clay $1 for a two-pound block\, includes tools and firing.   For information contact 503-368-7985\, longboardmenow@nehalemtel.net\, www.hoffmancentermanzanita.org
URL:https://tillamookcoast.com/plan-your-trip/events/event/clay-open-studio-72/
LOCATION:Hoffman Center\, 594 Laneda Avenue in Manzanita\, Laneda Avenue 594\, Manzanita\, Oregon\, 97130\, United States
CATEGORIES:Arts
GEO:45.719044;-123.931327
X-APPLE-STRUCTURED-LOCATION;VALUE=URI;X-ADDRESS=Hoffman Center 594 Laneda Avenue in Manzanita Laneda Avenue 594 Manzanita Oregon 97130 United States;X-APPLE-RADIUS=500;X-TITLE=Laneda Avenue 594:geo:-123.931327,45.719044
END:VEVENT
BEGIN:VEVENT
DTSTART;TZID=America/Los_Angeles:20260319T100000
DTEND;TZID=America/Los_Angeles:20260319T200000
DTSTAMP:20260420T195026
CREATED:20251219T180915Z
LAST-MODIFIED:20260319T120359Z
UID:10008774-1773914400-1773950400@tillamookcoast.com
SUMMARY:All You Can Eat Oysters and Chips
DESCRIPTION:Petite oysters with coleslaw and crispy french fries. Unlimited refills on oysters\, served three ways- deep fried\, grilled\, and sautéed. Every Thursday $18.99
URL:https://tillamookcoast.com/plan-your-trip/events/event/all-you-can-eat-oysters-and-chips-21/
LOCATION:Fish Peddler at Pacific Oyster\, 5150 Hayes Oyster Dr
CATEGORIES:Community
ATTACH;FMTTYPE=image/jpeg:https://tillamookcoast.com/wp-content/uploads/2025/10/IMG_5605-scaled-ARVKXg-scaled.jpg
END:VEVENT
BEGIN:VEVENT
DTSTART;TZID=America/Los_Angeles:20260319T103000
DTEND;TZID=America/Los_Angeles:20260319T113000
DTSTAMP:20260420T195026
CREATED:20251219T180916Z
LAST-MODIFIED:20260319T120359Z
UID:10008775-1773916200-1773919800@tillamookcoast.com
SUMMARY:PreK Storytime at Manzanita Library
DESCRIPTION:Stories and activities for preschoolers at the Manzanita Library every 3rd Thursday at 10:30 am!
URL:https://tillamookcoast.com/plan-your-trip/events/event/prek-storytime-at-manzanita-library-6/
LOCATION:Manzanita Library\, 571 Laneda Ave Manzanita OR
CATEGORIES:Community,Family Fun
ATTACH;FMTTYPE=image/png:https://tillamookcoast.com/wp-content/uploads/2025/09/PreK-Storytime-TZ-ZGwSyA.png
GEO:45.7194514;-123.9317481
X-APPLE-STRUCTURED-LOCATION;VALUE=URI;X-ADDRESS=Manzanita Library 571 Laneda Ave Manzanita OR;X-APPLE-RADIUS=500;X-TITLE=571 Laneda Ave Manzanita OR:geo:-123.9317481,45.7194514
END:VEVENT
BEGIN:VEVENT
DTSTART;TZID=America/Los_Angeles:20260319T103000
DTEND;TZID=America/Los_Angeles:20260319T113000
DTSTAMP:20260420T195026
CREATED:20251219T181033Z
LAST-MODIFIED:20260319T120536Z
UID:10008779-1773916200-1773919800@tillamookcoast.com
SUMMARY:Tai Chi at the KCC
DESCRIPTION:Come to this weekly class in Pacific City to learn the forms in this moving meditation. Feel your life force flowing through you and get energized for you day!
URL:https://tillamookcoast.com/plan-your-trip/events/event/tai-chi-at-the-kcc-34/
LOCATION:Kiawanda Community Center\, 34600 Cape Kiwanda Dr\, Pacific City\, OR 97135\, OR\, United States
CATEGORIES:Fitness and Athletics
ATTACH;FMTTYPE=image/png:https://tillamookcoast.com/wp-content/uploads/2024/04/Tai-Chi-WPb6NC.tmp_.png
GEO:45.2048476;-123.9670463
X-APPLE-STRUCTURED-LOCATION;VALUE=URI;X-ADDRESS=Kiawanda Community Center 34600 Cape Kiwanda Dr Pacific City OR 97135 OR United States;X-APPLE-RADIUS=500;X-TITLE=34600 Cape Kiwanda Dr\, Pacific City\, OR 97135:geo:-123.9670463,45.2048476
END:VEVENT
BEGIN:VEVENT
DTSTART;TZID=America/Los_Angeles:20260319T110000
DTEND;TZID=America/Los_Angeles:20260319T120000
DTSTAMP:20260420T195026
CREATED:20260119T231029Z
LAST-MODIFIED:20260318T211851Z
UID:10009033-1773918000-1773921600@tillamookcoast.com
SUMMARY:EVENT: Monthly Glazing Show & Tell
DESCRIPTION:Monthly Glazing Show and Tell–Let’s learn from one another and increase our glazing and surface treatment confidence! Cost is regular studio fee of $2 per hour.Glaze captain Pam Jacobson will be on hand to facilitate. You are invited to bring a pot to show – either successful or not – but you must have a record of the clay body and all applied materials. This is also a great chance to bring an unglazed pot to explore ideas. For more info: http://hoffmanblog.org
URL:https://tillamookcoast.com/plan-your-trip/events/event/event-monthly-glazing-show-tell/
LOCATION:Hoffman Center for the Arts\, 594 Laneda Ave\, Manzanita\, OR\, United States
CATEGORIES:Arts
GEO:45.719325;-123.931502
X-APPLE-STRUCTURED-LOCATION;VALUE=URI;X-ADDRESS=Hoffman Center for the Arts 594 Laneda Ave Manzanita OR United States;X-APPLE-RADIUS=500;X-TITLE=594 Laneda Ave:geo:-123.931502,45.719325
END:VEVENT
BEGIN:VEVENT
DTSTART;TZID=America/Los_Angeles:20260319T130000
DTEND;TZID=America/Los_Angeles:20260319T150000
DTSTAMP:20260420T195026
CREATED:20251219T181033Z
LAST-MODIFIED:20260319T120537Z
UID:10008780-1773925200-1773932400@tillamookcoast.com
SUMMARY:Bingo
DESCRIPTION:🎉 Thursday Bingo Fun at the Kiawanda Community Center! 🎉 \nJoin us every Thursday from 1PM to 3PM for an afternoon of bingo\, community\, and fun at the Kiawanda Community Center! \n🗓️ When: Thursdays\, 1:00–3:00 PM\n📍 Where: Kiawanda Community Center\n🎁 Prizes\, laughs\, and good company guaranteed! \nWhether you’re a seasoned player or brand new to the game\, everyone is welcome! Come early\, grab your favorite seat\, and get ready for a great time! 🙌 \nTag your bingo buddy and spread the word! 🎊 \n#BingoFun #KiawandaCommunityCenter #PacificCityEvents #ThursdayBingo #CommunityVibes
URL:https://tillamookcoast.com/plan-your-trip/events/event/bingo-33/
LOCATION:Kiawanda Community Center\, 34600 Cape Kiwanda Dr\, Pacific City\, OR 97135\, OR\, United States
CATEGORIES:Community
ATTACH;FMTTYPE=image/jpeg:https://tillamookcoast.com/wp-content/uploads/2025/07/Cream-Orange-Colorful-Retro-We-Are-Hiring-Flyer-vLTXaz.jpg
GEO:45.2048476;-123.9670463
X-APPLE-STRUCTURED-LOCATION;VALUE=URI;X-ADDRESS=Kiawanda Community Center 34600 Cape Kiwanda Dr Pacific City OR 97135 OR United States;X-APPLE-RADIUS=500;X-TITLE=34600 Cape Kiwanda Dr\, Pacific City\, OR 97135:geo:-123.9670463,45.2048476
END:VEVENT
BEGIN:VEVENT
DTSTART;TZID=America/Los_Angeles:20260319T140000
DTEND;TZID=America/Los_Angeles:20260319T150000
DTSTAMP:20260420T195026
CREATED:20251219T180916Z
LAST-MODIFIED:20260319T120400Z
UID:10008776-1773928800-1773932400@tillamookcoast.com
SUMMARY:Mahjong at Manzanita Library
DESCRIPTION:Play mahjong in a fun informal group at the Manzanita library Thursdays at 2 pm!
URL:https://tillamookcoast.com/plan-your-trip/events/event/mahjong-at-manzanita-library-25/
LOCATION:Manzanita Library\, 571 Laneda Ave Manzanita OR
CATEGORIES:Community,Family Fun
GEO:45.7194514;-123.9317481
X-APPLE-STRUCTURED-LOCATION;VALUE=URI;X-ADDRESS=Manzanita Library 571 Laneda Ave Manzanita OR;X-APPLE-RADIUS=500;X-TITLE=571 Laneda Ave Manzanita OR:geo:-123.9317481,45.7194514
END:VEVENT
BEGIN:VEVENT
DTSTART;TZID=America/Los_Angeles:20260319T140000
DTEND;TZID=America/Los_Angeles:20260319T150000
DTSTAMP:20260420T195026
CREATED:20260309T232157Z
LAST-MODIFIED:20260319T120400Z
UID:10009420-1773928800-1773932400@tillamookcoast.com
SUMMARY:Speed Friending at Pacific City Library
DESCRIPTION:Meet new people in a fun\, low-pressure turn taking game at Pacific City Library!
URL:https://tillamookcoast.com/plan-your-trip/events/event/speed-friending-at-pacific-city-library/
LOCATION:Pacific City Library\, 6200 Camp St Pacific City\, OR
CATEGORIES:Community
ATTACH;FMTTYPE=image/png:https://tillamookcoast.com/wp-content/uploads/2026/03/Speed-Friending-031926-TP-m2RyKZ.png
GEO:45.2050261;-123.9606441
X-APPLE-STRUCTURED-LOCATION;VALUE=URI;X-ADDRESS=Pacific City Library 6200 Camp St Pacific City OR;X-APPLE-RADIUS=500;X-TITLE=6200 Camp St Pacific City\, OR:geo:-123.9606441,45.2050261
END:VEVENT
BEGIN:VEVENT
DTSTART;TZID=America/Los_Angeles:20260319T160000
DTEND;TZID=America/Los_Angeles:20260319T173000
DTSTAMP:20260420T195026
CREATED:20251219T181033Z
LAST-MODIFIED:20260319T120401Z
UID:10008781-1773936000-1773941400@tillamookcoast.com
SUMMARY:Knitting Group
DESCRIPTION:Join a fun group of knitters at North Tillamook Library in Manzanita on Thursdays from 4pm to 5:30pm.
URL:https://tillamookcoast.com/plan-your-trip/events/event/knitting-group-33/
LOCATION:North Tillamook Library\, 571 Laneda Ave\, Manzanita\, OR 97130
CATEGORIES:Community,Education
ATTACH;FMTTYPE=image/png:https://tillamookcoast.com/wp-content/uploads/2024/08/logo-OfhBMs.tmp_.png
GEO:45.7194742;-123.9317422
X-APPLE-STRUCTURED-LOCATION;VALUE=URI;X-ADDRESS=North Tillamook Library 571 Laneda Ave Manzanita OR 97130;X-APPLE-RADIUS=500;X-TITLE=571 Laneda Ave\, Manzanita\, OR 97130:geo:-123.9317422,45.7194742
END:VEVENT
BEGIN:VEVENT
DTSTART;TZID=America/Los_Angeles:20260319T180000
DTEND;TZID=America/Los_Angeles:20260319T200000
DTSTAMP:20260420T195026
CREATED:20260119T231030Z
LAST-MODIFIED:20260319T213401Z
UID:10009035-1773943200-1773950400@tillamookcoast.com
SUMMARY:DRAWING SESSIONS
DESCRIPTION:Bring drawing materials.  The group takes turns posing for each other.  $2 donation to cover room rental.  Contact Marilyn Burkhardt\, 503-392-3333\, artist@marilynburkhardt.com.
URL:https://tillamookcoast.com/plan-your-trip/events/event/drawing-sessions-37/
LOCATION:Nestucca High School in downtown Cloverdale\, Cloverdale\, Oregon\, 97112\, United States
CATEGORIES:Arts
GEO:45.2055135;-123.8879045
END:VEVENT
END:VCALENDAR