BEGIN:VCALENDAR
VERSION:2.0
PRODID:-//Tillamook Coast - ECPv6.15.16//NONSGML v1.0//EN
CALSCALE:GREGORIAN
METHOD:PUBLISH
X-WR-CALNAME:Tillamook Coast
X-ORIGINAL-URL:https://tillamookcoast.com
X-WR-CALDESC:Events for Tillamook Coast
REFRESH-INTERVAL;VALUE=DURATION:PT1H
X-Robots-Tag:noindex
X-PUBLISHED-TTL:PT1H
BEGIN:VTIMEZONE
TZID:America/Los_Angeles
BEGIN:DAYLIGHT
TZOFFSETFROM:-0800
TZOFFSETTO:-0700
TZNAME:PDT
DTSTART:20250309T100000
END:DAYLIGHT
BEGIN:STANDARD
TZOFFSETFROM:-0700
TZOFFSETTO:-0800
TZNAME:PST
DTSTART:20251102T090000
END:STANDARD
BEGIN:DAYLIGHT
TZOFFSETFROM:-0800
TZOFFSETTO:-0700
TZNAME:PDT
DTSTART:20260308T100000
END:DAYLIGHT
BEGIN:STANDARD
TZOFFSETFROM:-0700
TZOFFSETTO:-0800
TZNAME:PST
DTSTART:20261101T090000
END:STANDARD
BEGIN:DAYLIGHT
TZOFFSETFROM:-0800
TZOFFSETTO:-0700
TZNAME:PDT
DTSTART:20270314T100000
END:DAYLIGHT
BEGIN:STANDARD
TZOFFSETFROM:-0700
TZOFFSETTO:-0800
TZNAME:PST
DTSTART:20271107T090000
END:STANDARD
END:VTIMEZONE
BEGIN:VEVENT
DTSTART;TZID=America/Los_Angeles:20260322T000000
DTEND;TZID=America/Los_Angeles:20260322T233000
DTSTAMP:20260420T212745
CREATED:20260318T114913Z
LAST-MODIFIED:20260322T124830Z
UID:10009511-1774137600-1774222200@tillamookcoast.com
SUMMARY:CALL FOR ART- CALLING NORTH COAST ARTISTS!
DESCRIPTION:Blue Water Fine Art Gallery is now accepting submissions for May Flowers\, our first community exhibition celebrating the colors and renewal of spring along the Oregon Coast. \nArtists may submit up to three original artworks inspired by the May Flowers theme. \nSubmission Deadline: April 21\, 2026 \nThe exhibition runs May 8 – June 6\, with a Community Reception on May 9\, 5–7 PM — free and open to all. \nSubmit your work and help us welcome spring with creativity and community. \nFull details and guidelines on website: \nBlueWaterFineArtGallery.com \nStay connected with upcoming exhibitions and artist calls — sign up for our newsletter at BlueWaterFineArtGallery.com
URL:https://tillamookcoast.com/plan-your-trip/events/event/call-for-art-calling-north-coast-artists-5/
LOCATION:Blue Water Fine Art Gallery\, 119 S Miller St.\, Rockaway Beach\, OR 97136
CATEGORIES:Arts and Culture,Community
ATTACH;FMTTYPE=image/png:https://tillamookcoast.com/wp-content/uploads/2026/03/Call-FOR-ART-PURPLE-oQ7D6z.png
END:VEVENT
BEGIN:VEVENT
DTSTART;TZID=America/Los_Angeles:20260322T100000
DTEND;TZID=America/Los_Angeles:20260322T130000
DTSTAMP:20260420T212745
CREATED:20260121T233314Z
LAST-MODIFIED:20260321T220324Z
UID:10009052-1774173600-1774184400@tillamookcoast.com
SUMMARY:LIFE DRAWING GROUP
DESCRIPTION:Weekly life drawing session with live model.\nModel fee collected from each participant. For address and more information call Judy: 503-368-7868\, sorrel@nehalemtel.net\,
URL:https://tillamookcoast.com/plan-your-trip/events/event/life-drawing-group-37/
LOCATION:Nehalem\, Nehalem\, OR\, United States
CATEGORIES:Arts
GEO:45.651933;-123.853529
END:VEVENT
BEGIN:VEVENT
DTSTART;TZID=America/Los_Angeles:20260322T120000
DTEND;TZID=America/Los_Angeles:20260322T150000
DTSTAMP:20260420T212745
CREATED:20260318T114914Z
LAST-MODIFIED:20260322T124831Z
UID:10009512-1774180800-1774191600@tillamookcoast.com
SUMMARY:Rock the Love
DESCRIPTION:It’s spring and renewal is happening! \nWhat are you longing to see in the world? What do you wish would grow? Want to share your seeds of inspiration? \nCome to the Rock the Love painting event to paint rocks with your messages to the world and then randomly place them in your community for others to witness.  To have grow what we prefer\, let’s “plant” the right seeds!  Our energy and intentions do matter. May our seeds take root nourished by the soil of community. \nAll the materials will be provided and no experience is necessary.  The event is free and open to all ages.  Families welcome. \nSponsored by Heart of Cartm and Fulcrum Community Resources Expressions Lab Program \n\nwww.heartofcartm.org \nwww.fulcrumresources.org
URL:https://tillamookcoast.com/plan-your-trip/events/event/rock-the-love/
LOCATION:Heart of Cartm HeartWorks Studio\, 395 Nehalem Blvd
CATEGORIES:Community,Family Fun
ATTACH;FMTTYPE=image/jpeg:https://tillamookcoast.com/wp-content/uploads/2026/03/rock-the-love-small-D5OXUl.jpg
END:VEVENT
BEGIN:VEVENT
DTSTART;TZID=America/Los_Angeles:20260322T130000
DTEND;TZID=America/Los_Angeles:20260322T150000
DTSTAMP:20260420T212745
CREATED:20260309T232216Z
LAST-MODIFIED:20260322T124832Z
UID:10009424-1774184400-1774191600@tillamookcoast.com
SUMMARY:The Winery at Manzanita\, Paint and Sip\, 1-3 pm
DESCRIPTION:Join Dawnings Art Classes and The Winery at Manzanita for Paint & Sip classes! Tickets are $45 which includes all materials\, instruction and $10 towards your purchase. March 22nd and May 10th.
URL:https://tillamookcoast.com/plan-your-trip/events/event/the-winery-at-manzanita-paint-and-sip-1-3-pm/
LOCATION:The Winery at Manzanita\, 253 Laneda Avenue
CATEGORIES:Community
ATTACH;FMTTYPE=image/jpeg:https://tillamookcoast.com/wp-content/uploads/2026/03/Haystack-KkmGNa.jpg
END:VEVENT
BEGIN:VEVENT
DTSTART;TZID=America/Los_Angeles:20260322T130000
DTEND;TZID=America/Los_Angeles:20260322T153000
DTSTAMP:20260420T212745
CREATED:20260217T160659Z
LAST-MODIFIED:20260322T124831Z
UID:10009258-1774184400-1774193400@tillamookcoast.com
SUMMARY:Paint and Sip
DESCRIPTION:Join us at The Winery at Manzanita\nEnjoy a fun boutique paint class instructed by an Oregonian local artist who is invested in student success and wellbeing. All skill levels are welcome. Step-by-step instruction\, and all materials provided – plus a $10 credit towards your purchase at the winery!
URL:https://tillamookcoast.com/plan-your-trip/events/event/paint-and-sip/
LOCATION:The Winery at Manzanita\, 253 Laneda Avenue
CATEGORIES:Arts and Culture,Community,Family Fun
ATTACH;FMTTYPE=image/jpeg:https://tillamookcoast.com/wp-content/uploads/2026/02/Haystack-gVC31f.jpg
END:VEVENT
BEGIN:VEVENT
DTSTART;TZID=America/Los_Angeles:20260322T140000
DTEND;TZID=America/Los_Angeles:20260322T160000
DTSTAMP:20260420T212745
CREATED:20260224T192445Z
LAST-MODIFIED:20260322T124832Z
UID:10009328-1774188000-1774195200@tillamookcoast.com
SUMMARY:Barbecuing Hamlet
DESCRIPTION:Barbecuing Hamlet is a comedic play that centers around a small-town community theater group attempting to stage Shakespeare’s Hamlet. Chaos ensues when the group hires a director from NY (Buffalo) who tries to modernize the classic with wild changes…including a community theater set in an old funeral home. The quirky cast\, full of eccentric local actors\, struggles with the language\, staging\, and each other. As rehearsals spiral out of control\, personal dramas and misunderstandings threaten to derail the production. Ultimately\, the play is a hilarious look at artistic ambition clashing with small-town charm. \nBarbecuing Hamlet opens March 13 and runs through March 29. Friday and Saturday shows start at 7:00 pm\, Sunday shows start at 2:00 pm. Tickets are available at: https://tillamooktheater.ludus.com/index.php?sections=events
URL:https://tillamookcoast.com/plan-your-trip/events/event/barbecuing-hamlet-6/
LOCATION:The Barn Community Playhouse\, 1204 Ivy Ave
CATEGORIES:Community,Theater
ATTACH;FMTTYPE=image/png:https://tillamookcoast.com/wp-content/uploads/2026/02/TAPA-Event-Cover-image-1-scaled-SKN0OQ-scaled.png
END:VEVENT
END:VCALENDAR