BEGIN:VCALENDAR
VERSION:2.0
PRODID:-//Tillamook Coast - ECPv6.15.16//NONSGML v1.0//EN
CALSCALE:GREGORIAN
METHOD:PUBLISH
X-WR-CALNAME:Tillamook Coast
X-ORIGINAL-URL:https://tillamookcoast.com
X-WR-CALDESC:Events for Tillamook Coast
REFRESH-INTERVAL;VALUE=DURATION:PT1H
X-Robots-Tag:noindex
X-PUBLISHED-TTL:PT1H
BEGIN:VTIMEZONE
TZID:America/Los_Angeles
BEGIN:DAYLIGHT
TZOFFSETFROM:-0800
TZOFFSETTO:-0700
TZNAME:PDT
DTSTART:20250309T100000
END:DAYLIGHT
BEGIN:STANDARD
TZOFFSETFROM:-0700
TZOFFSETTO:-0800
TZNAME:PST
DTSTART:20251102T090000
END:STANDARD
BEGIN:DAYLIGHT
TZOFFSETFROM:-0800
TZOFFSETTO:-0700
TZNAME:PDT
DTSTART:20260308T100000
END:DAYLIGHT
BEGIN:STANDARD
TZOFFSETFROM:-0700
TZOFFSETTO:-0800
TZNAME:PST
DTSTART:20261101T090000
END:STANDARD
BEGIN:DAYLIGHT
TZOFFSETFROM:-0800
TZOFFSETTO:-0700
TZNAME:PDT
DTSTART:20270314T100000
END:DAYLIGHT
BEGIN:STANDARD
TZOFFSETFROM:-0700
TZOFFSETTO:-0800
TZNAME:PST
DTSTART:20271107T090000
END:STANDARD
END:VTIMEZONE
BEGIN:VEVENT
DTSTART;TZID=America/Los_Angeles:20260326T000000
DTEND;TZID=America/Los_Angeles:20260326T233000
DTSTAMP:20260420T195016
CREATED:20260318T114921Z
LAST-MODIFIED:20260326T173410Z
UID:10009516-1774483200-1774567800@tillamookcoast.com
SUMMARY:CALL FOR ART- CALLING NORTH COAST ARTISTS!
DESCRIPTION:Blue Water Fine Art Gallery is now accepting submissions for May Flowers\, our first community exhibition celebrating the colors and renewal of spring along the Oregon Coast. \nArtists may submit up to three original artworks inspired by the May Flowers theme. \nSubmission Deadline: April 21\, 2026 \nThe exhibition runs May 8 – June 6\, with a Community Reception on May 9\, 5–7 PM — free and open to all. \nSubmit your work and help us welcome spring with creativity and community. \nFull details and guidelines on website: \nBlueWaterFineArtGallery.com \nStay connected with upcoming exhibitions and artist calls — sign up for our newsletter at BlueWaterFineArtGallery.com
URL:https://tillamookcoast.com/plan-your-trip/events/event/call-for-art-calling-north-coast-artists-9/
LOCATION:Blue Water Fine Art Gallery\, 119 S Miller St.\, Rockaway Beach\, OR 97136
CATEGORIES:Arts and Culture,Community
ATTACH;FMTTYPE=image/png:https://tillamookcoast.com/wp-content/uploads/2026/03/Call-FOR-ART-PURPLE-oQ7D6z.png
END:VEVENT
BEGIN:VEVENT
DTSTART;TZID=America/Los_Angeles:20260326T090000
DTEND;TZID=America/Los_Angeles:20260326T100000
DTSTAMP:20260420T195016
CREATED:20251226T161216Z
LAST-MODIFIED:20260326T173410Z
UID:10008818-1774515600-1774519200@tillamookcoast.com
SUMMARY:Fit and Fabulous at the KCC
DESCRIPTION:Come join this group keeping active two days a week. Only $15 for the month!
URL:https://tillamookcoast.com/plan-your-trip/events/event/fit-and-fabulous-at-the-kcc-70/
LOCATION:Kiawanda Community Center\, 34600 Cape Kiwanda Dr\, Pacific City\, OR 97135\, OR\, United States
CATEGORIES:Fitness and Athletics
ATTACH;FMTTYPE=image/png:https://tillamookcoast.com/wp-content/uploads/2024/04/Fit-Fabulous-r9K52w.tmp_.png
GEO:45.2048476;-123.9670463
X-APPLE-STRUCTURED-LOCATION;VALUE=URI;X-ADDRESS=Kiawanda Community Center 34600 Cape Kiwanda Dr Pacific City OR 97135 OR United States;X-APPLE-RADIUS=500;X-TITLE=34600 Cape Kiwanda Dr\, Pacific City\, OR 97135:geo:-123.9670463,45.2048476
END:VEVENT
BEGIN:VEVENT
DTSTART;TZID=America/Los_Angeles:20260326T090000
DTEND;TZID=America/Los_Angeles:20260326T100000
DTSTAMP:20260420T195016
CREATED:20251226T161216Z
LAST-MODIFIED:20260326T173545Z
UID:10008819-1774515600-1774519200@tillamookcoast.com
SUMMARY:Yoga With Dawn
DESCRIPTION:🧘‍♀️ Yoga with Dawn – Find Your Flow! 🧘‍♂️ \nStart your day with peace\, strength\, and positive energy 🌞Join Dawn for a refreshing yoga class every: \n🗓️ Monday\, Wednesday\, Friday & Saturday🕘 9:00 AM – 10:00 AM📍 Kiawanda Community Center \nAll levels are welcome—whether you’re new to yoga or a seasoned pro\, Dawn’s calm guidance and supportive atmosphere will leave you feeling refreshed and centered. \n✨ Bring a mat\, some water\, and a smile.No registration needed—just drop in and breathe it out with us! \n#YogaWithDawn #KiawandaCommunityCenter #MorningYoga #WellnessInPacificCity #MindBodySoul
URL:https://tillamookcoast.com/plan-your-trip/events/event/yoga-with-dawn-137/
LOCATION:Kiawanda Community Center\, 34600 Cape Kiwanda Dr\, Pacific City\, OR 97135\, OR\, United States
CATEGORIES:Classes and Workshops,Community
ATTACH;FMTTYPE=image/jpeg:https://tillamookcoast.com/wp-content/uploads/2025/07/yoga-oRzciY.jpg
GEO:45.2048476;-123.9670463
X-APPLE-STRUCTURED-LOCATION;VALUE=URI;X-ADDRESS=Kiawanda Community Center 34600 Cape Kiwanda Dr Pacific City OR 97135 OR United States;X-APPLE-RADIUS=500;X-TITLE=34600 Cape Kiwanda Dr\, Pacific City\, OR 97135:geo:-123.9670463,45.2048476
END:VEVENT
BEGIN:VEVENT
DTSTART;TZID=America/Los_Angeles:20260326T090000
DTEND;TZID=America/Los_Angeles:20260326T100000
DTSTAMP:20260420T195016
CREATED:20260212T131917Z
LAST-MODIFIED:20260326T173411Z
UID:10009217-1774515600-1774519200@tillamookcoast.com
SUMMARY:Virtual Grief Support Groups
DESCRIPTION:Grief touches every part of life\, often in ways we never expected. Whether you are navigating the loss of a loved one\, a major life\nchange\, or the overwhelming emotions that follow loss of any kind\, you don’t have to face it alone. \nThese groups offer gentle guidance\, practical tools\, and heartfelt support to help you move through your grief at your own pace. \nVirtual groups co-led by:\nCami Aufdermauer\, Bereavement Coordinator and Chaplain\nDr. Pam Strachan\, Board-Certified Chaplain and Bereavement Specialist \nVirtual Grief Support Groups\nOccurs the first and last Thursday of every month for one hour starting at 9 a.m.\nRegistration required visiting ahlink.org/tillamookgg
URL:https://tillamookcoast.com/plan-your-trip/events/event/virtual-grief-support-groups-3/
LOCATION:Oregon
CATEGORIES:Community,Education
ATTACH;FMTTYPE=image/jpeg:https://tillamookcoast.com/wp-content/uploads/2026/02/2026-Grief-Groups-2-Flyer-Single-Page-nvKAXj.jpg
END:VEVENT
BEGIN:VEVENT
DTSTART;TZID=America/Los_Angeles:20260326T100000
DTEND;TZID=America/Los_Angeles:20260326T110000
DTSTAMP:20260420T195016
CREATED:20251226T161124Z
LAST-MODIFIED:20260326T173411Z
UID:10008810-1774519200-1774522800@tillamookcoast.com
SUMMARY:Family Storytime at Bay City Library
DESCRIPTION:Bring the whole family down to the Bay City Library for a fun storytime and activity every Thursday at 10am!
URL:https://tillamookcoast.com/plan-your-trip/events/event/family-storytime-at-bay-city-library-33/
LOCATION:Bay City Library\, 5525 B St\, Bay City\, OR
CATEGORIES:Community,Family Fun
ATTACH;FMTTYPE=image/png:https://tillamookcoast.com/wp-content/uploads/2024/12/Bay-City-Storytime1-iSlpg8.tmp_.png
GEO:45.5243851;-123.8908552
X-APPLE-STRUCTURED-LOCATION;VALUE=URI;X-ADDRESS=Bay City Library 5525 B St Bay City OR;X-APPLE-RADIUS=500;X-TITLE=5525 B St\, Bay City\, OR:geo:-123.8908552,45.5243851
END:VEVENT
BEGIN:VEVENT
DTSTART;TZID=America/Los_Angeles:20260326T100000
DTEND;TZID=America/Los_Angeles:20260326T160000
DTSTAMP:20260420T195016
CREATED:20260126T154739Z
LAST-MODIFIED:20260325T231902Z
UID:10009087-1774519200-1774540800@tillamookcoast.com
SUMMARY:CLAY OPEN STUDIO
DESCRIPTION:Clay open studio.  Ages 12 and up.  $2 per hour.  Clay $1 for a two-pound block\, includes tools and firing.   For information contact 503-368-7985\, longboardmenow@nehalemtel.net\, www.hoffmancentermanzanita.org
URL:https://tillamookcoast.com/plan-your-trip/events/event/clay-open-studio-74/
LOCATION:Hoffman Center\, 594 Laneda Avenue in Manzanita\, Laneda Avenue 594\, Manzanita\, Oregon\, 97130\, United States
CATEGORIES:Arts
GEO:45.719044;-123.931327
X-APPLE-STRUCTURED-LOCATION;VALUE=URI;X-ADDRESS=Hoffman Center 594 Laneda Avenue in Manzanita Laneda Avenue 594 Manzanita Oregon 97130 United States;X-APPLE-RADIUS=500;X-TITLE=Laneda Avenue 594:geo:-123.931327,45.719044
END:VEVENT
BEGIN:VEVENT
DTSTART;TZID=America/Los_Angeles:20260326T100000
DTEND;TZID=America/Los_Angeles:20260326T200000
DTSTAMP:20260420T195016
CREATED:20251226T161124Z
LAST-MODIFIED:20260326T173412Z
UID:10008811-1774519200-1774555200@tillamookcoast.com
SUMMARY:All You Can Eat Oysters and Chips
DESCRIPTION:Petite oysters with coleslaw and crispy french fries. Unlimited refills on oysters\, served three ways- deep fried\, grilled\, and sautéed. Every Thursday $18.99
URL:https://tillamookcoast.com/plan-your-trip/events/event/all-you-can-eat-oysters-and-chips-22/
LOCATION:Fish Peddler at Pacific Oyster\, 5150 Hayes Oyster Dr
CATEGORIES:Community
ATTACH;FMTTYPE=image/jpeg:https://tillamookcoast.com/wp-content/uploads/2025/10/IMG_5605-scaled-ARVKXg-scaled.jpg
END:VEVENT
BEGIN:VEVENT
DTSTART;TZID=America/Los_Angeles:20260326T103000
DTEND;TZID=America/Los_Angeles:20260326T113000
DTSTAMP:20260420T195016
CREATED:20251226T161216Z
LAST-MODIFIED:20260326T173546Z
UID:10008820-1774521000-1774524600@tillamookcoast.com
SUMMARY:Tai Chi at the KCC
DESCRIPTION:Come to this weekly class in Pacific City to learn the forms in this moving meditation. Feel your life force flowing through you and get energized for you day!
URL:https://tillamookcoast.com/plan-your-trip/events/event/tai-chi-at-the-kcc-35/
LOCATION:Kiawanda Community Center\, 34600 Cape Kiwanda Dr\, Pacific City\, OR 97135\, OR\, United States
CATEGORIES:Fitness and Athletics
ATTACH;FMTTYPE=image/png:https://tillamookcoast.com/wp-content/uploads/2024/04/Tai-Chi-WPb6NC.tmp_.png
GEO:45.2048476;-123.9670463
X-APPLE-STRUCTURED-LOCATION;VALUE=URI;X-ADDRESS=Kiawanda Community Center 34600 Cape Kiwanda Dr Pacific City OR 97135 OR United States;X-APPLE-RADIUS=500;X-TITLE=34600 Cape Kiwanda Dr\, Pacific City\, OR 97135:geo:-123.9670463,45.2048476
END:VEVENT
BEGIN:VEVENT
DTSTART;TZID=America/Los_Angeles:20260326T130000
DTEND;TZID=America/Los_Angeles:20260326T150000
DTSTAMP:20260420T195016
CREATED:20251226T161216Z
LAST-MODIFIED:20260326T173547Z
UID:10008821-1774530000-1774537200@tillamookcoast.com
SUMMARY:Bingo
DESCRIPTION:🎉 Thursday Bingo Fun at the Kiawanda Community Center! 🎉 \nJoin us every Thursday from 1PM to 3PM for an afternoon of bingo\, community\, and fun at the Kiawanda Community Center! \n🗓️ When: Thursdays\, 1:00–3:00 PM\n📍 Where: Kiawanda Community Center\n🎁 Prizes\, laughs\, and good company guaranteed! \nWhether you’re a seasoned player or brand new to the game\, everyone is welcome! Come early\, grab your favorite seat\, and get ready for a great time! 🙌 \nTag your bingo buddy and spread the word! 🎊 \n#BingoFun #KiawandaCommunityCenter #PacificCityEvents #ThursdayBingo #CommunityVibes
URL:https://tillamookcoast.com/plan-your-trip/events/event/bingo-34/
LOCATION:Kiawanda Community Center\, 34600 Cape Kiwanda Dr\, Pacific City\, OR 97135\, OR\, United States
CATEGORIES:Community
ATTACH;FMTTYPE=image/jpeg:https://tillamookcoast.com/wp-content/uploads/2025/07/Cream-Orange-Colorful-Retro-We-Are-Hiring-Flyer-vLTXaz.jpg
GEO:45.2048476;-123.9670463
X-APPLE-STRUCTURED-LOCATION;VALUE=URI;X-ADDRESS=Kiawanda Community Center 34600 Cape Kiwanda Dr Pacific City OR 97135 OR United States;X-APPLE-RADIUS=500;X-TITLE=34600 Cape Kiwanda Dr\, Pacific City\, OR 97135:geo:-123.9670463,45.2048476
END:VEVENT
BEGIN:VEVENT
DTSTART;TZID=America/Los_Angeles:20260326T130000
DTEND;TZID=America/Los_Angeles:20260326T150000
DTSTAMP:20260420T195016
CREATED:20260226T195451Z
LAST-MODIFIED:20260326T173412Z
UID:10009348-1774530000-1774537200@tillamookcoast.com
SUMMARY:Open Skate
DESCRIPTION:Join us for the final day of open skate during Spring Break. Skate rentals are available for $5\, or you may bring your own skates for $4. Please ensure you wear socks.
URL:https://tillamookcoast.com/plan-your-trip/events/event/open-skate-10/
LOCATION:Tillamook County Fairgrounds\, 4603 3rd St\, Tillamook\, OR\, 97141\, United States
CATEGORIES:Community,Family Fun
ATTACH;FMTTYPE=image/png:https://tillamookcoast.com/wp-content/uploads/2026/02/roller-skate-clip-art-free-look-at-roller-skate-clip-art-clip-248299-BB9Fkv.png
GEO:45.4566806;-123.8073604
X-APPLE-STRUCTURED-LOCATION;VALUE=URI;X-ADDRESS=Tillamook County Fairgrounds 4603 3rd St Tillamook OR 97141 United States;X-APPLE-RADIUS=500;X-TITLE=4603 3rd St:geo:-123.8073604,45.4566806
END:VEVENT
BEGIN:VEVENT
DTSTART;TZID=America/Los_Angeles:20260326T140000
DTEND;TZID=America/Los_Angeles:20260326T150000
DTSTAMP:20260420T195016
CREATED:20251226T161124Z
LAST-MODIFIED:20260326T173413Z
UID:10008812-1774533600-1774537200@tillamookcoast.com
SUMMARY:Mahjong at Manzanita Library
DESCRIPTION:Play mahjong in a fun informal group at the Manzanita library Thursdays at 2 pm!
URL:https://tillamookcoast.com/plan-your-trip/events/event/mahjong-at-manzanita-library-26/
LOCATION:Manzanita Library\, 571 Laneda Ave Manzanita OR
CATEGORIES:Community,Family Fun
GEO:45.7194514;-123.9317481
X-APPLE-STRUCTURED-LOCATION;VALUE=URI;X-ADDRESS=Manzanita Library 571 Laneda Ave Manzanita OR;X-APPLE-RADIUS=500;X-TITLE=571 Laneda Ave Manzanita OR:geo:-123.9317481,45.7194514
END:VEVENT
BEGIN:VEVENT
DTSTART;TZID=America/Los_Angeles:20260326T160000
DTEND;TZID=America/Los_Angeles:20260326T173000
DTSTAMP:20260420T195016
CREATED:20251226T161217Z
LAST-MODIFIED:20260326T173413Z
UID:10008822-1774540800-1774546200@tillamookcoast.com
SUMMARY:Knitting Group
DESCRIPTION:Join a fun group of knitters at North Tillamook Library in Manzanita on Thursdays from 4pm to 5:30pm.
URL:https://tillamookcoast.com/plan-your-trip/events/event/knitting-group-34/
LOCATION:North Tillamook Library\, 571 Laneda Ave\, Manzanita\, OR 97130
CATEGORIES:Community,Education
ATTACH;FMTTYPE=image/png:https://tillamookcoast.com/wp-content/uploads/2024/08/logo-OfhBMs.tmp_.png
GEO:45.7194742;-123.9317422
X-APPLE-STRUCTURED-LOCATION;VALUE=URI;X-ADDRESS=North Tillamook Library 571 Laneda Ave Manzanita OR 97130;X-APPLE-RADIUS=500;X-TITLE=571 Laneda Ave\, Manzanita\, OR 97130:geo:-123.9317422,45.7194742
END:VEVENT
BEGIN:VEVENT
DTSTART;TZID=America/Los_Angeles:20260326T180000
DTEND;TZID=America/Los_Angeles:20260326T200000
DTSTAMP:20260420T195016
CREATED:20260126T154743Z
LAST-MODIFIED:20260326T233411Z
UID:10009088-1774548000-1774555200@tillamookcoast.com
SUMMARY:DRAWING SESSIONS
DESCRIPTION:Bring drawing materials.  The group takes turns posing for each other.  $2 donation to cover room rental.  Contact Marilyn Burkhardt\, 503-392-3333\, artist@marilynburkhardt.com.
URL:https://tillamookcoast.com/plan-your-trip/events/event/drawing-sessions-38/
LOCATION:Nestucca High School in downtown Cloverdale\, Cloverdale\, Oregon\, 97112\, United States
CATEGORIES:Arts
GEO:45.2055135;-123.8879045
END:VEVENT
END:VCALENDAR