BEGIN:VCALENDAR
VERSION:2.0
PRODID:-//Tillamook Coast - ECPv6.15.16//NONSGML v1.0//EN
CALSCALE:GREGORIAN
METHOD:PUBLISH
X-WR-CALNAME:Tillamook Coast
X-ORIGINAL-URL:https://tillamookcoast.com
X-WR-CALDESC:Events for Tillamook Coast
REFRESH-INTERVAL;VALUE=DURATION:PT1H
X-Robots-Tag:noindex
X-PUBLISHED-TTL:PT1H
BEGIN:VTIMEZONE
TZID:America/Los_Angeles
BEGIN:DAYLIGHT
TZOFFSETFROM:-0800
TZOFFSETTO:-0700
TZNAME:PDT
DTSTART:20250309T100000
END:DAYLIGHT
BEGIN:STANDARD
TZOFFSETFROM:-0700
TZOFFSETTO:-0800
TZNAME:PST
DTSTART:20251102T090000
END:STANDARD
BEGIN:DAYLIGHT
TZOFFSETFROM:-0800
TZOFFSETTO:-0700
TZNAME:PDT
DTSTART:20260308T100000
END:DAYLIGHT
BEGIN:STANDARD
TZOFFSETFROM:-0700
TZOFFSETTO:-0800
TZNAME:PST
DTSTART:20261101T090000
END:STANDARD
BEGIN:DAYLIGHT
TZOFFSETFROM:-0800
TZOFFSETTO:-0700
TZNAME:PDT
DTSTART:20270314T100000
END:DAYLIGHT
BEGIN:STANDARD
TZOFFSETFROM:-0700
TZOFFSETTO:-0800
TZNAME:PST
DTSTART:20271107T090000
END:STANDARD
END:VTIMEZONE
BEGIN:VEVENT
DTSTART;TZID=America/Los_Angeles:20260329T000000
DTEND;TZID=America/Los_Angeles:20260329T233000
DTSTAMP:20260420T212804
CREATED:20260318T114925Z
LAST-MODIFIED:20260326T173419Z
UID:10009519-1774742400-1774827000@tillamookcoast.com
SUMMARY:CALL FOR ART- CALLING NORTH COAST ARTISTS!
DESCRIPTION:Blue Water Fine Art Gallery is now accepting submissions for May Flowers\, our first community exhibition celebrating the colors and renewal of spring along the Oregon Coast. \nArtists may submit up to three original artworks inspired by the May Flowers theme. \nSubmission Deadline: April 21\, 2026 \nThe exhibition runs May 8 – June 6\, with a Community Reception on May 9\, 5–7 PM — free and open to all. \nSubmit your work and help us welcome spring with creativity and community. \nFull details and guidelines on website: \nBlueWaterFineArtGallery.com \nStay connected with upcoming exhibitions and artist calls — sign up for our newsletter at BlueWaterFineArtGallery.com
URL:https://tillamookcoast.com/plan-your-trip/events/event/call-for-art-calling-north-coast-artists-12/
LOCATION:Blue Water Fine Art Gallery\, 119 S Miller St.\, Rockaway Beach\, OR 97136
CATEGORIES:Arts and Culture,Community
ATTACH;FMTTYPE=image/png:https://tillamookcoast.com/wp-content/uploads/2026/03/Call-FOR-ART-PURPLE-oQ7D6z.png
END:VEVENT
BEGIN:VEVENT
DTSTART;TZID=America/Los_Angeles:20260329T100000
DTEND;TZID=America/Los_Angeles:20260329T130000
DTSTAMP:20260420T212804
CREATED:20260128T181548Z
LAST-MODIFIED:20260329T004931Z
UID:10009108-1774778400-1774789200@tillamookcoast.com
SUMMARY:LIFE DRAWING GROUP
DESCRIPTION:Weekly life drawing session with live model.\nModel fee collected from each participant. For address and more information call Judy: 503-368-7868\, sorrel@nehalemtel.net\,
URL:https://tillamookcoast.com/plan-your-trip/events/event/life-drawing-group-38/
LOCATION:Nehalem\, Nehalem\, OR\, United States
CATEGORIES:Arts
GEO:45.651933;-123.853529
END:VEVENT
BEGIN:VEVENT
DTSTART;TZID=America/Los_Angeles:20260329T140000
DTEND;TZID=America/Los_Angeles:20260329T160000
DTSTAMP:20260420T212804
CREATED:20260224T192457Z
LAST-MODIFIED:20260326T173550Z
UID:10009331-1774792800-1774800000@tillamookcoast.com
SUMMARY:Barbecuing Hamlet
DESCRIPTION:Barbecuing Hamlet is a comedic play that centers around a small-town community theater group attempting to stage Shakespeare’s Hamlet. Chaos ensues when the group hires a director from NY (Buffalo) who tries to modernize the classic with wild changes…including a community theater set in an old funeral home. The quirky cast\, full of eccentric local actors\, struggles with the language\, staging\, and each other. As rehearsals spiral out of control\, personal dramas and misunderstandings threaten to derail the production. Ultimately\, the play is a hilarious look at artistic ambition clashing with small-town charm. \nBarbecuing Hamlet opens March 13 and runs through March 29. Friday and Saturday shows start at 7:00 pm\, Sunday shows start at 2:00 pm. Tickets are available at: https://tillamooktheater.ludus.com/index.php?sections=events
URL:https://tillamookcoast.com/plan-your-trip/events/event/barbecuing-hamlet-9/
LOCATION:The Barn Community Playhouse\, 1204 Ivy Ave
CATEGORIES:Community,Theater
ATTACH;FMTTYPE=image/png:https://tillamookcoast.com/wp-content/uploads/2026/02/TAPA-Event-Cover-image-1-scaled-SKN0OQ-scaled.png
END:VEVENT
END:VCALENDAR