BEGIN:VCALENDAR
VERSION:2.0
PRODID:-//Tillamook Coast - ECPv6.15.16//NONSGML v1.0//EN
CALSCALE:GREGORIAN
METHOD:PUBLISH
X-WR-CALNAME:Tillamook Coast
X-ORIGINAL-URL:https://tillamookcoast.com
X-WR-CALDESC:Events for Tillamook Coast
REFRESH-INTERVAL;VALUE=DURATION:PT1H
X-Robots-Tag:noindex
X-PUBLISHED-TTL:PT1H
BEGIN:VTIMEZONE
TZID:America/Los_Angeles
BEGIN:DAYLIGHT
TZOFFSETFROM:-0800
TZOFFSETTO:-0700
TZNAME:PDT
DTSTART:20250309T100000
END:DAYLIGHT
BEGIN:STANDARD
TZOFFSETFROM:-0700
TZOFFSETTO:-0800
TZNAME:PST
DTSTART:20251102T090000
END:STANDARD
BEGIN:DAYLIGHT
TZOFFSETFROM:-0800
TZOFFSETTO:-0700
TZNAME:PDT
DTSTART:20260308T100000
END:DAYLIGHT
BEGIN:STANDARD
TZOFFSETFROM:-0700
TZOFFSETTO:-0800
TZNAME:PST
DTSTART:20261101T090000
END:STANDARD
BEGIN:DAYLIGHT
TZOFFSETFROM:-0800
TZOFFSETTO:-0700
TZNAME:PDT
DTSTART:20270314T100000
END:DAYLIGHT
BEGIN:STANDARD
TZOFFSETFROM:-0700
TZOFFSETTO:-0800
TZNAME:PST
DTSTART:20271107T090000
END:STANDARD
END:VTIMEZONE
BEGIN:VEVENT
DTSTART;TZID=America/Los_Angeles:20260510T100000
DTEND;TZID=America/Los_Angeles:20260510T130000
DTSTAMP:20260420T212803
CREATED:20260311T183728Z
LAST-MODIFIED:20260420T145726Z
UID:10009447-1778407200-1778418000@tillamookcoast.com
SUMMARY:LIFE DRAWING GROUP
DESCRIPTION:Weekly life drawing session with live model.\nModel fee collected from each participant. For address and more information call Judy: 503-368-7868\, sorrel@nehalemtel.net\,
URL:https://tillamookcoast.com/plan-your-trip/events/event/life-drawing-group-44/
LOCATION:Nehalem\, Nehalem\, OR\, United States
CATEGORIES:Arts
GEO:45.651933;-123.853529
END:VEVENT
BEGIN:VEVENT
DTSTART;TZID=America/Los_Angeles:20260510T130000
DTEND;TZID=America/Los_Angeles:20260510T150000
DTSTAMP:20260420T212803
CREATED:20260309T232259Z
LAST-MODIFIED:20260419T183534Z
UID:10009427-1778418000-1778425200@tillamookcoast.com
SUMMARY:The Winery at Manzanita\, Paint and Sip\, 1-3 pm
DESCRIPTION:Join Dawnings Art Classes and The Winery at Manzanita for Paint & Sip classes! Tickets are $45 which includes all materials\, instruction and $10 towards your purchase. March 22nd and May 10th.
URL:https://tillamookcoast.com/plan-your-trip/events/event/the-winery-at-manzanita-paint-and-sip-1-3-pm-2/
LOCATION:The Winery at Manzanita\, 253 Laneda Avenue
CATEGORIES:Community
ATTACH;FMTTYPE=image/jpeg:https://tillamookcoast.com/wp-content/uploads/2026/03/Haystack-KkmGNa.jpg
END:VEVENT
END:VCALENDAR