BEGIN:VCALENDAR
VERSION:2.0
PRODID:-//Tillamook Coast - ECPv6.15.16//NONSGML v1.0//EN
CALSCALE:GREGORIAN
METHOD:PUBLISH
X-WR-CALNAME:Tillamook Coast
X-ORIGINAL-URL:https://tillamookcoast.com
X-WR-CALDESC:Events for Tillamook Coast
REFRESH-INTERVAL;VALUE=DURATION:PT1H
X-Robots-Tag:noindex
X-PUBLISHED-TTL:PT1H
BEGIN:VTIMEZONE
TZID:America/Los_Angeles
BEGIN:DAYLIGHT
TZOFFSETFROM:-0800
TZOFFSETTO:-0700
TZNAME:PDT
DTSTART:20250309T100000
END:DAYLIGHT
BEGIN:STANDARD
TZOFFSETFROM:-0700
TZOFFSETTO:-0800
TZNAME:PST
DTSTART:20251102T090000
END:STANDARD
BEGIN:DAYLIGHT
TZOFFSETFROM:-0800
TZOFFSETTO:-0700
TZNAME:PDT
DTSTART:20260308T100000
END:DAYLIGHT
BEGIN:STANDARD
TZOFFSETFROM:-0700
TZOFFSETTO:-0800
TZNAME:PST
DTSTART:20261101T090000
END:STANDARD
BEGIN:DAYLIGHT
TZOFFSETFROM:-0800
TZOFFSETTO:-0700
TZNAME:PDT
DTSTART:20270314T100000
END:DAYLIGHT
BEGIN:STANDARD
TZOFFSETFROM:-0700
TZOFFSETTO:-0800
TZNAME:PST
DTSTART:20271107T090000
END:STANDARD
END:VTIMEZONE
BEGIN:VEVENT
DTSTART;TZID=America/Los_Angeles:20260201T100000
DTEND;TZID=America/Los_Angeles:20260201T130000
DTSTAMP:20260424T041909
CREATED:20251208T165733Z
LAST-MODIFIED:20260131T234712Z
UID:10008642-1769940000-1769950800@tillamookcoast.com
SUMMARY:LIFE DRAWING GROUP
DESCRIPTION:Weekly life drawing session with live model.\nModel fee collected from each participant. For address and more information call Judy: 503-368-7868\, sorrel@nehalemtel.net\,
URL:https://tillamookcoast.com/plan-your-trip/events/event/life-drawing-group-31/
LOCATION:Nehalem\, Nehalem\, OR\, United States
CATEGORIES:Arts
GEO:45.651933;-123.853529
END:VEVENT
BEGIN:VEVENT
DTSTART;TZID=America/Los_Angeles:20260203T100000
DTEND;TZID=America/Los_Angeles:20260203T160000
DTSTAMP:20260424T041909
CREATED:20251208T165734Z
LAST-MODIFIED:20260203T000350Z
UID:10008644-1770112800-1770134400@tillamookcoast.com
SUMMARY:OPEN CLAY STUDIO
DESCRIPTION:Slab roller\, potter’s wheel\, tools\, and kiln time. $2/hr. Clay available $1 for 2 lbs. 503-368-3846\, hoffmancenter@nehalemtel.net\, www.hoffmancentermanzanita.org
URL:https://tillamookcoast.com/plan-your-trip/events/event/open-clay-studio-31/
LOCATION:Hoffman Center Studios\, 594 Laneda Avenue in Manzanita\, Laneda Avenue 594\, Manzanita\, Oregon\, 97130\, United States
CATEGORIES:Arts
GEO:45.719044;-123.931327
X-APPLE-STRUCTURED-LOCATION;VALUE=URI;X-ADDRESS=Hoffman Center Studios 594 Laneda Avenue in Manzanita Laneda Avenue 594 Manzanita Oregon 97130 United States;X-APPLE-RADIUS=500;X-TITLE=Laneda Avenue 594:geo:-123.931327,45.719044
END:VEVENT
BEGIN:VEVENT
DTSTART;TZID=America/Los_Angeles:20260203T103000
DTEND;TZID=America/Los_Angeles:20260203T130000
DTSTAMP:20260424T041909
CREATED:20251208T165733Z
LAST-MODIFIED:20260203T000351Z
UID:10008643-1770114600-1770123600@tillamookcoast.com
SUMMARY:WORKSHOP:  Writing Lounge
DESCRIPTION:Bring your project or start a new one using prompts that are always available. A bit of time at the end for sharing what you’ve written.\nDid you know expressive writing is good for you !? Research says it eases\nphysical and emotional distress.\nEvery Tuesday at the Hoffman Center in Manzanita 10:30 – 1:00. Donations of\n$5 keep the lights on.\nFor more info: contact Marcia Silver marciasilver12@gmail.com
URL:https://tillamookcoast.com/plan-your-trip/events/event/workshop-writing-lounge-31/
LOCATION:Hoffman Center\, Manzanita\, OR\, United States
CATEGORIES:Arts
GEO:45.71844;-123.93514
END:VEVENT
BEGIN:VEVENT
DTSTART;TZID=America/Los_Angeles:20260204T180000
DTEND;TZID=America/Los_Angeles:20260204T193000
DTSTAMP:20260424T041909
CREATED:20251208T165734Z
LAST-MODIFIED:20260205T004211Z
UID:10008645-1770228000-1770233400@tillamookcoast.com
SUMMARY:SQUARE DANCE LESSONS
DESCRIPTION:Square Dance Lessons every Wednesday at 6pm. Learn modern Square Dancing with the Wave Steppers of Tillamook Bay. Children 9 and older welcome with an adult. For more information\, call Barb (503) 812-4126\, or Carolyn (503) 801-4044. FREE!
URL:https://tillamookcoast.com/plan-your-trip/events/event/square-dance-lessons-31/
LOCATION:Elks Lodge\, 1907 3rd St\, Tillamook\, OR\, United States
CATEGORIES:Arts
GEO:45.456251;-123.844973
X-APPLE-STRUCTURED-LOCATION;VALUE=URI;X-ADDRESS=Elks Lodge 1907 3rd St Tillamook OR United States;X-APPLE-RADIUS=500;X-TITLE=1907 3rd St:geo:-123.844973,45.456251
END:VEVENT
BEGIN:VEVENT
DTSTART;TZID=America/Los_Angeles:20260205T100000
DTEND;TZID=America/Los_Angeles:20260205T160000
DTSTAMP:20260424T041909
CREATED:20251208T165734Z
LAST-MODIFIED:20260205T004211Z
UID:10008646-1770285600-1770307200@tillamookcoast.com
SUMMARY:CLAY OPEN STUDIO
DESCRIPTION:Clay open studio.  Ages 12 and up.  $2 per hour.  Clay $1 for a two-pound block\, includes tools and firing.   For information contact 503-368-7985\, longboardmenow@nehalemtel.net\, www.hoffmancentermanzanita.org
URL:https://tillamookcoast.com/plan-your-trip/events/event/clay-open-studio-61/
LOCATION:Hoffman Center\, 594 Laneda Avenue in Manzanita\, Laneda Avenue 594\, Manzanita\, Oregon\, 97130\, United States
CATEGORIES:Arts
GEO:45.719044;-123.931327
X-APPLE-STRUCTURED-LOCATION;VALUE=URI;X-ADDRESS=Hoffman Center 594 Laneda Avenue in Manzanita Laneda Avenue 594 Manzanita Oregon 97130 United States;X-APPLE-RADIUS=500;X-TITLE=Laneda Avenue 594:geo:-123.931327,45.719044
END:VEVENT
BEGIN:VEVENT
DTSTART;TZID=America/Los_Angeles:20260205T180000
DTEND;TZID=America/Los_Angeles:20260205T200000
DTSTAMP:20260424T041909
CREATED:20251208T165734Z
LAST-MODIFIED:20260206T004850Z
UID:10008647-1770314400-1770321600@tillamookcoast.com
SUMMARY:DRAWING SESSIONS
DESCRIPTION:Bring drawing materials.  The group takes turns posing for each other.  $2 donation to cover room rental.  Contact Marilyn Burkhardt\, 503-392-3333\, artist@marilynburkhardt.com.
URL:https://tillamookcoast.com/plan-your-trip/events/event/drawing-sessions-32/
LOCATION:Nestucca High School in downtown Cloverdale\, Cloverdale\, Oregon\, 97112\, United States
CATEGORIES:Arts
GEO:45.2055135;-123.8879045
END:VEVENT
BEGIN:VEVENT
DTSTART;TZID=America/Los_Angeles:20260206T180000
DTEND;TZID=America/Los_Angeles:20260206T200000
DTSTAMP:20260424T041909
CREATED:20251209T171354Z
LAST-MODIFIED:20260207T031732Z
UID:10008696-1770400800-1770408000@tillamookcoast.com
SUMMARY:DANCE: Spirit Dance 2.0
DESCRIPTION:Join us for our weekly free-form dance celebration. Music by DJ Pranawave. 6pm warm-up and stretch. 6:15 Circle opens and dance begins. 8pm finish. Suggested donation\, $10. Free for kids!
URL:https://tillamookcoast.com/plan-your-trip/events/event/dance-spirit-dance-2-0-31/
LOCATION:Pine Grove Community Club\, 225 Laneda Ave\, Manzanita\, OR\, United States
CATEGORIES:Arts
GEO:45.718587;-123.936947
X-APPLE-STRUCTURED-LOCATION;VALUE=URI;X-ADDRESS=Pine Grove Community Club 225 Laneda Ave Manzanita OR United States;X-APPLE-RADIUS=500;X-TITLE=225 Laneda Ave:geo:-123.936947,45.718587
END:VEVENT
BEGIN:VEVENT
DTSTART;TZID=America/Los_Angeles:20260206T180000
DTEND;TZID=America/Los_Angeles:20260206T200000
DTSTAMP:20260424T041909
CREATED:20251209T171355Z
LAST-MODIFIED:20260207T031732Z
UID:10008697-1770400800-1770408000@tillamookcoast.com
SUMMARY:EVENT: Garibaldi Jam
DESCRIPTION:The Jam plays mostly old-time favorites and Country-Western standards using their complete sound system\, with the audience “cutting a rug” on the large dance floor while others sit and enjoy\, toes a-tapping.\nNo admission fee is charged\, but donations are always welcome. Come join them for an evening of fun – they always welcome good musicians.\nLocation: Garibaldi Community Hall\, 6th St. and Acacia Ave.\nDate(s): Most Fridays\nTime: 6 pm to 8 pm\nAdmission: By donation\nFor more information contact Bud & Elsie Massey at 503-801-0953
URL:https://tillamookcoast.com/plan-your-trip/events/event/event-garibaldi-jam-31/
LOCATION:Garibaldi Community Hall\, Garibaldi\, OR\, United States
CATEGORIES:Arts
GEO:45.558563;-123.921656
END:VEVENT
BEGIN:VEVENT
DTSTART;TZID=America/Los_Angeles:20260207T100000
DTEND;TZID=America/Los_Angeles:20260207T160000
DTSTAMP:20260424T041909
CREATED:20251209T171355Z
LAST-MODIFIED:20260207T031733Z
UID:10008698-1770458400-1770480000@tillamookcoast.com
SUMMARY:CLAY OPEN STUDIO
DESCRIPTION:Participants can purchase clay\, plus there are a number of bisque pieces available to buy and glaze as well.  All experience levels are welcome and a Studio Host is available to answer questions and offer tips.  Children under 12 must be accompanied by an adult.  Studio fees are $2 per hour\, which includes glazing and firing up the finished product.  Clay is $2 per 1 pound section.  For more information\, contact the Clay hosts at: hoffmanclaystudio@gmail.com
URL:https://tillamookcoast.com/plan-your-trip/events/event/clay-open-studio-62/
LOCATION:Hoffman Center for the Arts\, 594 Laneda Ave\, Manzanita\, OR\, United States
CATEGORIES:Arts
GEO:45.719325;-123.931502
X-APPLE-STRUCTURED-LOCATION;VALUE=URI;X-ADDRESS=Hoffman Center for the Arts 594 Laneda Ave Manzanita OR United States;X-APPLE-RADIUS=500;X-TITLE=594 Laneda Ave:geo:-123.931502,45.719325
END:VEVENT
BEGIN:VEVENT
DTSTART;TZID=America/Los_Angeles:20260208T100000
DTEND;TZID=America/Los_Angeles:20260208T130000
DTSTAMP:20260424T041909
CREATED:20251210T172904Z
LAST-MODIFIED:20260208T032242Z
UID:10008716-1770544800-1770555600@tillamookcoast.com
SUMMARY:LIFE DRAWING GROUP
DESCRIPTION:Weekly life drawing session with live model.\nModel fee collected from each participant. For address and more information call Judy: 503-368-7868\, sorrel@nehalemtel.net\,
URL:https://tillamookcoast.com/plan-your-trip/events/event/life-drawing-group-32/
LOCATION:Nehalem\, Nehalem\, OR\, United States
CATEGORIES:Arts
GEO:45.651933;-123.853529
END:VEVENT
BEGIN:VEVENT
DTSTART;TZID=America/Los_Angeles:20260210T100000
DTEND;TZID=America/Los_Angeles:20260210T160000
DTSTAMP:20260424T041909
CREATED:20251213T001225Z
LAST-MODIFIED:20260210T035303Z
UID:10008735-1770717600-1770739200@tillamookcoast.com
SUMMARY:OPEN CLAY STUDIO
DESCRIPTION:Slab roller\, potter’s wheel\, tools\, and kiln time. $2/hr. Clay available $1 for 2 lbs. 503-368-3846\, hoffmancenter@nehalemtel.net\, www.hoffmancentermanzanita.org
URL:https://tillamookcoast.com/plan-your-trip/events/event/open-clay-studio-32/
LOCATION:Hoffman Center Studios\, 594 Laneda Avenue in Manzanita\, Laneda Avenue 594\, Manzanita\, Oregon\, 97130\, United States
CATEGORIES:Arts
GEO:45.719044;-123.931327
X-APPLE-STRUCTURED-LOCATION;VALUE=URI;X-ADDRESS=Hoffman Center Studios 594 Laneda Avenue in Manzanita Laneda Avenue 594 Manzanita Oregon 97130 United States;X-APPLE-RADIUS=500;X-TITLE=Laneda Avenue 594:geo:-123.931327,45.719044
END:VEVENT
BEGIN:VEVENT
DTSTART;TZID=America/Los_Angeles:20260210T103000
DTEND;TZID=America/Los_Angeles:20260210T130000
DTSTAMP:20260424T041909
CREATED:20251213T001225Z
LAST-MODIFIED:20260210T035304Z
UID:10008736-1770719400-1770728400@tillamookcoast.com
SUMMARY:WORKSHOP:  Writing Lounge
DESCRIPTION:Bring your project or start a new one using prompts that are always available. A bit of time at the end for sharing what you’ve written.\nDid you know expressive writing is good for you !? Research says it eases\nphysical and emotional distress.\nEvery Tuesday at the Hoffman Center in Manzanita 10:30 – 1:00. Donations of\n$5 keep the lights on.\nFor more info: contact Marcia Silver marciasilver12@gmail.com
URL:https://tillamookcoast.com/plan-your-trip/events/event/workshop-writing-lounge-32/
LOCATION:Hoffman Center\, Manzanita\, OR\, United States
CATEGORIES:Arts
GEO:45.71844;-123.93514
END:VEVENT
BEGIN:VEVENT
DTSTART;TZID=America/Los_Angeles:20260211T180000
DTEND;TZID=America/Los_Angeles:20260211T193000
DTSTAMP:20260424T041909
CREATED:20251215T154604Z
LAST-MODIFIED:20260211T040312Z
UID:10008748-1770832800-1770838200@tillamookcoast.com
SUMMARY:SQUARE DANCE LESSONS
DESCRIPTION:Square Dance Lessons every Wednesday at 6pm. Learn modern Square Dancing with the Wave Steppers of Tillamook Bay. Children 9 and older welcome with an adult. For more information\, call Barb (503) 812-4126\, or Carolyn (503) 801-4044. FREE!
URL:https://tillamookcoast.com/plan-your-trip/events/event/square-dance-lessons-32/
LOCATION:Elks Lodge\, 1907 3rd St\, Tillamook\, OR\, United States
CATEGORIES:Arts
GEO:45.456251;-123.844973
X-APPLE-STRUCTURED-LOCATION;VALUE=URI;X-ADDRESS=Elks Lodge 1907 3rd St Tillamook OR United States;X-APPLE-RADIUS=500;X-TITLE=1907 3rd St:geo:-123.844973,45.456251
END:VEVENT
BEGIN:VEVENT
DTSTART;TZID=America/Los_Angeles:20260212T100000
DTEND;TZID=America/Los_Angeles:20260212T160000
DTSTAMP:20260424T041909
CREATED:20251215T154604Z
LAST-MODIFIED:20260212T041821Z
UID:10008749-1770890400-1770912000@tillamookcoast.com
SUMMARY:CLAY OPEN STUDIO
DESCRIPTION:Clay open studio.  Ages 12 and up.  $2 per hour.  Clay $1 for a two-pound block\, includes tools and firing.   For information contact 503-368-7985\, longboardmenow@nehalemtel.net\, www.hoffmancentermanzanita.org
URL:https://tillamookcoast.com/plan-your-trip/events/event/clay-open-studio-63/
LOCATION:Hoffman Center\, 594 Laneda Avenue in Manzanita\, Laneda Avenue 594\, Manzanita\, Oregon\, 97130\, United States
CATEGORIES:Arts
GEO:45.719044;-123.931327
X-APPLE-STRUCTURED-LOCATION;VALUE=URI;X-ADDRESS=Hoffman Center 594 Laneda Avenue in Manzanita Laneda Avenue 594 Manzanita Oregon 97130 United States;X-APPLE-RADIUS=500;X-TITLE=Laneda Avenue 594:geo:-123.931327,45.719044
END:VEVENT
BEGIN:VEVENT
DTSTART;TZID=America/Los_Angeles:20260212T180000
DTEND;TZID=America/Los_Angeles:20260212T200000
DTSTAMP:20260424T041909
CREATED:20251215T154605Z
LAST-MODIFIED:20260212T041822Z
UID:10008750-1770919200-1770926400@tillamookcoast.com
SUMMARY:DRAWING SESSIONS
DESCRIPTION:Bring drawing materials.  The group takes turns posing for each other.  $2 donation to cover room rental.  Contact Marilyn Burkhardt\, 503-392-3333\, artist@marilynburkhardt.com.
URL:https://tillamookcoast.com/plan-your-trip/events/event/drawing-sessions-33/
LOCATION:Nestucca High School in downtown Cloverdale\, Cloverdale\, Oregon\, 97112\, United States
CATEGORIES:Arts
GEO:45.2055135;-123.8879045
END:VEVENT
BEGIN:VEVENT
DTSTART;TZID=America/Los_Angeles:20260213T180000
DTEND;TZID=America/Los_Angeles:20260213T200000
DTSTAMP:20260424T041909
CREATED:20251216T165900Z
LAST-MODIFIED:20260213T060838Z
UID:10008755-1771005600-1771012800@tillamookcoast.com
SUMMARY:EVENT: Garibaldi Jam
DESCRIPTION:The Jam plays mostly old-time favorites and Country-Western standards using their complete sound system\, with the audience “cutting a rug” on the large dance floor while others sit and enjoy\, toes a-tapping.\nNo admission fee is charged\, but donations are always welcome. Come join them for an evening of fun – they always welcome good musicians.\nLocation: Garibaldi Community Hall\, 6th St. and Acacia Ave.\nDate(s): Most Fridays\nTime: 6 pm to 8 pm\nAdmission: By donation\nFor more information contact Bud & Elsie Massey at 503-801-0953
URL:https://tillamookcoast.com/plan-your-trip/events/event/event-garibaldi-jam-32/
LOCATION:Garibaldi Community Hall\, Garibaldi\, OR\, United States
CATEGORIES:Arts
GEO:45.558563;-123.921656
END:VEVENT
BEGIN:VEVENT
DTSTART;TZID=America/Los_Angeles:20260213T180000
DTEND;TZID=America/Los_Angeles:20260213T200000
DTSTAMP:20260424T041909
CREATED:20251216T165900Z
LAST-MODIFIED:20260213T060838Z
UID:10008756-1771005600-1771012800@tillamookcoast.com
SUMMARY:DANCE: Spirit Dance 2.0
DESCRIPTION:Join us for our weekly free-form dance celebration. Music by DJ Pranawave. 6pm warm-up and stretch. 6:15 Circle opens and dance begins. 8pm finish. Suggested donation\, $10. Free for kids!
URL:https://tillamookcoast.com/plan-your-trip/events/event/dance-spirit-dance-2-0-32/
LOCATION:Pine Grove Community Club\, 225 Laneda Ave\, Manzanita\, OR\, United States
CATEGORIES:Arts
GEO:45.718587;-123.936947
X-APPLE-STRUCTURED-LOCATION;VALUE=URI;X-ADDRESS=Pine Grove Community Club 225 Laneda Ave Manzanita OR United States;X-APPLE-RADIUS=500;X-TITLE=225 Laneda Ave:geo:-123.936947,45.718587
END:VEVENT
BEGIN:VEVENT
DTSTART;TZID=America/Los_Angeles:20260214T100000
DTEND;TZID=America/Los_Angeles:20260214T160000
DTSTAMP:20260424T041909
CREATED:20251216T165900Z
LAST-MODIFIED:20260214T083843Z
UID:10008757-1771063200-1771084800@tillamookcoast.com
SUMMARY:CLAY OPEN STUDIO
DESCRIPTION:Participants can purchase clay\, plus there are a number of bisque pieces available to buy and glaze as well.  All experience levels are welcome and a Studio Host is available to answer questions and offer tips.  Children under 12 must be accompanied by an adult.  Studio fees are $2 per hour\, which includes glazing and firing up the finished product.  Clay is $2 per 1 pound section.  For more information\, contact the Clay hosts at: hoffmanclaystudio@gmail.com
URL:https://tillamookcoast.com/plan-your-trip/events/event/clay-open-studio-64/
LOCATION:Hoffman Center for the Arts\, 594 Laneda Ave\, Manzanita\, OR\, United States
CATEGORIES:Arts
GEO:45.719325;-123.931502
X-APPLE-STRUCTURED-LOCATION;VALUE=URI;X-ADDRESS=Hoffman Center for the Arts 594 Laneda Ave Manzanita OR United States;X-APPLE-RADIUS=500;X-TITLE=594 Laneda Ave:geo:-123.931502,45.719325
END:VEVENT
BEGIN:VEVENT
DTSTART;TZID=America/Los_Angeles:20260214T190000
DTEND;TZID=America/Los_Angeles:20260214T213000
DTSTAMP:20260424T041909
CREATED:20251218T180809Z
LAST-MODIFIED:20260214T083844Z
UID:10008770-1771095600-1771104600@tillamookcoast.com
SUMMARY:EVENT: Wave Steppers Square Dance
DESCRIPTION:Wave Steppers Square Dance\nSat\, June 13\, 7:00pm – 9:30pm\n107 6th St\, Garibaldi\, OR 97118\, USA\nHave an evening of square dancing fun with the Wave Steppers! Open to the public. For more information\, call Bob Allen at 503-322-3819.
URL:https://tillamookcoast.com/plan-your-trip/events/event/event-wave-steppers-square-dance-8/
LOCATION:Garibaldi Community Center 107 6th Street\, Garibaldi\, OR\, United States
CATEGORIES:Arts
GEO:45.562572;-123.900072
END:VEVENT
BEGIN:VEVENT
DTSTART;TZID=America/Los_Angeles:20260215T080000
DTEND;TZID=America/Los_Angeles:20260215T120000
DTSTAMP:20260424T041909
CREATED:20251218T180810Z
LAST-MODIFIED:20260215T084852Z
UID:10008772-1771142400-1771156800@tillamookcoast.com
SUMMARY:ARTFUL BREAKFAST\, Year-Round Fundraiser
DESCRIPTION:Great food\, cooked by great people\, for a great cause–ART!  All you can eat eggs\, pancakes\, beans\, salsa\, fruit\, coffee or tea.  $3 BCAC members\, $5 non-members.  Join today!  For more info call 503-377-9620 or www.baycityartscenter.org.
URL:https://tillamookcoast.com/plan-your-trip/events/event/artful-breakfast-year-round-fundraiser-8/
LOCATION:Bay City Arts Center\, 5th and A Streets in Bay City\, Bay City\, Oregon\, 97107\, United States
CATEGORIES:Arts
GEO:45.5224907;-123.8890767
END:VEVENT
BEGIN:VEVENT
DTSTART;TZID=America/Los_Angeles:20260215T100000
DTEND;TZID=America/Los_Angeles:20260215T130000
DTSTAMP:20260424T041909
CREATED:20251218T180809Z
LAST-MODIFIED:20260215T084852Z
UID:10008771-1771149600-1771160400@tillamookcoast.com
SUMMARY:LIFE DRAWING GROUP
DESCRIPTION:Weekly life drawing session with live model.\nModel fee collected from each participant. For address and more information call Judy: 503-368-7868\, sorrel@nehalemtel.net\,
URL:https://tillamookcoast.com/plan-your-trip/events/event/life-drawing-group-33/
LOCATION:Nehalem\, Nehalem\, OR\, United States
CATEGORIES:Arts
GEO:45.651933;-123.853529
END:VEVENT
BEGIN:VEVENT
DTSTART;TZID=America/Los_Angeles:20260217T100000
DTEND;TZID=America/Los_Angeles:20260217T160000
DTSTAMP:20260424T041909
CREATED:20251219T181420Z
LAST-MODIFIED:20260217T090607Z
UID:10008782-1771322400-1771344000@tillamookcoast.com
SUMMARY:OPEN CLAY STUDIO
DESCRIPTION:Slab roller\, potter’s wheel\, tools\, and kiln time. $2/hr. Clay available $1 for 2 lbs. 503-368-3846\, hoffmancenter@nehalemtel.net\, www.hoffmancentermanzanita.org
URL:https://tillamookcoast.com/plan-your-trip/events/event/open-clay-studio-33/
LOCATION:Hoffman Center Studios\, 594 Laneda Avenue in Manzanita\, Laneda Avenue 594\, Manzanita\, Oregon\, 97130\, United States
CATEGORIES:Arts
GEO:45.719044;-123.931327
X-APPLE-STRUCTURED-LOCATION;VALUE=URI;X-ADDRESS=Hoffman Center Studios 594 Laneda Avenue in Manzanita Laneda Avenue 594 Manzanita Oregon 97130 United States;X-APPLE-RADIUS=500;X-TITLE=Laneda Avenue 594:geo:-123.931327,45.719044
END:VEVENT
BEGIN:VEVENT
DTSTART;TZID=America/Los_Angeles:20260217T103000
DTEND;TZID=America/Los_Angeles:20260217T130000
DTSTAMP:20260424T041909
CREATED:20251219T181420Z
LAST-MODIFIED:20260217T090606Z
UID:10008783-1771324200-1771333200@tillamookcoast.com
SUMMARY:WORKSHOP:  Writing Lounge
DESCRIPTION:Bring your project or start a new one using prompts that are always available. A bit of time at the end for sharing what you’ve written.\nDid you know expressive writing is good for you !? Research says it eases\nphysical and emotional distress.\nEvery Tuesday at the Hoffman Center in Manzanita 10:30 – 1:00. Donations of\n$5 keep the lights on.\nFor more info: contact Marcia Silver marciasilver12@gmail.com
URL:https://tillamookcoast.com/plan-your-trip/events/event/workshop-writing-lounge-33/
LOCATION:Hoffman Center\, Manzanita\, OR\, United States
CATEGORIES:Arts
GEO:45.71844;-123.93514
END:VEVENT
BEGIN:VEVENT
DTSTART;TZID=America/Los_Angeles:20260218T180000
DTEND;TZID=America/Los_Angeles:20260218T193000
DTSTAMP:20260424T041909
CREATED:20251222T154356Z
LAST-MODIFIED:20260218T101615Z
UID:10008795-1771437600-1771443000@tillamookcoast.com
SUMMARY:SQUARE DANCE LESSONS
DESCRIPTION:Square Dance Lessons every Wednesday at 6pm. Learn modern Square Dancing with the Wave Steppers of Tillamook Bay. Children 9 and older welcome with an adult. For more information\, call Barb (503) 812-4126\, or Carolyn (503) 801-4044. FREE!
URL:https://tillamookcoast.com/plan-your-trip/events/event/square-dance-lessons-33/
LOCATION:Elks Lodge\, 1907 3rd St\, Tillamook\, OR\, United States
CATEGORIES:Arts
GEO:45.456251;-123.844973
X-APPLE-STRUCTURED-LOCATION;VALUE=URI;X-ADDRESS=Elks Lodge 1907 3rd St Tillamook OR United States;X-APPLE-RADIUS=500;X-TITLE=1907 3rd St:geo:-123.844973,45.456251
END:VEVENT
BEGIN:VEVENT
DTSTART;TZID=America/Los_Angeles:20260219T100000
DTEND;TZID=America/Los_Angeles:20260219T160000
DTSTAMP:20260424T041909
CREATED:20251222T154358Z
LAST-MODIFIED:20260219T122239Z
UID:10008797-1771495200-1771516800@tillamookcoast.com
SUMMARY:CLAY OPEN STUDIO
DESCRIPTION:Clay open studio.  Ages 12 and up.  $2 per hour.  Clay $1 for a two-pound block\, includes tools and firing.   For information contact 503-368-7985\, longboardmenow@nehalemtel.net\, www.hoffmancentermanzanita.org
URL:https://tillamookcoast.com/plan-your-trip/events/event/clay-open-studio-65/
LOCATION:Hoffman Center\, 594 Laneda Avenue in Manzanita\, Laneda Avenue 594\, Manzanita\, Oregon\, 97130\, United States
CATEGORIES:Arts
GEO:45.719044;-123.931327
X-APPLE-STRUCTURED-LOCATION;VALUE=URI;X-ADDRESS=Hoffman Center 594 Laneda Avenue in Manzanita Laneda Avenue 594 Manzanita Oregon 97130 United States;X-APPLE-RADIUS=500;X-TITLE=Laneda Avenue 594:geo:-123.931327,45.719044
END:VEVENT
BEGIN:VEVENT
DTSTART;TZID=America/Los_Angeles:20260219T110000
DTEND;TZID=America/Los_Angeles:20260219T120000
DTSTAMP:20260424T041909
CREATED:20251222T154356Z
LAST-MODIFIED:20260219T122240Z
UID:10008796-1771498800-1771502400@tillamookcoast.com
SUMMARY:EVENT: Monthly Glazing Show & Tell
DESCRIPTION:Monthly Glazing Show and Tell–Let’s learn from one another and increase our glazing and surface treatment confidence! Cost is regular studio fee of $2 per hour.Glaze captain Pam Jacobson will be on hand to facilitate. You are invited to bring a pot to show – either successful or not – but you must have a record of the clay body and all applied materials. This is also a great chance to bring an unglazed pot to explore ideas. For more info: http://hoffmanblog.org
URL:https://tillamookcoast.com/plan-your-trip/events/event/event-monthly-glazing-show-tell-8/
LOCATION:Hoffman Center for the Arts\, 594 Laneda Ave\, Manzanita\, OR\, United States
CATEGORIES:Arts
GEO:45.719325;-123.931502
X-APPLE-STRUCTURED-LOCATION;VALUE=URI;X-ADDRESS=Hoffman Center for the Arts 594 Laneda Ave Manzanita OR United States;X-APPLE-RADIUS=500;X-TITLE=594 Laneda Ave:geo:-123.931502,45.719325
END:VEVENT
BEGIN:VEVENT
DTSTART;TZID=America/Los_Angeles:20260219T180000
DTEND;TZID=America/Los_Angeles:20260219T200000
DTSTAMP:20260424T041909
CREATED:20251222T154358Z
LAST-MODIFIED:20260219T122240Z
UID:10008798-1771524000-1771531200@tillamookcoast.com
SUMMARY:DRAWING SESSIONS
DESCRIPTION:Bring drawing materials.  The group takes turns posing for each other.  $2 donation to cover room rental.  Contact Marilyn Burkhardt\, 503-392-3333\, artist@marilynburkhardt.com.
URL:https://tillamookcoast.com/plan-your-trip/events/event/drawing-sessions-34/
LOCATION:Nestucca High School in downtown Cloverdale\, Cloverdale\, Oregon\, 97112\, United States
CATEGORIES:Arts
GEO:45.2055135;-123.8879045
END:VEVENT
BEGIN:VEVENT
DTSTART;TZID=America/Los_Angeles:20260220T180000
DTEND;TZID=America/Los_Angeles:20260220T200000
DTSTAMP:20260424T041909
CREATED:20251223T160925Z
LAST-MODIFIED:20260220T124634Z
UID:10008802-1771610400-1771617600@tillamookcoast.com
SUMMARY:DANCE: Spirit Dance 2.0
DESCRIPTION:Join us for our weekly free-form dance celebration. Music by DJ Pranawave. 6pm warm-up and stretch. 6:15 Circle opens and dance begins. 8pm finish. Suggested donation\, $10. Free for kids!
URL:https://tillamookcoast.com/plan-your-trip/events/event/dance-spirit-dance-2-0-33/
LOCATION:Pine Grove Community Club\, 225 Laneda Ave\, Manzanita\, OR\, United States
CATEGORIES:Arts
GEO:45.718587;-123.936947
X-APPLE-STRUCTURED-LOCATION;VALUE=URI;X-ADDRESS=Pine Grove Community Club 225 Laneda Ave Manzanita OR United States;X-APPLE-RADIUS=500;X-TITLE=225 Laneda Ave:geo:-123.936947,45.718587
END:VEVENT
BEGIN:VEVENT
DTSTART;TZID=America/Los_Angeles:20260220T180000
DTEND;TZID=America/Los_Angeles:20260220T200000
DTSTAMP:20260424T041909
CREATED:20251223T160925Z
LAST-MODIFIED:20260220T124635Z
UID:10008803-1771610400-1771617600@tillamookcoast.com
SUMMARY:EVENT: Garibaldi Jam
DESCRIPTION:The Jam plays mostly old-time favorites and Country-Western standards using their complete sound system\, with the audience “cutting a rug” on the large dance floor while others sit and enjoy\, toes a-tapping.\nNo admission fee is charged\, but donations are always welcome. Come join them for an evening of fun – they always welcome good musicians.\nLocation: Garibaldi Community Hall\, 6th St. and Acacia Ave.\nDate(s): Most Fridays\nTime: 6 pm to 8 pm\nAdmission: By donation\nFor more information contact Bud & Elsie Massey at 503-801-0953
URL:https://tillamookcoast.com/plan-your-trip/events/event/event-garibaldi-jam-33/
LOCATION:Garibaldi Community Hall\, Garibaldi\, OR\, United States
CATEGORIES:Arts
GEO:45.558563;-123.921656
END:VEVENT
BEGIN:VEVENT
DTSTART;TZID=America/Los_Angeles:20260221T100000
DTEND;TZID=America/Los_Angeles:20260221T160000
DTSTAMP:20260424T041909
CREATED:20251223T160925Z
LAST-MODIFIED:20260221T125144Z
UID:10008804-1771668000-1771689600@tillamookcoast.com
SUMMARY:CLAY OPEN STUDIO
DESCRIPTION:Participants can purchase clay\, plus there are a number of bisque pieces available to buy and glaze as well.  All experience levels are welcome and a Studio Host is available to answer questions and offer tips.  Children under 12 must be accompanied by an adult.  Studio fees are $2 per hour\, which includes glazing and firing up the finished product.  Clay is $2 per 1 pound section.  For more information\, contact the Clay hosts at: hoffmanclaystudio@gmail.com
URL:https://tillamookcoast.com/plan-your-trip/events/event/clay-open-studio-66/
LOCATION:Hoffman Center for the Arts\, 594 Laneda Ave\, Manzanita\, OR\, United States
CATEGORIES:Arts
GEO:45.719325;-123.931502
X-APPLE-STRUCTURED-LOCATION;VALUE=URI;X-ADDRESS=Hoffman Center for the Arts 594 Laneda Ave Manzanita OR United States;X-APPLE-RADIUS=500;X-TITLE=594 Laneda Ave:geo:-123.931502,45.719325
END:VEVENT
END:VCALENDAR