BEGIN:VCALENDAR
VERSION:2.0
PRODID:-//Tillamook Coast - ECPv6.15.16//NONSGML v1.0//EN
CALSCALE:GREGORIAN
METHOD:PUBLISH
X-WR-CALNAME:Tillamook Coast
X-ORIGINAL-URL:https://tillamookcoast.com
X-WR-CALDESC:Events for Tillamook Coast
REFRESH-INTERVAL;VALUE=DURATION:PT1H
X-Robots-Tag:noindex
X-PUBLISHED-TTL:PT1H
BEGIN:VTIMEZONE
TZID:America/Los_Angeles
BEGIN:DAYLIGHT
TZOFFSETFROM:-0800
TZOFFSETTO:-0700
TZNAME:PDT
DTSTART:20250309T100000
END:DAYLIGHT
BEGIN:STANDARD
TZOFFSETFROM:-0700
TZOFFSETTO:-0800
TZNAME:PST
DTSTART:20251102T090000
END:STANDARD
BEGIN:DAYLIGHT
TZOFFSETFROM:-0800
TZOFFSETTO:-0700
TZNAME:PDT
DTSTART:20260308T100000
END:DAYLIGHT
BEGIN:STANDARD
TZOFFSETFROM:-0700
TZOFFSETTO:-0800
TZNAME:PST
DTSTART:20261101T090000
END:STANDARD
BEGIN:DAYLIGHT
TZOFFSETFROM:-0800
TZOFFSETTO:-0700
TZNAME:PDT
DTSTART:20270314T100000
END:DAYLIGHT
BEGIN:STANDARD
TZOFFSETFROM:-0700
TZOFFSETTO:-0800
TZNAME:PST
DTSTART:20271107T090000
END:STANDARD
END:VTIMEZONE
BEGIN:VEVENT
DTSTART;TZID=America/Los_Angeles:20260319T100000
DTEND;TZID=America/Los_Angeles:20260319T160000
DTSTAMP:20260425T090306
CREATED:20260119T231030Z
LAST-MODIFIED:20260319T213400Z
UID:10009034-1773914400-1773936000@tillamookcoast.com
SUMMARY:CLAY OPEN STUDIO
DESCRIPTION:Clay open studio.  Ages 12 and up.  $2 per hour.  Clay $1 for a two-pound block\, includes tools and firing.   For information contact 503-368-7985\, longboardmenow@nehalemtel.net\, www.hoffmancentermanzanita.org
URL:https://tillamookcoast.com/plan-your-trip/events/event/clay-open-studio-72/
LOCATION:Hoffman Center\, 594 Laneda Avenue in Manzanita\, Laneda Avenue 594\, Manzanita\, Oregon\, 97130\, United States
CATEGORIES:Arts
GEO:45.719044;-123.931327
X-APPLE-STRUCTURED-LOCATION;VALUE=URI;X-ADDRESS=Hoffman Center 594 Laneda Avenue in Manzanita Laneda Avenue 594 Manzanita Oregon 97130 United States;X-APPLE-RADIUS=500;X-TITLE=Laneda Avenue 594:geo:-123.931327,45.719044
END:VEVENT
BEGIN:VEVENT
DTSTART;TZID=America/Los_Angeles:20260319T110000
DTEND;TZID=America/Los_Angeles:20260319T120000
DTSTAMP:20260425T090306
CREATED:20260119T231029Z
LAST-MODIFIED:20260318T211851Z
UID:10009033-1773918000-1773921600@tillamookcoast.com
SUMMARY:EVENT: Monthly Glazing Show & Tell
DESCRIPTION:Monthly Glazing Show and Tell–Let’s learn from one another and increase our glazing and surface treatment confidence! Cost is regular studio fee of $2 per hour.Glaze captain Pam Jacobson will be on hand to facilitate. You are invited to bring a pot to show – either successful or not – but you must have a record of the clay body and all applied materials. This is also a great chance to bring an unglazed pot to explore ideas. For more info: http://hoffmanblog.org
URL:https://tillamookcoast.com/plan-your-trip/events/event/event-monthly-glazing-show-tell/
LOCATION:Hoffman Center for the Arts\, 594 Laneda Ave\, Manzanita\, OR\, United States
CATEGORIES:Arts
GEO:45.719325;-123.931502
X-APPLE-STRUCTURED-LOCATION;VALUE=URI;X-ADDRESS=Hoffman Center for the Arts 594 Laneda Ave Manzanita OR United States;X-APPLE-RADIUS=500;X-TITLE=594 Laneda Ave:geo:-123.931502,45.719325
END:VEVENT
BEGIN:VEVENT
DTSTART;TZID=America/Los_Angeles:20260319T180000
DTEND;TZID=America/Los_Angeles:20260319T200000
DTSTAMP:20260425T090306
CREATED:20260119T231030Z
LAST-MODIFIED:20260319T213401Z
UID:10009035-1773943200-1773950400@tillamookcoast.com
SUMMARY:DRAWING SESSIONS
DESCRIPTION:Bring drawing materials.  The group takes turns posing for each other.  $2 donation to cover room rental.  Contact Marilyn Burkhardt\, 503-392-3333\, artist@marilynburkhardt.com.
URL:https://tillamookcoast.com/plan-your-trip/events/event/drawing-sessions-37/
LOCATION:Nestucca High School in downtown Cloverdale\, Cloverdale\, Oregon\, 97112\, United States
CATEGORIES:Arts
GEO:45.2055135;-123.8879045
END:VEVENT
END:VCALENDAR