BEGIN:VCALENDAR
VERSION:2.0
PRODID:-//Tillamook Coast - ECPv6.15.16//NONSGML v1.0//EN
CALSCALE:GREGORIAN
METHOD:PUBLISH
X-WR-CALNAME:Tillamook Coast
X-ORIGINAL-URL:https://tillamookcoast.com
X-WR-CALDESC:Events for Tillamook Coast
REFRESH-INTERVAL;VALUE=DURATION:PT1H
X-Robots-Tag:noindex
X-PUBLISHED-TTL:PT1H
BEGIN:VTIMEZONE
TZID:America/Los_Angeles
BEGIN:DAYLIGHT
TZOFFSETFROM:-0800
TZOFFSETTO:-0700
TZNAME:PDT
DTSTART:20250309T100000
END:DAYLIGHT
BEGIN:STANDARD
TZOFFSETFROM:-0700
TZOFFSETTO:-0800
TZNAME:PST
DTSTART:20251102T090000
END:STANDARD
BEGIN:DAYLIGHT
TZOFFSETFROM:-0800
TZOFFSETTO:-0700
TZNAME:PDT
DTSTART:20260308T100000
END:DAYLIGHT
BEGIN:STANDARD
TZOFFSETFROM:-0700
TZOFFSETTO:-0800
TZNAME:PST
DTSTART:20261101T090000
END:STANDARD
BEGIN:DAYLIGHT
TZOFFSETFROM:-0800
TZOFFSETTO:-0700
TZNAME:PDT
DTSTART:20270314T100000
END:DAYLIGHT
BEGIN:STANDARD
TZOFFSETFROM:-0700
TZOFFSETTO:-0800
TZNAME:PST
DTSTART:20271107T090000
END:STANDARD
END:VTIMEZONE
BEGIN:VEVENT
DTSTART;TZID=America/Los_Angeles:20260602T100000
DTEND;TZID=America/Los_Angeles:20260602T160000
DTSTAMP:20260422T050526
CREATED:20260403T020608Z
LAST-MODIFIED:20260421T183245Z
UID:10009672-1780394400-1780416000@tillamookcoast.com
SUMMARY:OPEN CLAY STUDIO
DESCRIPTION:Slab roller\, potter’s wheel\, tools\, and kiln time. $2/hr. Clay available $1 for 2 lbs. 503-368-3846\, hoffmancenter@nehalemtel.net\, www.hoffmancentermanzanita.org
URL:https://tillamookcoast.com/plan-your-trip/events/event/open-clay-studio-47/
LOCATION:Hoffman Center Studios\, 594 Laneda Avenue in Manzanita\, Laneda Avenue 594\, Manzanita\, Oregon\, 97130\, United States
CATEGORIES:Arts
GEO:45.719044;-123.931327
X-APPLE-STRUCTURED-LOCATION;VALUE=URI;X-ADDRESS=Hoffman Center Studios 594 Laneda Avenue in Manzanita Laneda Avenue 594 Manzanita Oregon 97130 United States;X-APPLE-RADIUS=500;X-TITLE=Laneda Avenue 594:geo:-123.931327,45.719044
END:VEVENT
BEGIN:VEVENT
DTSTART;TZID=America/Los_Angeles:20260602T103000
DTEND;TZID=America/Los_Angeles:20260602T130000
DTSTAMP:20260422T050526
CREATED:20260403T020607Z
LAST-MODIFIED:20260421T183245Z
UID:10009671-1780396200-1780405200@tillamookcoast.com
SUMMARY:WORKSHOP:  Writing Lounge
DESCRIPTION:Bring your project or start a new one using prompts that are always available. A bit of time at the end for sharing what you’ve written.\nDid you know expressive writing is good for you !? Research says it eases\nphysical and emotional distress.\nEvery Tuesday at the Hoffman Center in Manzanita 10:30 – 1:00. Donations of\n$5 keep the lights on.\nFor more info: contact Marcia Silver marciasilver12@gmail.com
URL:https://tillamookcoast.com/plan-your-trip/events/event/workshop-writing-lounge-47/
LOCATION:Hoffman Center\, Manzanita\, OR\, United States
CATEGORIES:Arts
GEO:45.71844;-123.93514
END:VEVENT
BEGIN:VEVENT
DTSTART;TZID=America/Los_Angeles:20260603T180000
DTEND;TZID=America/Los_Angeles:20260603T193000
DTSTAMP:20260422T050526
CREATED:20260405T023625Z
LAST-MODIFIED:20260421T183245Z
UID:10009673-1780509600-1780515000@tillamookcoast.com
SUMMARY:SQUARE DANCE LESSONS
DESCRIPTION:Square Dance Lessons every Wednesday at 6pm. Learn modern Square Dancing with the Wave Steppers of Tillamook Bay. Children 9 and older welcome with an adult. For more information\, call Barb (503) 812-4126\, or Carolyn (503) 801-4044. FREE!
URL:https://tillamookcoast.com/plan-your-trip/events/event/square-dance-lessons-47/
LOCATION:Elks Lodge\, 1907 3rd St\, Tillamook\, OR\, United States
CATEGORIES:Arts
GEO:45.456251;-123.844973
X-APPLE-STRUCTURED-LOCATION;VALUE=URI;X-ADDRESS=Elks Lodge 1907 3rd St Tillamook OR United States;X-APPLE-RADIUS=500;X-TITLE=1907 3rd St:geo:-123.844973,45.456251
END:VEVENT
BEGIN:VEVENT
DTSTART;TZID=America/Los_Angeles:20260604T100000
DTEND;TZID=America/Los_Angeles:20260604T160000
DTSTAMP:20260422T050526
CREATED:20260405T023625Z
LAST-MODIFIED:20260421T183246Z
UID:10009674-1780567200-1780588800@tillamookcoast.com
SUMMARY:CLAY OPEN STUDIO
DESCRIPTION:Clay open studio.  Ages 12 and up.  $2 per hour.  Clay $1 for a two-pound block\, includes tools and firing.   For information contact 503-368-7985\, longboardmenow@nehalemtel.net\, www.hoffmancentermanzanita.org
URL:https://tillamookcoast.com/plan-your-trip/events/event/clay-open-studio-94/
LOCATION:Hoffman Center\, 594 Laneda Avenue in Manzanita\, Laneda Avenue 594\, Manzanita\, Oregon\, 97130\, United States
CATEGORIES:Arts
GEO:45.719044;-123.931327
X-APPLE-STRUCTURED-LOCATION;VALUE=URI;X-ADDRESS=Hoffman Center 594 Laneda Avenue in Manzanita Laneda Avenue 594 Manzanita Oregon 97130 United States;X-APPLE-RADIUS=500;X-TITLE=Laneda Avenue 594:geo:-123.931327,45.719044
END:VEVENT
BEGIN:VEVENT
DTSTART;TZID=America/Los_Angeles:20260604T180000
DTEND;TZID=America/Los_Angeles:20260604T200000
DTSTAMP:20260422T050526
CREATED:20260406T025135Z
LAST-MODIFIED:20260421T183246Z
UID:10009675-1780596000-1780603200@tillamookcoast.com
SUMMARY:DRAWING SESSIONS
DESCRIPTION:Bring drawing materials.  The group takes turns posing for each other.  $2 donation to cover room rental.  Contact Marilyn Burkhardt\, 503-392-3333\, artist@marilynburkhardt.com.
URL:https://tillamookcoast.com/plan-your-trip/events/event/drawing-sessions-48/
LOCATION:Nestucca High School in downtown Cloverdale\, Cloverdale\, Oregon\, 97112\, United States
CATEGORIES:Arts
GEO:45.2055135;-123.8879045
END:VEVENT
BEGIN:VEVENT
DTSTART;TZID=America/Los_Angeles:20260605T180000
DTEND;TZID=America/Los_Angeles:20260605T200000
DTSTAMP:20260422T050526
CREATED:20260407T030647Z
LAST-MODIFIED:20260421T183246Z
UID:10009676-1780682400-1780689600@tillamookcoast.com
SUMMARY:EVENT: Garibaldi Jam
DESCRIPTION:The Jam plays mostly old-time favorites and Country-Western standards using their complete sound system\, with the audience “cutting a rug” on the large dance floor while others sit and enjoy\, toes a-tapping.\nNo admission fee is charged\, but donations are always welcome. Come join them for an evening of fun – they always welcome good musicians.\nLocation: Garibaldi Community Hall\, 6th St. and Acacia Ave.\nDate(s): Most Fridays\nTime: 6 pm to 8 pm\nAdmission: By donation\nFor more information contact Bud & Elsie Massey at 503-801-0953
URL:https://tillamookcoast.com/plan-your-trip/events/event/event-garibaldi-jam-47/
LOCATION:Garibaldi Community Hall\, Garibaldi\, OR\, United States
CATEGORIES:Arts
GEO:45.558563;-123.921656
END:VEVENT
BEGIN:VEVENT
DTSTART;TZID=America/Los_Angeles:20260605T180000
DTEND;TZID=America/Los_Angeles:20260605T200000
DTSTAMP:20260422T050526
CREATED:20260407T030647Z
LAST-MODIFIED:20260421T183246Z
UID:10009677-1780682400-1780689600@tillamookcoast.com
SUMMARY:DANCE: Spirit Dance 2.0
DESCRIPTION:Join us for our weekly free-form dance celebration. Music by DJ Pranawave. 6pm warm-up and stretch. 6:15 Circle opens and dance begins. 8pm finish. Suggested donation\, $10. Free for kids!
URL:https://tillamookcoast.com/plan-your-trip/events/event/dance-spirit-dance-2-0-47/
LOCATION:Pine Grove Community Club\, 225 Laneda Ave\, Manzanita\, OR\, United States
CATEGORIES:Arts
GEO:45.718587;-123.936947
X-APPLE-STRUCTURED-LOCATION;VALUE=URI;X-ADDRESS=Pine Grove Community Club 225 Laneda Ave Manzanita OR United States;X-APPLE-RADIUS=500;X-TITLE=225 Laneda Ave:geo:-123.936947,45.718587
END:VEVENT
BEGIN:VEVENT
DTSTART;TZID=America/Los_Angeles:20260606T100000
DTEND;TZID=America/Los_Angeles:20260606T160000
DTSTAMP:20260422T050526
CREATED:20260407T030648Z
LAST-MODIFIED:20260421T183247Z
UID:10009678-1780740000-1780761600@tillamookcoast.com
SUMMARY:CLAY OPEN STUDIO
DESCRIPTION:Participants can purchase clay\, plus there are a number of bisque pieces available to buy and glaze as well.  All experience levels are welcome and a Studio Host is available to answer questions and offer tips.  Children under 12 must be accompanied by an adult.  Studio fees are $2 per hour\, which includes glazing and firing up the finished product.  Clay is $2 per 1 pound section.  For more information\, contact the Clay hosts at: hoffmanclaystudio@gmail.com
URL:https://tillamookcoast.com/plan-your-trip/events/event/clay-open-studio-95/
LOCATION:Hoffman Center for the Arts\, 594 Laneda Ave\, Manzanita\, OR\, United States
CATEGORIES:Arts
GEO:45.719325;-123.931502
X-APPLE-STRUCTURED-LOCATION;VALUE=URI;X-ADDRESS=Hoffman Center for the Arts 594 Laneda Ave Manzanita OR United States;X-APPLE-RADIUS=500;X-TITLE=594 Laneda Ave:geo:-123.931502,45.719325
END:VEVENT
BEGIN:VEVENT
DTSTART;TZID=America/Los_Angeles:20260607T100000
DTEND;TZID=America/Los_Angeles:20260607T130000
DTSTAMP:20260422T050526
CREATED:20260408T032156Z
LAST-MODIFIED:20260421T183247Z
UID:10009679-1780826400-1780837200@tillamookcoast.com
SUMMARY:LIFE DRAWING GROUP
DESCRIPTION:Weekly life drawing session with live model.\nModel fee collected from each participant. For address and more information call Judy: 503-368-7868\, sorrel@nehalemtel.net\,
URL:https://tillamookcoast.com/plan-your-trip/events/event/life-drawing-group-48/
LOCATION:Nehalem\, Nehalem\, OR\, United States
CATEGORIES:Arts
GEO:45.651933;-123.853529
END:VEVENT
BEGIN:VEVENT
DTSTART;TZID=America/Los_Angeles:20260609T100000
DTEND;TZID=America/Los_Angeles:20260609T160000
DTSTAMP:20260422T050526
CREATED:20260410T183221Z
LAST-MODIFIED:20260421T183247Z
UID:10009680-1780999200-1781020800@tillamookcoast.com
SUMMARY:OPEN CLAY STUDIO
DESCRIPTION:Slab roller\, potter’s wheel\, tools\, and kiln time. $2/hr. Clay available $1 for 2 lbs. 503-368-3846\, hoffmancenter@nehalemtel.net\, www.hoffmancentermanzanita.org
URL:https://tillamookcoast.com/plan-your-trip/events/event/open-clay-studio-48/
LOCATION:Hoffman Center Studios\, 594 Laneda Avenue in Manzanita\, Laneda Avenue 594\, Manzanita\, Oregon\, 97130\, United States
CATEGORIES:Arts
GEO:45.719044;-123.931327
X-APPLE-STRUCTURED-LOCATION;VALUE=URI;X-ADDRESS=Hoffman Center Studios 594 Laneda Avenue in Manzanita Laneda Avenue 594 Manzanita Oregon 97130 United States;X-APPLE-RADIUS=500;X-TITLE=Laneda Avenue 594:geo:-123.931327,45.719044
END:VEVENT
BEGIN:VEVENT
DTSTART;TZID=America/Los_Angeles:20260609T103000
DTEND;TZID=America/Los_Angeles:20260609T130000
DTSTAMP:20260422T050526
CREATED:20260410T183221Z
LAST-MODIFIED:20260421T183247Z
UID:10009681-1781001000-1781010000@tillamookcoast.com
SUMMARY:WORKSHOP:  Writing Lounge
DESCRIPTION:Bring your project or start a new one using prompts that are always available. A bit of time at the end for sharing what you’ve written.\nDid you know expressive writing is good for you !? Research says it eases\nphysical and emotional distress.\nEvery Tuesday at the Hoffman Center in Manzanita 10:30 – 1:00. Donations of\n$5 keep the lights on.\nFor more info: contact Marcia Silver marciasilver12@gmail.com
URL:https://tillamookcoast.com/plan-your-trip/events/event/workshop-writing-lounge-48/
LOCATION:Hoffman Center\, Manzanita\, OR\, United States
CATEGORIES:Arts
GEO:45.71844;-123.93514
END:VEVENT
BEGIN:VEVENT
DTSTART;TZID=America/Los_Angeles:20260610T180000
DTEND;TZID=America/Los_Angeles:20260610T193000
DTSTAMP:20260422T050526
CREATED:20260413T064242Z
LAST-MODIFIED:20260421T183248Z
UID:10009730-1781114400-1781119800@tillamookcoast.com
SUMMARY:SQUARE DANCE LESSONS
DESCRIPTION:Square Dance Lessons every Wednesday at 6pm. Learn modern Square Dancing with the Wave Steppers of Tillamook Bay. Children 9 and older welcome with an adult. For more information\, call Barb (503) 812-4126\, or Carolyn (503) 801-4044. FREE!
URL:https://tillamookcoast.com/plan-your-trip/events/event/square-dance-lessons-48/
LOCATION:Elks Lodge\, 1907 3rd St\, Tillamook\, OR\, United States
CATEGORIES:Arts
GEO:45.456251;-123.844973
X-APPLE-STRUCTURED-LOCATION;VALUE=URI;X-ADDRESS=Elks Lodge 1907 3rd St Tillamook OR United States;X-APPLE-RADIUS=500;X-TITLE=1907 3rd St:geo:-123.844973,45.456251
END:VEVENT
BEGIN:VEVENT
DTSTART;TZID=America/Los_Angeles:20260611T100000
DTEND;TZID=America/Los_Angeles:20260611T160000
DTSTAMP:20260422T050526
CREATED:20260413T064242Z
LAST-MODIFIED:20260421T183248Z
UID:10009731-1781172000-1781193600@tillamookcoast.com
SUMMARY:CLAY OPEN STUDIO
DESCRIPTION:Clay open studio.  Ages 12 and up.  $2 per hour.  Clay $1 for a two-pound block\, includes tools and firing.   For information contact 503-368-7985\, longboardmenow@nehalemtel.net\, www.hoffmancentermanzanita.org
URL:https://tillamookcoast.com/plan-your-trip/events/event/clay-open-studio-96/
LOCATION:Hoffman Center\, 594 Laneda Avenue in Manzanita\, Laneda Avenue 594\, Manzanita\, Oregon\, 97130\, United States
CATEGORIES:Arts
GEO:45.719044;-123.931327
X-APPLE-STRUCTURED-LOCATION;VALUE=URI;X-ADDRESS=Hoffman Center 594 Laneda Avenue in Manzanita Laneda Avenue 594 Manzanita Oregon 97130 United States;X-APPLE-RADIUS=500;X-TITLE=Laneda Avenue 594:geo:-123.931327,45.719044
END:VEVENT
BEGIN:VEVENT
DTSTART;TZID=America/Los_Angeles:20260611T180000
DTEND;TZID=America/Los_Angeles:20260611T200000
DTSTAMP:20260422T050526
CREATED:20260413T064243Z
LAST-MODIFIED:20260421T183248Z
UID:10009732-1781200800-1781208000@tillamookcoast.com
SUMMARY:DRAWING SESSIONS
DESCRIPTION:Bring drawing materials.  The group takes turns posing for each other.  $2 donation to cover room rental.  Contact Marilyn Burkhardt\, 503-392-3333\, artist@marilynburkhardt.com.
URL:https://tillamookcoast.com/plan-your-trip/events/event/drawing-sessions-49/
LOCATION:Nestucca High School in downtown Cloverdale\, Cloverdale\, Oregon\, 97112\, United States
CATEGORIES:Arts
GEO:45.2055135;-123.8879045
END:VEVENT
BEGIN:VEVENT
DTSTART;TZID=America/Los_Angeles:20260612T180000
DTEND;TZID=America/Los_Angeles:20260612T200000
DTSTAMP:20260422T050526
CREATED:20260414T183806Z
LAST-MODIFIED:20260421T183248Z
UID:10009737-1781287200-1781294400@tillamookcoast.com
SUMMARY:EVENT: Garibaldi Jam
DESCRIPTION:The Jam plays mostly old-time favorites and Country-Western standards using their complete sound system\, with the audience “cutting a rug” on the large dance floor while others sit and enjoy\, toes a-tapping.\nNo admission fee is charged\, but donations are always welcome. Come join them for an evening of fun – they always welcome good musicians.\nLocation: Garibaldi Community Hall\, 6th St. and Acacia Ave.\nDate(s): Most Fridays\nTime: 6 pm to 8 pm\nAdmission: By donation\nFor more information contact Bud & Elsie Massey at 503-801-0953
URL:https://tillamookcoast.com/plan-your-trip/events/event/event-garibaldi-jam-48/
LOCATION:Garibaldi Community Hall\, Garibaldi\, OR\, United States
CATEGORIES:Arts
GEO:45.558563;-123.921656
END:VEVENT
BEGIN:VEVENT
DTSTART;TZID=America/Los_Angeles:20260612T180000
DTEND;TZID=America/Los_Angeles:20260612T200000
DTSTAMP:20260422T050526
CREATED:20260414T183807Z
LAST-MODIFIED:20260421T183250Z
UID:10009738-1781287200-1781294400@tillamookcoast.com
SUMMARY:DANCE: Spirit Dance 2.0
DESCRIPTION:Join us for our weekly free-form dance celebration. Music by DJ Pranawave. 6pm warm-up and stretch. 6:15 Circle opens and dance begins. 8pm finish. Suggested donation\, $10. Free for kids!
URL:https://tillamookcoast.com/plan-your-trip/events/event/dance-spirit-dance-2-0-48/
LOCATION:Pine Grove Community Club\, 225 Laneda Ave\, Manzanita\, OR\, United States
CATEGORIES:Arts
GEO:45.718587;-123.936947
X-APPLE-STRUCTURED-LOCATION;VALUE=URI;X-ADDRESS=Pine Grove Community Club 225 Laneda Ave Manzanita OR United States;X-APPLE-RADIUS=500;X-TITLE=225 Laneda Ave:geo:-123.936947,45.718587
END:VEVENT
BEGIN:VEVENT
DTSTART;TZID=America/Los_Angeles:20260613T100000
DTEND;TZID=America/Los_Angeles:20260613T160000
DTSTAMP:20260422T050526
CREATED:20260414T183807Z
LAST-MODIFIED:20260421T183250Z
UID:10009739-1781344800-1781366400@tillamookcoast.com
SUMMARY:CLAY OPEN STUDIO
DESCRIPTION:Participants can purchase clay\, plus there are a number of bisque pieces available to buy and glaze as well.  All experience levels are welcome and a Studio Host is available to answer questions and offer tips.  Children under 12 must be accompanied by an adult.  Studio fees are $2 per hour\, which includes glazing and firing up the finished product.  Clay is $2 per 1 pound section.  For more information\, contact the Clay hosts at: hoffmanclaystudio@gmail.com
URL:https://tillamookcoast.com/plan-your-trip/events/event/clay-open-studio-97/
LOCATION:Hoffman Center for the Arts\, 594 Laneda Ave\, Manzanita\, OR\, United States
CATEGORIES:Arts
GEO:45.719325;-123.931502
X-APPLE-STRUCTURED-LOCATION;VALUE=URI;X-ADDRESS=Hoffman Center for the Arts 594 Laneda Ave Manzanita OR United States;X-APPLE-RADIUS=500;X-TITLE=594 Laneda Ave:geo:-123.931502,45.719325
END:VEVENT
BEGIN:VEVENT
DTSTART;TZID=America/Los_Angeles:20260613T190000
DTEND;TZID=America/Los_Angeles:20260613T213000
DTSTAMP:20260422T050526
CREATED:20260416T063822Z
LAST-MODIFIED:20260421T183250Z
UID:10009747-1781377200-1781386200@tillamookcoast.com
SUMMARY:EVENT: Wave Steppers Square Dance
DESCRIPTION:Wave Steppers Square Dance\nSat\, June 13\, 7:00pm – 9:30pm\n107 6th St\, Garibaldi\, OR 97118\, USA\nHave an evening of square dancing fun with the Wave Steppers! Open to the public. For more information\, call Bob Allen at 503-322-3819.
URL:https://tillamookcoast.com/plan-your-trip/events/event/event-wave-steppers-square-dance-11/
LOCATION:Garibaldi Community Center 107 6th Street\, Garibaldi\, OR\, United States
CATEGORIES:Arts
GEO:45.562572;-123.900072
END:VEVENT
BEGIN:VEVENT
DTSTART;TZID=America/Los_Angeles:20260614T100000
DTEND;TZID=America/Los_Angeles:20260614T130000
DTSTAMP:20260422T050526
CREATED:20260416T063822Z
LAST-MODIFIED:20260421T183250Z
UID:10009748-1781431200-1781442000@tillamookcoast.com
SUMMARY:LIFE DRAWING GROUP
DESCRIPTION:Weekly life drawing session with live model.\nModel fee collected from each participant. For address and more information call Judy: 503-368-7868\, sorrel@nehalemtel.net\,
URL:https://tillamookcoast.com/plan-your-trip/events/event/life-drawing-group-49/
LOCATION:Nehalem\, Nehalem\, OR\, United States
CATEGORIES:Arts
GEO:45.651933;-123.853529
END:VEVENT
BEGIN:VEVENT
DTSTART;TZID=America/Los_Angeles:20260616T100000
DTEND;TZID=America/Los_Angeles:20260616T160000
DTSTAMP:20260422T050526
CREATED:20260417T184030Z
LAST-MODIFIED:20260421T183251Z
UID:10009762-1781604000-1781625600@tillamookcoast.com
SUMMARY:OPEN CLAY STUDIO
DESCRIPTION:Slab roller\, potter’s wheel\, tools\, and kiln time. $2/hr. Clay available $1 for 2 lbs. 503-368-3846\, hoffmancenter@nehalemtel.net\, www.hoffmancentermanzanita.org
URL:https://tillamookcoast.com/plan-your-trip/events/event/open-clay-studio-49/
LOCATION:Hoffman Center Studios\, 594 Laneda Avenue in Manzanita\, Laneda Avenue 594\, Manzanita\, Oregon\, 97130\, United States
CATEGORIES:Arts
GEO:45.719044;-123.931327
X-APPLE-STRUCTURED-LOCATION;VALUE=URI;X-ADDRESS=Hoffman Center Studios 594 Laneda Avenue in Manzanita Laneda Avenue 594 Manzanita Oregon 97130 United States;X-APPLE-RADIUS=500;X-TITLE=Laneda Avenue 594:geo:-123.931327,45.719044
END:VEVENT
BEGIN:VEVENT
DTSTART;TZID=America/Los_Angeles:20260616T103000
DTEND;TZID=America/Los_Angeles:20260616T130000
DTSTAMP:20260422T050526
CREATED:20260417T184029Z
LAST-MODIFIED:20260421T183250Z
UID:10009761-1781605800-1781614800@tillamookcoast.com
SUMMARY:WORKSHOP:  Writing Lounge
DESCRIPTION:Bring your project or start a new one using prompts that are always available. A bit of time at the end for sharing what you’ve written.\nDid you know expressive writing is good for you !? Research says it eases\nphysical and emotional distress.\nEvery Tuesday at the Hoffman Center in Manzanita 10:30 – 1:00. Donations of\n$5 keep the lights on.\nFor more info: contact Marcia Silver marciasilver12@gmail.com
URL:https://tillamookcoast.com/plan-your-trip/events/event/workshop-writing-lounge-49/
LOCATION:Hoffman Center\, Manzanita\, OR\, United States
CATEGORIES:Arts
GEO:45.71844;-123.93514
END:VEVENT
BEGIN:VEVENT
DTSTART;TZID=America/Los_Angeles:20260617T180000
DTEND;TZID=America/Los_Angeles:20260617T193000
DTSTAMP:20260422T050526
CREATED:20260419T071043Z
LAST-MODIFIED:20260421T183251Z
UID:10009763-1781719200-1781724600@tillamookcoast.com
SUMMARY:SQUARE DANCE LESSONS
DESCRIPTION:Square Dance Lessons every Wednesday at 6pm. Learn modern Square Dancing with the Wave Steppers of Tillamook Bay. Children 9 and older welcome with an adult. For more information\, call Barb (503) 812-4126\, or Carolyn (503) 801-4044. FREE!
URL:https://tillamookcoast.com/plan-your-trip/events/event/square-dance-lessons-49/
LOCATION:Elks Lodge\, 1907 3rd St\, Tillamook\, OR\, United States
CATEGORIES:Arts
GEO:45.456251;-123.844973
X-APPLE-STRUCTURED-LOCATION;VALUE=URI;X-ADDRESS=Elks Lodge 1907 3rd St Tillamook OR United States;X-APPLE-RADIUS=500;X-TITLE=1907 3rd St:geo:-123.844973,45.456251
END:VEVENT
BEGIN:VEVENT
DTSTART;TZID=America/Los_Angeles:20260618T100000
DTEND;TZID=America/Los_Angeles:20260618T160000
DTSTAMP:20260422T050526
CREATED:20260419T071044Z
LAST-MODIFIED:20260421T183252Z
UID:10009764-1781776800-1781798400@tillamookcoast.com
SUMMARY:CLAY OPEN STUDIO
DESCRIPTION:Clay open studio.  Ages 12 and up.  $2 per hour.  Clay $1 for a two-pound block\, includes tools and firing.   For information contact 503-368-7985\, longboardmenow@nehalemtel.net\, www.hoffmancentermanzanita.org
URL:https://tillamookcoast.com/plan-your-trip/events/event/clay-open-studio-98/
LOCATION:Hoffman Center\, 594 Laneda Avenue in Manzanita\, Laneda Avenue 594\, Manzanita\, Oregon\, 97130\, United States
CATEGORIES:Arts
GEO:45.719044;-123.931327
X-APPLE-STRUCTURED-LOCATION;VALUE=URI;X-ADDRESS=Hoffman Center 594 Laneda Avenue in Manzanita Laneda Avenue 594 Manzanita Oregon 97130 United States;X-APPLE-RADIUS=500;X-TITLE=Laneda Avenue 594:geo:-123.931327,45.719044
END:VEVENT
BEGIN:VEVENT
DTSTART;TZID=America/Los_Angeles:20260618T110000
DTEND;TZID=America/Los_Angeles:20260618T120000
DTSTAMP:20260422T050526
CREATED:20260419T071045Z
LAST-MODIFIED:20260421T183251Z
UID:10009765-1781780400-1781784000@tillamookcoast.com
SUMMARY:EVENT: Monthly Glazing Show & Tell
DESCRIPTION:Monthly Glazing Show and Tell–Let’s learn from one another and increase our glazing and surface treatment confidence! Cost is regular studio fee of $2 per hour.Glaze captain Pam Jacobson will be on hand to facilitate. You are invited to bring a pot to show – either successful or not – but you must have a record of the clay body and all applied materials. This is also a great chance to bring an unglazed pot to explore ideas. For more info: http://hoffmanblog.org
URL:https://tillamookcoast.com/plan-your-trip/events/event/event-monthly-glazing-show-tell-11/
LOCATION:Hoffman Center for the Arts\, 594 Laneda Ave\, Manzanita\, OR\, United States
CATEGORIES:Arts
GEO:45.719325;-123.931502
X-APPLE-STRUCTURED-LOCATION;VALUE=URI;X-ADDRESS=Hoffman Center for the Arts 594 Laneda Ave Manzanita OR United States;X-APPLE-RADIUS=500;X-TITLE=594 Laneda Ave:geo:-123.931502,45.719325
END:VEVENT
BEGIN:VEVENT
DTSTART;TZID=America/Los_Angeles:20260618T180000
DTEND;TZID=America/Los_Angeles:20260618T200000
DTSTAMP:20260422T050526
CREATED:20260420T145757Z
LAST-MODIFIED:20260421T183252Z
UID:10009776-1781805600-1781812800@tillamookcoast.com
SUMMARY:DRAWING SESSIONS
DESCRIPTION:Bring drawing materials.  The group takes turns posing for each other.  $2 donation to cover room rental.  Contact Marilyn Burkhardt\, 503-392-3333\, artist@marilynburkhardt.com.
URL:https://tillamookcoast.com/plan-your-trip/events/event/drawing-sessions-50/
LOCATION:Nestucca High School in downtown Cloverdale\, Cloverdale\, Oregon\, 97112\, United States
CATEGORIES:Arts
GEO:45.2055135;-123.8879045
END:VEVENT
BEGIN:VEVENT
DTSTART;TZID=America/Los_Angeles:20260619T180000
DTEND;TZID=America/Los_Angeles:20260619T200000
DTSTAMP:20260422T050526
CREATED:20260421T183252Z
LAST-MODIFIED:20260421T183252Z
UID:10009784-1781892000-1781899200@tillamookcoast.com
SUMMARY:EVENT: Garibaldi Jam
DESCRIPTION:The Jam plays mostly old-time favorites and Country-Western standards using their complete sound system\, with the audience “cutting a rug” on the large dance floor while others sit and enjoy\, toes a-tapping.\nNo admission fee is charged\, but donations are always welcome. Come join them for an evening of fun – they always welcome good musicians.\nLocation: Garibaldi Community Hall\, 6th St. and Acacia Ave.\nDate(s): Most Fridays\nTime: 6 pm to 8 pm\nAdmission: By donation\nFor more information contact Bud & Elsie Massey at 503-801-0953
URL:https://tillamookcoast.com/plan-your-trip/events/event/event-garibaldi-jam-49/
LOCATION:Garibaldi Community Hall\, Garibaldi\, OR\, United States
CATEGORIES:Arts
GEO:45.558563;-123.921656
END:VEVENT
BEGIN:VEVENT
DTSTART;TZID=America/Los_Angeles:20260619T180000
DTEND;TZID=America/Los_Angeles:20260619T200000
DTSTAMP:20260422T050526
CREATED:20260421T183252Z
LAST-MODIFIED:20260421T183252Z
UID:10009785-1781892000-1781899200@tillamookcoast.com
SUMMARY:DANCE: Spirit Dance 2.0
DESCRIPTION:Join us for our weekly free-form dance celebration. Music by DJ Pranawave. 6pm warm-up and stretch. 6:15 Circle opens and dance begins. 8pm finish. Suggested donation\, $10. Free for kids!
URL:https://tillamookcoast.com/plan-your-trip/events/event/dance-spirit-dance-2-0-49/
LOCATION:Pine Grove Community Club\, 225 Laneda Ave\, Manzanita\, OR\, United States
CATEGORIES:Arts
GEO:45.718587;-123.936947
X-APPLE-STRUCTURED-LOCATION;VALUE=URI;X-ADDRESS=Pine Grove Community Club 225 Laneda Ave Manzanita OR United States;X-APPLE-RADIUS=500;X-TITLE=225 Laneda Ave:geo:-123.936947,45.718587
END:VEVENT
BEGIN:VEVENT
DTSTART;TZID=America/Los_Angeles:20260620T100000
DTEND;TZID=America/Los_Angeles:20260620T160000
DTSTAMP:20260422T050526
CREATED:20260421T183253Z
LAST-MODIFIED:20260421T183253Z
UID:10009786-1781949600-1781971200@tillamookcoast.com
SUMMARY:CLAY OPEN STUDIO
DESCRIPTION:Participants can purchase clay\, plus there are a number of bisque pieces available to buy and glaze as well.  All experience levels are welcome and a Studio Host is available to answer questions and offer tips.  Children under 12 must be accompanied by an adult.  Studio fees are $2 per hour\, which includes glazing and firing up the finished product.  Clay is $2 per 1 pound section.  For more information\, contact the Clay hosts at: hoffmanclaystudio@gmail.com
URL:https://tillamookcoast.com/plan-your-trip/events/event/clay-open-studio-99/
LOCATION:Hoffman Center for the Arts\, 594 Laneda Ave\, Manzanita\, OR\, United States
CATEGORIES:Arts
GEO:45.719325;-123.931502
X-APPLE-STRUCTURED-LOCATION;VALUE=URI;X-ADDRESS=Hoffman Center for the Arts 594 Laneda Ave Manzanita OR United States;X-APPLE-RADIUS=500;X-TITLE=594 Laneda Ave:geo:-123.931502,45.719325
END:VEVENT
END:VCALENDAR