BEGIN:VCALENDAR
VERSION:2.0
PRODID:-//Tillamook Coast - ECPv6.15.16//NONSGML v1.0//EN
CALSCALE:GREGORIAN
METHOD:PUBLISH
X-WR-CALNAME:Tillamook Coast
X-ORIGINAL-URL:https://tillamookcoast.com
X-WR-CALDESC:Events for Tillamook Coast
REFRESH-INTERVAL;VALUE=DURATION:PT1H
X-Robots-Tag:noindex
X-PUBLISHED-TTL:PT1H
BEGIN:VTIMEZONE
TZID:America/Los_Angeles
BEGIN:DAYLIGHT
TZOFFSETFROM:-0800
TZOFFSETTO:-0700
TZNAME:PDT
DTSTART:20250309T100000
END:DAYLIGHT
BEGIN:STANDARD
TZOFFSETFROM:-0700
TZOFFSETTO:-0800
TZNAME:PST
DTSTART:20251102T090000
END:STANDARD
BEGIN:DAYLIGHT
TZOFFSETFROM:-0800
TZOFFSETTO:-0700
TZNAME:PDT
DTSTART:20260308T100000
END:DAYLIGHT
BEGIN:STANDARD
TZOFFSETFROM:-0700
TZOFFSETTO:-0800
TZNAME:PST
DTSTART:20261101T090000
END:STANDARD
BEGIN:DAYLIGHT
TZOFFSETFROM:-0800
TZOFFSETTO:-0700
TZNAME:PDT
DTSTART:20270314T100000
END:DAYLIGHT
BEGIN:STANDARD
TZOFFSETFROM:-0700
TZOFFSETTO:-0800
TZNAME:PST
DTSTART:20271107T090000
END:STANDARD
END:VTIMEZONE
BEGIN:VEVENT
DTSTART;TZID=America/Los_Angeles:20260618T110000
DTEND;TZID=America/Los_Angeles:20260618T120000
DTSTAMP:20260424T025312
CREATED:20260419T071045Z
LAST-MODIFIED:20260423T063150Z
UID:10009765-1781780400-1781784000@tillamookcoast.com
SUMMARY:EVENT: Monthly Glazing Show & Tell
DESCRIPTION:Monthly Glazing Show and Tell–Let’s learn from one another and increase our glazing and surface treatment confidence! Cost is regular studio fee of $2 per hour.Glaze captain Pam Jacobson will be on hand to facilitate. You are invited to bring a pot to show – either successful or not – but you must have a record of the clay body and all applied materials. This is also a great chance to bring an unglazed pot to explore ideas. For more info: http://hoffmanblog.org
URL:https://tillamookcoast.com/plan-your-trip/events/event/event-monthly-glazing-show-tell-11/
LOCATION:Hoffman Center for the Arts\, 594 Laneda Ave\, Manzanita\, OR\, United States
CATEGORIES:Arts
GEO:45.719325;-123.931502
X-APPLE-STRUCTURED-LOCATION;VALUE=URI;X-ADDRESS=Hoffman Center for the Arts 594 Laneda Ave Manzanita OR United States;X-APPLE-RADIUS=500;X-TITLE=594 Laneda Ave:geo:-123.931502,45.719325
END:VEVENT
BEGIN:VEVENT
DTSTART;TZID=America/Los_Angeles:20260618T180000
DTEND;TZID=America/Los_Angeles:20260618T200000
DTSTAMP:20260424T025312
CREATED:20260420T145757Z
LAST-MODIFIED:20260423T063151Z
UID:10009776-1781805600-1781812800@tillamookcoast.com
SUMMARY:DRAWING SESSIONS
DESCRIPTION:Bring drawing materials.  The group takes turns posing for each other.  $2 donation to cover room rental.  Contact Marilyn Burkhardt\, 503-392-3333\, artist@marilynburkhardt.com.
URL:https://tillamookcoast.com/plan-your-trip/events/event/drawing-sessions-50/
LOCATION:Nestucca High School in downtown Cloverdale\, Cloverdale\, Oregon\, 97112\, United States
CATEGORIES:Arts
GEO:45.2055135;-123.8879045
END:VEVENT
BEGIN:VEVENT
DTSTART;TZID=America/Los_Angeles:20260619T180000
DTEND;TZID=America/Los_Angeles:20260619T200000
DTSTAMP:20260424T025312
CREATED:20260421T183252Z
LAST-MODIFIED:20260423T063151Z
UID:10009784-1781892000-1781899200@tillamookcoast.com
SUMMARY:EVENT: Garibaldi Jam
DESCRIPTION:The Jam plays mostly old-time favorites and Country-Western standards using their complete sound system\, with the audience “cutting a rug” on the large dance floor while others sit and enjoy\, toes a-tapping.\nNo admission fee is charged\, but donations are always welcome. Come join them for an evening of fun – they always welcome good musicians.\nLocation: Garibaldi Community Hall\, 6th St. and Acacia Ave.\nDate(s): Most Fridays\nTime: 6 pm to 8 pm\nAdmission: By donation\nFor more information contact Bud & Elsie Massey at 503-801-0953
URL:https://tillamookcoast.com/plan-your-trip/events/event/event-garibaldi-jam-49/
LOCATION:Garibaldi Community Hall\, Garibaldi\, OR\, United States
CATEGORIES:Arts
GEO:45.558563;-123.921656
END:VEVENT
BEGIN:VEVENT
DTSTART;TZID=America/Los_Angeles:20260619T180000
DTEND;TZID=America/Los_Angeles:20260619T200000
DTSTAMP:20260424T025312
CREATED:20260421T183252Z
LAST-MODIFIED:20260423T063151Z
UID:10009785-1781892000-1781899200@tillamookcoast.com
SUMMARY:DANCE: Spirit Dance 2.0
DESCRIPTION:Join us for our weekly free-form dance celebration. Music by DJ Pranawave. 6pm warm-up and stretch. 6:15 Circle opens and dance begins. 8pm finish. Suggested donation\, $10. Free for kids!
URL:https://tillamookcoast.com/plan-your-trip/events/event/dance-spirit-dance-2-0-49/
LOCATION:Pine Grove Community Club\, 225 Laneda Ave\, Manzanita\, OR\, United States
CATEGORIES:Arts
GEO:45.718587;-123.936947
X-APPLE-STRUCTURED-LOCATION;VALUE=URI;X-ADDRESS=Pine Grove Community Club 225 Laneda Ave Manzanita OR United States;X-APPLE-RADIUS=500;X-TITLE=225 Laneda Ave:geo:-123.936947,45.718587
END:VEVENT
BEGIN:VEVENT
DTSTART;TZID=America/Los_Angeles:20260620T100000
DTEND;TZID=America/Los_Angeles:20260620T160000
DTSTAMP:20260424T025312
CREATED:20260421T183253Z
LAST-MODIFIED:20260423T063151Z
UID:10009786-1781949600-1781971200@tillamookcoast.com
SUMMARY:CLAY OPEN STUDIO
DESCRIPTION:Participants can purchase clay\, plus there are a number of bisque pieces available to buy and glaze as well.  All experience levels are welcome and a Studio Host is available to answer questions and offer tips.  Children under 12 must be accompanied by an adult.  Studio fees are $2 per hour\, which includes glazing and firing up the finished product.  Clay is $2 per 1 pound section.  For more information\, contact the Clay hosts at: hoffmanclaystudio@gmail.com
URL:https://tillamookcoast.com/plan-your-trip/events/event/clay-open-studio-99/
LOCATION:Hoffman Center for the Arts\, 594 Laneda Ave\, Manzanita\, OR\, United States
CATEGORIES:Arts
GEO:45.719325;-123.931502
X-APPLE-STRUCTURED-LOCATION;VALUE=URI;X-ADDRESS=Hoffman Center for the Arts 594 Laneda Ave Manzanita OR United States;X-APPLE-RADIUS=500;X-TITLE=594 Laneda Ave:geo:-123.931502,45.719325
END:VEVENT
BEGIN:VEVENT
DTSTART;TZID=America/Los_Angeles:20260621T080000
DTEND;TZID=America/Los_Angeles:20260621T120000
DTSTAMP:20260424T025312
CREATED:20260423T063152Z
LAST-MODIFIED:20260423T063152Z
UID:10009788-1782028800-1782043200@tillamookcoast.com
SUMMARY:ARTFUL BREAKFAST\, Year-Round Fundraiser
DESCRIPTION:Great food\, cooked by great people\, for a great cause–ART!  All you can eat eggs\, pancakes\, beans\, salsa\, fruit\, coffee or tea.  $3 BCAC members\, $5 non-members.  Join today!  For more info call 503-377-9620 or www.baycityartscenter.org.
URL:https://tillamookcoast.com/plan-your-trip/events/event/artful-breakfast-year-round-fundraiser-11/
LOCATION:Bay City Arts Center\, 5th and A Streets in Bay City\, Bay City\, Oregon\, 97107\, United States
CATEGORIES:Arts
GEO:45.5224907;-123.8890767
END:VEVENT
BEGIN:VEVENT
DTSTART;TZID=America/Los_Angeles:20260621T100000
DTEND;TZID=America/Los_Angeles:20260621T130000
DTSTAMP:20260424T025312
CREATED:20260423T063151Z
LAST-MODIFIED:20260423T063151Z
UID:10009787-1782036000-1782046800@tillamookcoast.com
SUMMARY:LIFE DRAWING GROUP
DESCRIPTION:Weekly life drawing session with live model.\nModel fee collected from each participant. For address and more information call Judy: 503-368-7868\, sorrel@nehalemtel.net\,
URL:https://tillamookcoast.com/plan-your-trip/events/event/life-drawing-group-50/
LOCATION:Nehalem\, Nehalem\, OR\, United States
CATEGORIES:Arts
GEO:45.651933;-123.853529
END:VEVENT
END:VCALENDAR