BEGIN:VCALENDAR
VERSION:2.0
PRODID:-//Tillamook Coast - ECPv6.15.16//NONSGML v1.0//EN
CALSCALE:GREGORIAN
METHOD:PUBLISH
X-ORIGINAL-URL:https://tillamookcoast.com
X-WR-CALDESC:Events for Tillamook Coast
REFRESH-INTERVAL;VALUE=DURATION:PT1H
X-Robots-Tag:noindex
X-PUBLISHED-TTL:PT1H
BEGIN:VTIMEZONE
TZID:America/Los_Angeles
BEGIN:DAYLIGHT
TZOFFSETFROM:-0800
TZOFFSETTO:-0700
TZNAME:PDT
DTSTART:20250309T100000
END:DAYLIGHT
BEGIN:STANDARD
TZOFFSETFROM:-0700
TZOFFSETTO:-0800
TZNAME:PST
DTSTART:20251102T090000
END:STANDARD
BEGIN:DAYLIGHT
TZOFFSETFROM:-0800
TZOFFSETTO:-0700
TZNAME:PDT
DTSTART:20260308T100000
END:DAYLIGHT
BEGIN:STANDARD
TZOFFSETFROM:-0700
TZOFFSETTO:-0800
TZNAME:PST
DTSTART:20261101T090000
END:STANDARD
BEGIN:DAYLIGHT
TZOFFSETFROM:-0800
TZOFFSETTO:-0700
TZNAME:PDT
DTSTART:20270314T100000
END:DAYLIGHT
BEGIN:STANDARD
TZOFFSETFROM:-0700
TZOFFSETTO:-0800
TZNAME:PST
DTSTART:20271107T090000
END:STANDARD
END:VTIMEZONE
BEGIN:VEVENT
DTSTART;TZID=America/Los_Angeles:20260124T090000
DTEND;TZID=America/Los_Angeles:20260124T100000
DTSTAMP:20260422T140800
CREATED:20251026T113634Z
LAST-MODIFIED:20260122T235903Z
UID:10008138-1769245200-1769248800@tillamookcoast.com
SUMMARY:Yoga With Dawn
DESCRIPTION:🧘‍♀️ Yoga with Dawn – Find Your Flow! 🧘‍♂️ \nStart your day with peace\, strength\, and positive energy 🌞Join Dawn for a refreshing yoga class every: \n🗓️ Monday\, Wednesday\, Friday & Saturday🕘 9:00 AM – 10:00 AM📍 Kiawanda Community Center \nAll levels are welcome—whether you’re new to yoga or a seasoned pro\, Dawn’s calm guidance and supportive atmosphere will leave you feeling refreshed and centered. \n✨ Bring a mat\, some water\, and a smile.No registration needed—just drop in and breathe it out with us! \n#YogaWithDawn #KiawandaCommunityCenter #MorningYoga #WellnessInPacificCity #MindBodySoul
URL:https://tillamookcoast.com/plan-your-trip/events/event/yoga-with-dawn-103/
LOCATION:Kiawanda Community Center\, 34600 Cape Kiwanda Dr\, Pacific City\, OR 97135\, OR\, United States
CATEGORIES:Classes and Workshops,Community
ATTACH;FMTTYPE=image/jpeg:https://tillamookcoast.com/wp-content/uploads/2025/07/yoga-oRzciY.jpg
GEO:45.2048476;-123.9670463
X-APPLE-STRUCTURED-LOCATION;VALUE=URI;X-ADDRESS=Kiawanda Community Center 34600 Cape Kiwanda Dr Pacific City OR 97135 OR United States;X-APPLE-RADIUS=500;X-TITLE=34600 Cape Kiwanda Dr\, Pacific City\, OR 97135:geo:-123.9670463,45.2048476
END:VEVENT
BEGIN:VEVENT
DTSTART;TZID=America/Los_Angeles:20260124T100000
DTEND;TZID=America/Los_Angeles:20260124T120000
DTSTAMP:20260422T140800
CREATED:20251026T113634Z
LAST-MODIFIED:20260122T235722Z
UID:10008139-1769248800-1769256000@tillamookcoast.com
SUMMARY:Dungeons and Dragons at Tillamook Library
DESCRIPTION:Play a variety of tabletop RPGs with local storytellers at the library! Open to all!
URL:https://tillamookcoast.com/plan-your-trip/events/event/dungeons-and-dragons-at-tillamook-library-58/
LOCATION:Tillamook County Library\, 1716 3rd Street Tillamook Oregon 97141
CATEGORIES:Community
ATTACH;FMTTYPE=image/png:https://tillamookcoast.com/wp-content/uploads/2025/07/Dungeons-Dragons-2025-TM-GIMjO9.png
GEO:45.4566251;-123.846324
X-APPLE-STRUCTURED-LOCATION;VALUE=URI;X-ADDRESS=Tillamook County Library 1716 3rd Street Tillamook Oregon 97141;X-APPLE-RADIUS=500;X-TITLE=1716 3rd Street Tillamook Oregon 97141:geo:-123.846324,45.4566251
END:VEVENT
BEGIN:VEVENT
DTSTART;TZID=America/Los_Angeles:20260124T103000
DTEND;TZID=America/Los_Angeles:20260124T163000
DTSTAMP:20260422T140800
CREATED:20251026T113543Z
LAST-MODIFIED:20251103T133416Z
UID:10008135-1769250600-1769272200@tillamookcoast.com
SUMMARY:Pink Water Lily
DESCRIPTION:Enjoy the beauty of Blooming Rare Pink Waterlilies at Barview Station South of Rockaway Beach\, Oregon.\nWaterlilies are symbolic of rebirth because the flowers close at night (about 4:00pm) and come back in the morning (about 9:30 am). The waterlily is also seen as a sign of enlightenment because the flowers are rising out of the mud.\nThe beautiful Pink Color of the water lily symbolizes joy and friendship.\nVisit us Thursday- Sunday 10:30-4:30 to photograph\, paint or view these beautiful flowers.\nAlso visit the on site Barview Station Gift Shop  for Pink Water Lily Art\, Gifts and Souvenirs.
URL:https://tillamookcoast.com/plan-your-trip/events/event/pink-water-lily-200/
LOCATION:Barview Station\, 15630 Hwy 101 Rockaway Beach\, OR. 97136
CATEGORIES:Community,Education
ATTACH;FMTTYPE=image/jpeg:https://tillamookcoast.com/wp-content/uploads/2025/06/IMG_9571-bHidUs.jpg
GEO:45.5706011;-123.9431155
X-APPLE-STRUCTURED-LOCATION;VALUE=URI;X-ADDRESS=Barview Station 15630 Hwy 101 Rockaway Beach OR. 97136;X-APPLE-RADIUS=500;X-TITLE=15630 Hwy 101 Rockaway Beach\, OR. 97136:geo:-123.9431155,45.5706011
END:VEVENT
BEGIN:VEVENT
DTSTART;TZID=America/Los_Angeles:20260124T140000
DTEND;TZID=America/Los_Angeles:20260124T170000
DTSTAMP:20260422T140800
CREATED:20251026T113544Z
LAST-MODIFIED:20260122T235722Z
UID:10008136-1769263200-1769274000@tillamookcoast.com
SUMMARY:Maker Saturday at the Bay City Library
DESCRIPTION:Join us at the Bay City Branch Library on the 3rd Saturday of the month at 2:00pm and 5:00pm for Maker Saturday! Bring a project you have been working on or come and be inspired by the supplies we have. \nDo you have a new model or a LEGO kit you’ve been meaning to work on? Is there a painting or craft you’ve been wanting to start and/or finish? Are you looking for a place to get away for a while to work on your project? \nWe can help! Please note\, supplies are limited.
URL:https://tillamookcoast.com/plan-your-trip/events/event/maker-saturday-at-the-bay-city-library-29/
LOCATION:Bay City Library\, 5525 B St\, Bay City\, OR
CATEGORIES:Community
ATTACH;FMTTYPE=image/png:https://tillamookcoast.com/wp-content/uploads/2025/03/maker_saturdays-swH1cv.tmp_.png
GEO:45.5243851;-123.8908552
X-APPLE-STRUCTURED-LOCATION;VALUE=URI;X-ADDRESS=Bay City Library 5525 B St Bay City OR;X-APPLE-RADIUS=500;X-TITLE=5525 B St\, Bay City\, OR:geo:-123.8908552,45.5243851
END:VEVENT
END:VCALENDAR