BEGIN:VCALENDAR
VERSION:2.0
PRODID:-//Tillamook Coast - ECPv6.15.16//NONSGML v1.0//EN
CALSCALE:GREGORIAN
METHOD:PUBLISH
X-ORIGINAL-URL:https://tillamookcoast.com
X-WR-CALDESC:Events for Tillamook Coast
REFRESH-INTERVAL;VALUE=DURATION:PT1H
X-Robots-Tag:noindex
X-PUBLISHED-TTL:PT1H
BEGIN:VTIMEZONE
TZID:America/Los_Angeles
BEGIN:DAYLIGHT
TZOFFSETFROM:-0800
TZOFFSETTO:-0700
TZNAME:PDT
DTSTART:20250309T100000
END:DAYLIGHT
BEGIN:STANDARD
TZOFFSETFROM:-0700
TZOFFSETTO:-0800
TZNAME:PST
DTSTART:20251102T090000
END:STANDARD
BEGIN:DAYLIGHT
TZOFFSETFROM:-0800
TZOFFSETTO:-0700
TZNAME:PDT
DTSTART:20260308T100000
END:DAYLIGHT
BEGIN:STANDARD
TZOFFSETFROM:-0700
TZOFFSETTO:-0800
TZNAME:PST
DTSTART:20261101T090000
END:STANDARD
BEGIN:DAYLIGHT
TZOFFSETFROM:-0800
TZOFFSETTO:-0700
TZNAME:PDT
DTSTART:20270314T100000
END:DAYLIGHT
BEGIN:STANDARD
TZOFFSETFROM:-0700
TZOFFSETTO:-0800
TZNAME:PST
DTSTART:20271107T090000
END:STANDARD
END:VTIMEZONE
BEGIN:VEVENT
DTSTART;TZID=America/Los_Angeles:20260127T100000
DTEND;TZID=America/Los_Angeles:20260127T150000
DTSTAMP:20260422T113609
CREATED:20251029T122220Z
LAST-MODIFIED:20260127T175117Z
UID:10008187-1769508000-1769526000@tillamookcoast.com
SUMMARY:Tuesday Stitchers
DESCRIPTION:Come and be a part of a community of people who love to make things for others\, and in turn make friends within the group. All levels are welcome. \nJoin us at the Kiawanda Community Center on Tuesdays from 10 AM to 3 PM in the Great Hall. \nFirst Monday every month from 4 to 9 PM. \nCall (503) 965-7900 for more details | $6 admission
URL:https://tillamookcoast.com/plan-your-trip/events/event/tuesday-stitchers-25/
LOCATION:Kiawanda Community Center\, 34600 Cape Kiwanda Dr\, Pacific City\, OR 97135\, OR\, United States
CATEGORIES:Classes and Workshops,Community
ATTACH;FMTTYPE=image/png:https://tillamookcoast.com/wp-content/uploads/2024/10/Tuesday-Stitchers-Group-Flyer-C0pwow.tmp_.png
GEO:45.2048476;-123.9670463
X-APPLE-STRUCTURED-LOCATION;VALUE=URI;X-ADDRESS=Kiawanda Community Center 34600 Cape Kiwanda Dr Pacific City OR 97135 OR United States;X-APPLE-RADIUS=500;X-TITLE=34600 Cape Kiwanda Dr\, Pacific City\, OR 97135:geo:-123.9670463,45.2048476
END:VEVENT
BEGIN:VEVENT
DTSTART;TZID=America/Los_Angeles:20260127T103000
DTEND;TZID=America/Los_Angeles:20260127T163000
DTSTAMP:20260422T113609
CREATED:20251029T122128Z
LAST-MODIFIED:20251103T133417Z
UID:10008182-1769509800-1769531400@tillamookcoast.com
SUMMARY:Pink Water Lily
DESCRIPTION:Enjoy the beauty of Blooming Rare Pink Waterlilies at Barview Station South of Rockaway Beach\, Oregon.\nWaterlilies are symbolic of rebirth because the flowers close at night (about 4:00pm) and come back in the morning (about 9:30 am). The waterlily is also seen as a sign of enlightenment because the flowers are rising out of the mud.\nThe beautiful Pink Color of the water lily symbolizes joy and friendship.\nVisit us Thursday- Sunday 10:30-4:30 to photograph\, paint or view these beautiful flowers.\nAlso visit the on site Barview Station Gift Shop  for Pink Water Lily Art\, Gifts and Souvenirs.
URL:https://tillamookcoast.com/plan-your-trip/events/event/pink-water-lily-203/
LOCATION:Barview Station\, 15630 Hwy 101 Rockaway Beach\, OR. 97136
CATEGORIES:Community,Education
ATTACH;FMTTYPE=image/jpeg:https://tillamookcoast.com/wp-content/uploads/2025/06/IMG_9571-bHidUs.jpg
GEO:45.5706011;-123.9431155
X-APPLE-STRUCTURED-LOCATION;VALUE=URI;X-ADDRESS=Barview Station 15630 Hwy 101 Rockaway Beach OR. 97136;X-APPLE-RADIUS=500;X-TITLE=15630 Hwy 101 Rockaway Beach\, OR. 97136:geo:-123.9431155,45.5706011
END:VEVENT
BEGIN:VEVENT
DTSTART;TZID=America/Los_Angeles:20260127T113000
DTEND;TZID=America/Los_Angeles:20260127T123000
DTSTAMP:20260422T113609
CREATED:20251029T122220Z
LAST-MODIFIED:20260127T175118Z
UID:10008184-1769513400-1769517000@tillamookcoast.com
SUMMARY:Senior Meals
DESCRIPTION:Senior Lunches are served at 11:30 am on Tuesdays and Wednesdays for $3 and others may attend for $6.
URL:https://tillamookcoast.com/plan-your-trip/events/event/senior-meals-25/
LOCATION:Kiawanda Community Center\, 34600 Cape Kiwanda Dr\, Pacific City\, OR 97135\, OR\, United States
CATEGORIES:Community
ATTACH;FMTTYPE=image/png:https://tillamookcoast.com/wp-content/uploads/2024/08/Senior-Meals-bmZJeV.tmp_.png
GEO:45.2048476;-123.9670463
X-APPLE-STRUCTURED-LOCATION;VALUE=URI;X-ADDRESS=Kiawanda Community Center 34600 Cape Kiwanda Dr Pacific City OR 97135 OR United States;X-APPLE-RADIUS=500;X-TITLE=34600 Cape Kiwanda Dr\, Pacific City\, OR 97135:geo:-123.9670463,45.2048476
END:VEVENT
BEGIN:VEVENT
DTSTART;TZID=America/Los_Angeles:20260127T113000
DTEND;TZID=America/Los_Angeles:20260127T123000
DTSTAMP:20260422T113609
CREATED:20251231T191446Z
LAST-MODIFIED:20260127T175119Z
UID:10008862-1769513400-1769517000@tillamookcoast.com
SUMMARY:Senior Meals Tuesday & Wednesday
DESCRIPTION:🍽️ Senior Meals at the Kiawanda Community Center 🍽️ \nJoin us every Tuesday and Wednesday at 11:30 AM for delicious\, nutritious senior meals at the Kiawanda Community Center!\nCome enjoy great food and even better company in a warm and welcoming atmosphere. \n✨ Who: Seniors & community members\n📍 Where: Kiawanda Community Center\n📅 When: Every Tuesday & Wednesday\n⏰ Time: 11:30 AM \nBring a friend\, make new ones\, and enjoy a healthy midday meal! ❤️ \nFor more information\, call the Kiawanda Community Center.
URL:https://tillamookcoast.com/plan-your-trip/events/event/senior-meals-tuesday-wednesday-8/
LOCATION:Kiawanda Community Center\, 34600 Cape Kiwanda Dr\, Pacific City\, OR 97135\, OR\, United States
CATEGORIES:Community
ATTACH;FMTTYPE=image/png:https://tillamookcoast.com/wp-content/uploads/2025/12/Brown-Orange-Modern-Food-Price-Instagram-Post-Invitation-portrait-a9KvXm.png
GEO:45.2048476;-123.9670463
X-APPLE-STRUCTURED-LOCATION;VALUE=URI;X-ADDRESS=Kiawanda Community Center 34600 Cape Kiwanda Dr Pacific City OR 97135 OR United States;X-APPLE-RADIUS=500;X-TITLE=34600 Cape Kiwanda Dr\, Pacific City\, OR 97135:geo:-123.9670463,45.2048476
END:VEVENT
BEGIN:VEVENT
DTSTART;TZID=America/Los_Angeles:20260127T140000
DTEND;TZID=America/Los_Angeles:20260127T160000
DTSTAMP:20260422T113609
CREATED:20251029T122129Z
LAST-MODIFIED:20260127T174918Z
UID:10008183-1769522400-1769529600@tillamookcoast.com
SUMMARY:Drop In Tech Help at Manzanita Library
DESCRIPTION:Get help with smartphones\, tablets\, laptops\, and more in an informal Q&A setting at the Manzanita library every 4th Tuesday 2-4 pm!
URL:https://tillamookcoast.com/plan-your-trip/events/event/drop-in-tech-help-at-manzanita-library-4/
LOCATION:Manzanita Library\, 571 Laneda Ave Manzanita OR
CATEGORIES:Community
ATTACH;FMTTYPE=image/png:https://tillamookcoast.com/wp-content/uploads/2025/09/Drop-In-Tech-Help-TZ-OPIYTD.png
GEO:45.7194514;-123.9317481
X-APPLE-STRUCTURED-LOCATION;VALUE=URI;X-ADDRESS=Manzanita Library 571 Laneda Ave Manzanita OR;X-APPLE-RADIUS=500;X-TITLE=571 Laneda Ave Manzanita OR:geo:-123.9317481,45.7194514
END:VEVENT
BEGIN:VEVENT
DTSTART;TZID=America/Los_Angeles:20260127T180000
DTEND;TZID=America/Los_Angeles:20260127T200000
DTSTAMP:20260422T113609
CREATED:20251209T174226Z
LAST-MODIFIED:20260127T174919Z
UID:10008707-1769536800-1769544000@tillamookcoast.com
SUMMARY:Bingo at Pelican Brewing- Tillamook Taproom
DESCRIPTION:Join the community for bingo night every Tuesday! Enjoy good company\, great beer\, and a chance to win cool prizes.
URL:https://tillamookcoast.com/plan-your-trip/events/event/bingo-at-pelican-brewing-tillamook-taproom-8/
LOCATION:Pelican Brewing- Tillamook Taproom\, 1708 1st St Tillamook\, OR 97141
CATEGORIES:Community
ATTACH;FMTTYPE=image/jpeg:https://tillamookcoast.com/wp-content/uploads/2025/12/Bingo-f5po8V.jpg
END:VEVENT
BEGIN:VEVENT
DTSTART;TZID=America/Los_Angeles:20260127T180000
DTEND;TZID=America/Los_Angeles:20260127T210000
DTSTAMP:20260422T113609
CREATED:20251208T170648Z
LAST-MODIFIED:20260127T174918Z
UID:10008661-1769536800-1769547600@tillamookcoast.com
SUMMARY:Trivia at Pelican Brewing- Pacific City
DESCRIPTION:Join us for trivia night every Tuesday! Win cool prizes and show your knowledge. Blackout dates apply.
URL:https://tillamookcoast.com/plan-your-trip/events/event/trivia-at-pelican-brewing-pacific-city-8/
LOCATION:Pelican Brewing Company\, 33180 Cape Kiwanda Drive
CATEGORIES:Community
ATTACH;FMTTYPE=image/jpeg:https://tillamookcoast.com/wp-content/uploads/2025/12/TRivia-QC2tAN.jpg
GEO:45.2151367;-123.9705111
X-APPLE-STRUCTURED-LOCATION;VALUE=URI;X-ADDRESS=Pelican Brewing Company 33180 Cape Kiwanda Drive;X-APPLE-RADIUS=500;X-TITLE=33180 Cape Kiwanda Drive:geo:-123.9705111,45.2151367
END:VEVENT
END:VCALENDAR