BEGIN:VCALENDAR
VERSION:2.0
PRODID:-//Tillamook Coast - ECPv6.15.16//NONSGML v1.0//EN
CALSCALE:GREGORIAN
METHOD:PUBLISH
X-WR-CALNAME:Tillamook Coast
X-ORIGINAL-URL:https://tillamookcoast.com
X-WR-CALDESC:Events for Tillamook Coast
REFRESH-INTERVAL;VALUE=DURATION:PT1H
X-Robots-Tag:noindex
X-PUBLISHED-TTL:PT1H
BEGIN:VTIMEZONE
TZID:America/Los_Angeles
BEGIN:DAYLIGHT
TZOFFSETFROM:-0800
TZOFFSETTO:-0700
TZNAME:PDT
DTSTART:20250309T100000
END:DAYLIGHT
BEGIN:STANDARD
TZOFFSETFROM:-0700
TZOFFSETTO:-0800
TZNAME:PST
DTSTART:20251102T090000
END:STANDARD
BEGIN:DAYLIGHT
TZOFFSETFROM:-0800
TZOFFSETTO:-0700
TZNAME:PDT
DTSTART:20260308T100000
END:DAYLIGHT
BEGIN:STANDARD
TZOFFSETFROM:-0700
TZOFFSETTO:-0800
TZNAME:PST
DTSTART:20261101T090000
END:STANDARD
BEGIN:DAYLIGHT
TZOFFSETFROM:-0800
TZOFFSETTO:-0700
TZNAME:PDT
DTSTART:20270314T100000
END:DAYLIGHT
BEGIN:STANDARD
TZOFFSETFROM:-0700
TZOFFSETTO:-0800
TZNAME:PST
DTSTART:20271107T090000
END:STANDARD
END:VTIMEZONE
BEGIN:VEVENT
DTSTART;TZID=America/Los_Angeles:20260131T090000
DTEND;TZID=America/Los_Angeles:20260131T100000
DTSTAMP:20260422T113742
CREATED:20251102T132423Z
LAST-MODIFIED:20260131T234236Z
UID:10008217-1769850000-1769853600@tillamookcoast.com
SUMMARY:Yoga With Dawn
DESCRIPTION:🧘‍♀️ Yoga with Dawn – Find Your Flow! 🧘‍♂️ \nStart your day with peace\, strength\, and positive energy 🌞Join Dawn for a refreshing yoga class every: \n🗓️ Monday\, Wednesday\, Friday & Saturday🕘 9:00 AM – 10:00 AM📍 Kiawanda Community Center \nAll levels are welcome—whether you’re new to yoga or a seasoned pro\, Dawn’s calm guidance and supportive atmosphere will leave you feeling refreshed and centered. \n✨ Bring a mat\, some water\, and a smile.No registration needed—just drop in and breathe it out with us! \n#YogaWithDawn #KiawandaCommunityCenter #MorningYoga #WellnessInPacificCity #MindBodySoul
URL:https://tillamookcoast.com/plan-your-trip/events/event/yoga-with-dawn-106/
LOCATION:Kiawanda Community Center\, 34600 Cape Kiwanda Dr\, Pacific City\, OR 97135\, OR\, United States
CATEGORIES:Classes and Workshops,Community
ATTACH;FMTTYPE=image/jpeg:https://tillamookcoast.com/wp-content/uploads/2025/07/yoga-oRzciY.jpg
GEO:45.2048476;-123.9670463
X-APPLE-STRUCTURED-LOCATION;VALUE=URI;X-ADDRESS=Kiawanda Community Center 34600 Cape Kiwanda Dr Pacific City OR 97135 OR United States;X-APPLE-RADIUS=500;X-TITLE=34600 Cape Kiwanda Dr\, Pacific City\, OR 97135:geo:-123.9670463,45.2048476
END:VEVENT
BEGIN:VEVENT
DTSTART;TZID=America/Los_Angeles:20260131T100000
DTEND;TZID=America/Los_Angeles:20260131T120000
DTSTAMP:20260422T113742
CREATED:20251102T132424Z
LAST-MODIFIED:20260131T234238Z
UID:10008218-1769853600-1769860800@tillamookcoast.com
SUMMARY:Dungeons and Dragons at Tillamook Library
DESCRIPTION:Play a variety of tabletop RPGs with local storytellers at the library! Open to all!
URL:https://tillamookcoast.com/plan-your-trip/events/event/dungeons-and-dragons-at-tillamook-library-60/
LOCATION:Tillamook County Library\, 1716 3rd Street Tillamook Oregon 97141
CATEGORIES:Community
ATTACH;FMTTYPE=image/png:https://tillamookcoast.com/wp-content/uploads/2025/07/Dungeons-Dragons-2025-TM-GIMjO9.png
GEO:45.4566251;-123.846324
X-APPLE-STRUCTURED-LOCATION;VALUE=URI;X-ADDRESS=Tillamook County Library 1716 3rd Street Tillamook Oregon 97141;X-APPLE-RADIUS=500;X-TITLE=1716 3rd Street Tillamook Oregon 97141:geo:-123.846324,45.4566251
END:VEVENT
BEGIN:VEVENT
DTSTART;TZID=America/Los_Angeles:20260131T103000
DTEND;TZID=America/Los_Angeles:20260131T123000
DTSTAMP:20260422T113742
CREATED:20260122T235728Z
LAST-MODIFIED:20260131T234238Z
UID:10009053-1769855400-1769862600@tillamookcoast.com
SUMMARY:Shakespeare Seminar at Pacific City Library
DESCRIPTION:Dive into Shakespeare’s Twelfth Night with Lori Lucas at Pacific City Library! \nJanuary 31st 10:30 am \nFebruary 2nd 10:30 am
URL:https://tillamookcoast.com/plan-your-trip/events/event/shakespeare-seminar-at-pacific-city-library/
LOCATION:Pacific City Library\, 6200 Camp St Pacific City\, OR
CATEGORIES:Community
GEO:45.2050261;-123.9606441
X-APPLE-STRUCTURED-LOCATION;VALUE=URI;X-ADDRESS=Pacific City Library 6200 Camp St Pacific City OR;X-APPLE-RADIUS=500;X-TITLE=6200 Camp St Pacific City\, OR:geo:-123.9606441,45.2050261
END:VEVENT
BEGIN:VEVENT
DTSTART;TZID=America/Los_Angeles:20260131T103000
DTEND;TZID=America/Los_Angeles:20260131T163000
DTSTAMP:20260422T113742
CREATED:20251102T132327Z
LAST-MODIFIED:20251103T133419Z
UID:10008214-1769855400-1769877000@tillamookcoast.com
SUMMARY:Pink Water Lily
DESCRIPTION:Enjoy the beauty of Blooming Rare Pink Waterlilies at Barview Station South of Rockaway Beach\, Oregon.\nWaterlilies are symbolic of rebirth because the flowers close at night (about 4:00pm) and come back in the morning (about 9:30 am). The waterlily is also seen as a sign of enlightenment because the flowers are rising out of the mud.\nThe beautiful Pink Color of the water lily symbolizes joy and friendship.\nVisit us Thursday- Sunday 10:30-4:30 to photograph\, paint or view these beautiful flowers.\nAlso visit the on site Barview Station Gift Shop  for Pink Water Lily Art\, Gifts and Souvenirs.
URL:https://tillamookcoast.com/plan-your-trip/events/event/pink-water-lily-207/
LOCATION:Barview Station\, 15630 Hwy 101 Rockaway Beach\, OR. 97136
CATEGORIES:Community,Education
ATTACH;FMTTYPE=image/jpeg:https://tillamookcoast.com/wp-content/uploads/2025/06/IMG_9571-bHidUs.jpg
GEO:45.5706011;-123.9431155
X-APPLE-STRUCTURED-LOCATION;VALUE=URI;X-ADDRESS=Barview Station 15630 Hwy 101 Rockaway Beach OR. 97136;X-APPLE-RADIUS=500;X-TITLE=15630 Hwy 101 Rockaway Beach\, OR. 97136:geo:-123.9431155,45.5706011
END:VEVENT
BEGIN:VEVENT
DTSTART;TZID=America/Los_Angeles:20260131T140000
DTEND;TZID=America/Los_Angeles:20260131T170000
DTSTAMP:20260422T113742
CREATED:20251102T132327Z
LAST-MODIFIED:20260131T234239Z
UID:10008215-1769868000-1769878800@tillamookcoast.com
SUMMARY:Maker Saturday at the Bay City Library
DESCRIPTION:Join us at the Bay City Branch Library on the 3rd Saturday of the month at 2:00pm and 5:00pm for Maker Saturday! Bring a project you have been working on or come and be inspired by the supplies we have. \nDo you have a new model or a LEGO kit you’ve been meaning to work on? Is there a painting or craft you’ve been wanting to start and/or finish? Are you looking for a place to get away for a while to work on your project? \nWe can help! Please note\, supplies are limited.
URL:https://tillamookcoast.com/plan-your-trip/events/event/maker-saturday-at-the-bay-city-library-30/
LOCATION:Bay City Library\, 5525 B St\, Bay City\, OR
CATEGORIES:Community
ATTACH;FMTTYPE=image/png:https://tillamookcoast.com/wp-content/uploads/2025/03/maker_saturdays-swH1cv.tmp_.png
GEO:45.5243851;-123.8908552
X-APPLE-STRUCTURED-LOCATION;VALUE=URI;X-ADDRESS=Bay City Library 5525 B St Bay City OR;X-APPLE-RADIUS=500;X-TITLE=5525 B St\, Bay City\, OR:geo:-123.8908552,45.5243851
END:VEVENT
BEGIN:VEVENT
DTSTART;TZID=America/Los_Angeles:20260131T190000
DTEND;TZID=America/Los_Angeles:20260131T200000
DTSTAMP:20260422T113742
CREATED:20260107T171840Z
LAST-MODIFIED:20260131T234410Z
UID:10008931-1769886000-1769889600@tillamookcoast.com
SUMMARY:Line Dancing
DESCRIPTION:🕺💃 Kick Up Your Heels at Line Dancing! 💃🕺Looking for a fun way to move\, groove\, and connect with your community? Join us for Line Dancing at the Kiawanda Community Center! Our line dancing class is full of energy\, laughter\, and easy-to-follow steps that make it perfect for beginners and seasoned dancers alike. No partner needed\, just bring your enthusiasm and get ready to dance to great music\, learn new routines\, and have a blast while staying active. 🎶✨ \nCome dance\, smile\, and make new friends\, because every step is more fun together!
URL:https://tillamookcoast.com/plan-your-trip/events/event/line-dancing-2/
LOCATION:Kiawanda Community Center\, 34600 Cape Kiwanda Dr\, Pacific City\, OR 97135\, OR\, United States
CATEGORIES:Classes and Workshops,Community
ATTACH;FMTTYPE=image/jpeg:https://tillamookcoast.com/wp-content/uploads/2026/01/1000009175-Zb9zvb.jpg
GEO:45.2048476;-123.9670463
X-APPLE-STRUCTURED-LOCATION;VALUE=URI;X-ADDRESS=Kiawanda Community Center 34600 Cape Kiwanda Dr Pacific City OR 97135 OR United States;X-APPLE-RADIUS=500;X-TITLE=34600 Cape Kiwanda Dr\, Pacific City\, OR 97135:geo:-123.9670463,45.2048476
END:VEVENT
END:VCALENDAR