BEGIN:VCALENDAR
VERSION:2.0
PRODID:-//Tillamook Coast - ECPv6.15.16//NONSGML v1.0//EN
CALSCALE:GREGORIAN
METHOD:PUBLISH
X-ORIGINAL-URL:https://tillamookcoast.com
X-WR-CALDESC:Events for Tillamook Coast
REFRESH-INTERVAL;VALUE=DURATION:PT1H
X-Robots-Tag:noindex
X-PUBLISHED-TTL:PT1H
BEGIN:VTIMEZONE
TZID:America/Los_Angeles
BEGIN:DAYLIGHT
TZOFFSETFROM:-0800
TZOFFSETTO:-0700
TZNAME:PDT
DTSTART:20250309T100000
END:DAYLIGHT
BEGIN:STANDARD
TZOFFSETFROM:-0700
TZOFFSETTO:-0800
TZNAME:PST
DTSTART:20251102T090000
END:STANDARD
BEGIN:DAYLIGHT
TZOFFSETFROM:-0800
TZOFFSETTO:-0700
TZNAME:PDT
DTSTART:20260308T100000
END:DAYLIGHT
BEGIN:STANDARD
TZOFFSETFROM:-0700
TZOFFSETTO:-0800
TZNAME:PST
DTSTART:20261101T090000
END:STANDARD
BEGIN:DAYLIGHT
TZOFFSETFROM:-0800
TZOFFSETTO:-0700
TZNAME:PDT
DTSTART:20270314T100000
END:DAYLIGHT
BEGIN:STANDARD
TZOFFSETFROM:-0700
TZOFFSETTO:-0800
TZNAME:PST
DTSTART:20271107T090000
END:STANDARD
END:VTIMEZONE
BEGIN:VEVENT
DTSTART;TZID=America/Los_Angeles:20260203T100000
DTEND;TZID=America/Los_Angeles:20260203T150000
DTSTAMP:20260422T103123
CREATED:20251105T135539Z
LAST-MODIFIED:20260203T090539Z
UID:10008234-1770112800-1770130800@tillamookcoast.com
SUMMARY:Tuesday Stitchers
DESCRIPTION:Come and be a part of a community of people who love to make things for others\, and in turn make friends within the group. All levels are welcome. \nJoin us at the Kiawanda Community Center on Tuesdays from 10 AM to 3 PM in the Great Hall. \nFirst Monday every month from 4 to 9 PM. \nCall (503) 965-7900 for more details | $6 admission
URL:https://tillamookcoast.com/plan-your-trip/events/event/tuesday-stitchers-26/
LOCATION:Kiawanda Community Center\, 34600 Cape Kiwanda Dr\, Pacific City\, OR 97135\, OR\, United States
CATEGORIES:Classes and Workshops,Community
ATTACH;FMTTYPE=image/png:https://tillamookcoast.com/wp-content/uploads/2024/10/Tuesday-Stitchers-Group-Flyer-C0pwow.tmp_.png
GEO:45.2048476;-123.9670463
X-APPLE-STRUCTURED-LOCATION;VALUE=URI;X-ADDRESS=Kiawanda Community Center 34600 Cape Kiwanda Dr Pacific City OR 97135 OR United States;X-APPLE-RADIUS=500;X-TITLE=34600 Cape Kiwanda Dr\, Pacific City\, OR 97135:geo:-123.9670463,45.2048476
END:VEVENT
BEGIN:VEVENT
DTSTART;TZID=America/Los_Angeles:20260203T113000
DTEND;TZID=America/Los_Angeles:20260203T123000
DTSTAMP:20260422T103123
CREATED:20251105T135539Z
LAST-MODIFIED:20260203T090540Z
UID:10008235-1770118200-1770121800@tillamookcoast.com
SUMMARY:Senior Meals
DESCRIPTION:Senior Lunches are served at 11:30 am on Tuesdays and Wednesdays for $3 and others may attend for $6.
URL:https://tillamookcoast.com/plan-your-trip/events/event/senior-meals-26/
LOCATION:Kiawanda Community Center\, 34600 Cape Kiwanda Dr\, Pacific City\, OR 97135\, OR\, United States
CATEGORIES:Community
ATTACH;FMTTYPE=image/png:https://tillamookcoast.com/wp-content/uploads/2024/08/Senior-Meals-bmZJeV.tmp_.png
GEO:45.2048476;-123.9670463
X-APPLE-STRUCTURED-LOCATION;VALUE=URI;X-ADDRESS=Kiawanda Community Center 34600 Cape Kiwanda Dr Pacific City OR 97135 OR United States;X-APPLE-RADIUS=500;X-TITLE=34600 Cape Kiwanda Dr\, Pacific City\, OR 97135:geo:-123.9670463,45.2048476
END:VEVENT
BEGIN:VEVENT
DTSTART;TZID=America/Los_Angeles:20260203T113000
DTEND;TZID=America/Los_Angeles:20260203T123000
DTSTAMP:20260422T103123
CREATED:20251231T191451Z
LAST-MODIFIED:20260203T090541Z
UID:10008864-1770118200-1770121800@tillamookcoast.com
SUMMARY:Senior Meals Tuesday & Wednesday
DESCRIPTION:🍽️ Senior Meals at the Kiawanda Community Center 🍽️ \nJoin us every Tuesday and Wednesday at 11:30 AM for delicious\, nutritious senior meals at the Kiawanda Community Center!\nCome enjoy great food and even better company in a warm and welcoming atmosphere. \n✨ Who: Seniors & community members\n📍 Where: Kiawanda Community Center\n📅 When: Every Tuesday & Wednesday\n⏰ Time: 11:30 AM \nBring a friend\, make new ones\, and enjoy a healthy midday meal! ❤️ \nFor more information\, call the Kiawanda Community Center.
URL:https://tillamookcoast.com/plan-your-trip/events/event/senior-meals-tuesday-wednesday-10/
LOCATION:Kiawanda Community Center\, 34600 Cape Kiwanda Dr\, Pacific City\, OR 97135\, OR\, United States
CATEGORIES:Community
ATTACH;FMTTYPE=image/png:https://tillamookcoast.com/wp-content/uploads/2025/12/Brown-Orange-Modern-Food-Price-Instagram-Post-Invitation-portrait-a9KvXm.png
GEO:45.2048476;-123.9670463
X-APPLE-STRUCTURED-LOCATION;VALUE=URI;X-ADDRESS=Kiawanda Community Center 34600 Cape Kiwanda Dr Pacific City OR 97135 OR United States;X-APPLE-RADIUS=500;X-TITLE=34600 Cape Kiwanda Dr\, Pacific City\, OR 97135:geo:-123.9670463,45.2048476
END:VEVENT
BEGIN:VEVENT
DTSTART;TZID=America/Los_Angeles:20260203T120000
DTEND;TZID=America/Los_Angeles:20260203T130000
DTSTAMP:20260422T103123
CREATED:20251105T135539Z
LAST-MODIFIED:20260203T090542Z
UID:10008236-1770120000-1770123600@tillamookcoast.com
SUMMARY:Pacific City / Nestucca Valley Chamber Lunch Meeting
DESCRIPTION:Please join us every month to stay informed on local topics that affect business. We provide a variety of presenters that include: \nJune – Fraud Prevention Tips from Oregon Coast Bank \nAugust – Cape Kiwanda Longboard Classic update \nSeptember – Kiwanda Corridor Project update \nOctober – Candidate Forum \nMeg’s Beachwood serves lunch consisting of pizza\, salad and dessert for $10
URL:https://tillamookcoast.com/plan-your-trip/events/event/pacific-city-nestucca-valley-chamber-lunch-meeting-7/
LOCATION:Kiawanda Community Center\, 34600 Cape Kiwanda Dr\, Pacific City\, OR 97135\, OR\, United States
CATEGORIES:Business,Community
ATTACH;FMTTYPE=image/png:https://tillamookcoast.com/wp-content/uploads/2024/05/logo-1-IfPMc1.tmp_.png
GEO:45.2048476;-123.9670463
X-APPLE-STRUCTURED-LOCATION;VALUE=URI;X-ADDRESS=Kiawanda Community Center 34600 Cape Kiwanda Dr Pacific City OR 97135 OR United States;X-APPLE-RADIUS=500;X-TITLE=34600 Cape Kiwanda Dr\, Pacific City\, OR 97135:geo:-123.9670463,45.2048476
END:VEVENT
BEGIN:VEVENT
DTSTART;TZID=America/Los_Angeles:20260203T180000
DTEND;TZID=America/Los_Angeles:20260203T200000
DTSTAMP:20260422T103123
CREATED:20251209T174227Z
LAST-MODIFIED:20260203T090355Z
UID:10008708-1770141600-1770148800@tillamookcoast.com
SUMMARY:Bingo at Pelican Brewing- Tillamook Taproom
DESCRIPTION:Join the community for bingo night every Tuesday! Enjoy good company\, great beer\, and a chance to win cool prizes.
URL:https://tillamookcoast.com/plan-your-trip/events/event/bingo-at-pelican-brewing-tillamook-taproom-9/
LOCATION:Pelican Brewing- Tillamook Taproom\, 1708 1st St Tillamook\, OR 97141
CATEGORIES:Community
ATTACH;FMTTYPE=image/jpeg:https://tillamookcoast.com/wp-content/uploads/2025/12/Bingo-f5po8V.jpg
END:VEVENT
BEGIN:VEVENT
DTSTART;TZID=America/Los_Angeles:20260203T180000
DTEND;TZID=America/Los_Angeles:20260203T210000
DTSTAMP:20260422T103123
CREATED:20251208T170650Z
LAST-MODIFIED:20260203T090355Z
UID:10008662-1770141600-1770152400@tillamookcoast.com
SUMMARY:Trivia at Pelican Brewing- Pacific City
DESCRIPTION:Join us for trivia night every Tuesday! Win cool prizes and show your knowledge. Blackout dates apply.
URL:https://tillamookcoast.com/plan-your-trip/events/event/trivia-at-pelican-brewing-pacific-city-9/
LOCATION:Pelican Brewing Company\, 33180 Cape Kiwanda Drive
CATEGORIES:Community
ATTACH;FMTTYPE=image/jpeg:https://tillamookcoast.com/wp-content/uploads/2025/12/TRivia-QC2tAN.jpg
GEO:45.2151367;-123.9705111
X-APPLE-STRUCTURED-LOCATION;VALUE=URI;X-ADDRESS=Pelican Brewing Company 33180 Cape Kiwanda Drive;X-APPLE-RADIUS=500;X-TITLE=33180 Cape Kiwanda Drive:geo:-123.9705111,45.2151367
END:VEVENT
END:VCALENDAR