BEGIN:VCALENDAR
VERSION:2.0
PRODID:-//Tillamook Coast - ECPv6.15.16//NONSGML v1.0//EN
CALSCALE:GREGORIAN
METHOD:PUBLISH
X-ORIGINAL-URL:https://tillamookcoast.com
X-WR-CALDESC:Events for Tillamook Coast
REFRESH-INTERVAL;VALUE=DURATION:PT1H
X-Robots-Tag:noindex
X-PUBLISHED-TTL:PT1H
BEGIN:VTIMEZONE
TZID:America/Los_Angeles
BEGIN:DAYLIGHT
TZOFFSETFROM:-0800
TZOFFSETTO:-0700
TZNAME:PDT
DTSTART:20250309T100000
END:DAYLIGHT
BEGIN:STANDARD
TZOFFSETFROM:-0700
TZOFFSETTO:-0800
TZNAME:PST
DTSTART:20251102T090000
END:STANDARD
BEGIN:DAYLIGHT
TZOFFSETFROM:-0800
TZOFFSETTO:-0700
TZNAME:PDT
DTSTART:20260308T100000
END:DAYLIGHT
BEGIN:STANDARD
TZOFFSETFROM:-0700
TZOFFSETTO:-0800
TZNAME:PST
DTSTART:20261101T090000
END:STANDARD
BEGIN:DAYLIGHT
TZOFFSETFROM:-0800
TZOFFSETTO:-0700
TZNAME:PDT
DTSTART:20270314T100000
END:DAYLIGHT
BEGIN:STANDARD
TZOFFSETFROM:-0700
TZOFFSETTO:-0800
TZNAME:PST
DTSTART:20271107T090000
END:STANDARD
END:VTIMEZONE
BEGIN:VEVENT
DTSTART;TZID=America/Los_Angeles:20260204T100000
DTEND;TZID=America/Los_Angeles:20260204T130000
DTSTAMP:20260422T103042
CREATED:20260119T230555Z
LAST-MODIFIED:20260204T091905Z
UID:10009017-1770199200-1770210000@tillamookcoast.com
SUMMARY:Oregon Transfer Days @TBCC
DESCRIPTION:Oregon’s Community College to 4 year degree transfer event. Connect with colleges across Oregon right here at TBCC. Explore transfer options\, program information\, and more. All are welcome; education is for all.\n\n\nTBCC facilities are ADA-accessible. If you have questions about access or accommodations\, please contact Jason Lawrence\, Executive Director of Facilities and Safety; 4301 Third Street\, Tillamook\, OR 97141\, 503-842-8222 ext. 1520. \nSee less
URL:https://tillamookcoast.com/plan-your-trip/events/event/oregon-transfer-days-tbcc/
LOCATION:Tillamook Bay Community College\, 4301 3rd St\, Tillamook\, OR\, 97141\, United States
CATEGORIES:Community,Education
ATTACH;FMTTYPE=image/png:https://tillamookcoast.com/wp-content/uploads/2026/01/OTD-Flyer-2-rPiHiP.png
GEO:45.4565319;-123.8137423
X-APPLE-STRUCTURED-LOCATION;VALUE=URI;X-ADDRESS=Tillamook Bay Community College 4301 3rd St Tillamook OR 97141 United States;X-APPLE-RADIUS=500;X-TITLE=4301 3rd St:geo:-123.8137423,45.4565319
END:VEVENT
BEGIN:VEVENT
DTSTART;TZID=America/Los_Angeles:20260204T113000
DTEND;TZID=America/Los_Angeles:20260204T123000
DTSTAMP:20260422T103042
CREATED:20251231T191452Z
LAST-MODIFIED:20260204T092050Z
UID:10008865-1770204600-1770208200@tillamookcoast.com
SUMMARY:Senior Meals Tuesday & Wednesday
DESCRIPTION:🍽️ Senior Meals at the Kiawanda Community Center 🍽️ \nJoin us every Tuesday and Wednesday at 11:30 AM for delicious\, nutritious senior meals at the Kiawanda Community Center!\nCome enjoy great food and even better company in a warm and welcoming atmosphere. \n✨ Who: Seniors & community members\n📍 Where: Kiawanda Community Center\n📅 When: Every Tuesday & Wednesday\n⏰ Time: 11:30 AM \nBring a friend\, make new ones\, and enjoy a healthy midday meal! ❤️ \nFor more information\, call the Kiawanda Community Center.
URL:https://tillamookcoast.com/plan-your-trip/events/event/senior-meals-tuesday-wednesday-11/
LOCATION:Kiawanda Community Center\, 34600 Cape Kiwanda Dr\, Pacific City\, OR 97135\, OR\, United States
CATEGORIES:Community
ATTACH;FMTTYPE=image/png:https://tillamookcoast.com/wp-content/uploads/2025/12/Brown-Orange-Modern-Food-Price-Instagram-Post-Invitation-portrait-a9KvXm.png
GEO:45.2048476;-123.9670463
X-APPLE-STRUCTURED-LOCATION;VALUE=URI;X-ADDRESS=Kiawanda Community Center 34600 Cape Kiwanda Dr Pacific City OR 97135 OR United States;X-APPLE-RADIUS=500;X-TITLE=34600 Cape Kiwanda Dr\, Pacific City\, OR 97135:geo:-123.9670463,45.2048476
END:VEVENT
END:VCALENDAR