BEGIN:VCALENDAR
VERSION:2.0
PRODID:-//Tillamook Coast - ECPv6.15.16//NONSGML v1.0//EN
CALSCALE:GREGORIAN
METHOD:PUBLISH
X-WR-CALNAME:Tillamook Coast
X-ORIGINAL-URL:https://tillamookcoast.com
X-WR-CALDESC:Events for Tillamook Coast
REFRESH-INTERVAL;VALUE=DURATION:PT1H
X-Robots-Tag:noindex
X-PUBLISHED-TTL:PT1H
BEGIN:VTIMEZONE
TZID:America/Los_Angeles
BEGIN:DAYLIGHT
TZOFFSETFROM:-0800
TZOFFSETTO:-0700
TZNAME:PDT
DTSTART:20250309T100000
END:DAYLIGHT
BEGIN:STANDARD
TZOFFSETFROM:-0700
TZOFFSETTO:-0800
TZNAME:PST
DTSTART:20251102T090000
END:STANDARD
BEGIN:DAYLIGHT
TZOFFSETFROM:-0800
TZOFFSETTO:-0700
TZNAME:PDT
DTSTART:20260308T100000
END:DAYLIGHT
BEGIN:STANDARD
TZOFFSETFROM:-0700
TZOFFSETTO:-0800
TZNAME:PST
DTSTART:20261101T090000
END:STANDARD
BEGIN:DAYLIGHT
TZOFFSETFROM:-0800
TZOFFSETTO:-0700
TZNAME:PDT
DTSTART:20270314T100000
END:DAYLIGHT
BEGIN:STANDARD
TZOFFSETFROM:-0700
TZOFFSETTO:-0800
TZNAME:PST
DTSTART:20271107T090000
END:STANDARD
END:VTIMEZONE
BEGIN:VEVENT
DTSTART;TZID=America/Los_Angeles:20260206T080000
DTEND;TZID=America/Los_Angeles:20260206T170000
DTSTAMP:20260422T113411
CREATED:20260122T235742Z
LAST-MODIFIED:20260206T112726Z
UID:10009056-1770364800-1770397200@tillamookcoast.com
SUMMARY:Bay City Arts Center’s First Friday Gallery Opening A Winter Glimpse of the Beloved Ocean Celebration!
DESCRIPTION:Join local communities and visitors alike this February and experience the spirit of the beloved annual Ocean Celebration—traditionally held each August at Cape Lookout—through two special events at the Bay City Arts Center. The events highlight the work of Eduardo Cruz\, a self-taught mixed-media artist\, performer\, and the founder of Huehca Omeyocan\, the cultural group behind the “Ocean Celebration”.  \nTaking place on Friday\, February 6 and Saturday\, February 7\, the events offer two distinct ways to engage—through visual art and live performance. Attendees are welcome to join one or both events to celebrate Eduardo’s artwork\, experience cultural performance\, and learn more about the Ocean Celebration’s decade-long legacy as it approaches its 10th anniversary in 2026. \nOn Friday\, February 6\, Eduardo Cruz will be featured as February’s Artist of the Month during the Bay City Arts Center’s First Friday gallery opening. The exhibit will showcase his visually striking wood-burning artwork\, alongside cultural artifacts from the Ocean Celebration.The evening will also include participation from local environmental partners who help organize the celebration—such as Friends of Netarts Bay WEBS and Oregon Shores—highlighting the powerful intersection of art\, culture\, and environmental stewardship. \nThe celebration continues on Saturday\, February 7\, with a ticketed live performance at the Bay City Arts Center. Huehca Omeyocan\, led by Eduardo Cruz\, will present an Ancestral Music & Dance Celebration\, featuring traditional drumming\, Aztec dance\, and interactive audience participation. “This immersive experience honors the living traditions of Anahuac (Mesoamerican) culture\,” says Cruz. “The performance includes a beautifully curated display of instruments and artifacts from cultures across Mesoamérica\, inviting audiences to engage\, immerse\, and connect with the rhythms and stories of these ancestral traditions.” \nTogether\, these two events offer a rare winter opportunity to experience the creativity\, cultural depth\, and community partnerships that have made the Ocean Celebration a meaningful annual tradition on the Oregon coast. \nEvent Details \n\nGallery Opening: Friday\, February 6\, 5-7 p.m.\, 2026\nLive Performance: Saturday\, February 7\, 6-8:30 p.m.\, 2026\nTickets for Saturday’s live performance are $20. For more information and to purchase tickets online go to:  netartsbaywebs.org/events or https://www.baycityartscenter.com\nLocation: Bay City Arts Center\, 5680 A Street\, Bay City\, OR 97107\n\nStay connected \nEduardo Cruz on instagram: @huehcaomeyocan \nBay City Arts Center: https://baycityartscenter.com  \nFriends of Netarts Bay: https://netartsbaywebs.org Social: @netartsbaywebs \nOregon Shores: https://www.oregonshores.org \nOregon State Parks: https://stateparks.oregon.gov
URL:https://tillamookcoast.com/plan-your-trip/events/event/bay-city-arts-centers-first-friday-gallery-opening-a-winter-glimpse-of-the-beloved-ocean-celebration/
LOCATION:Bay City Arts Center\, 5680 A Street\, Bay City\, Oregon 97107
CATEGORIES:Community,Live Music
ATTACH;FMTTYPE=image/png:https://tillamookcoast.com/wp-content/uploads/2026/01/Friday-Event-5AEJVQ.png
GEO:45.525429;-123.8894722
X-APPLE-STRUCTURED-LOCATION;VALUE=URI;X-ADDRESS=Bay City Arts Center 5680 A Street Bay City Oregon 97107;X-APPLE-RADIUS=500;X-TITLE=5680 A Street\, Bay City\, Oregon 97107:geo:-123.8894722,45.525429
END:VEVENT
BEGIN:VEVENT
DTSTART;TZID=America/Los_Angeles:20260206T090000
DTEND;TZID=America/Los_Angeles:20260206T100000
DTSTAMP:20260422T113411
CREATED:20251108T143802Z
LAST-MODIFIED:20260206T112727Z
UID:10008256-1770368400-1770372000@tillamookcoast.com
SUMMARY:Yoga With Dawn
DESCRIPTION:🧘‍♀️ Yoga with Dawn – Find Your Flow! 🧘‍♂️ \nStart your day with peace\, strength\, and positive energy 🌞Join Dawn for a refreshing yoga class every: \n🗓️ Monday\, Wednesday\, Friday & Saturday🕘 9:00 AM – 10:00 AM📍 Kiawanda Community Center \nAll levels are welcome—whether you’re new to yoga or a seasoned pro\, Dawn’s calm guidance and supportive atmosphere will leave you feeling refreshed and centered. \n✨ Bring a mat\, some water\, and a smile.No registration needed—just drop in and breathe it out with us! \n#YogaWithDawn #KiawandaCommunityCenter #MorningYoga #WellnessInPacificCity #MindBodySoul
URL:https://tillamookcoast.com/plan-your-trip/events/event/yoga-with-dawn-110/
LOCATION:Kiawanda Community Center\, 34600 Cape Kiwanda Dr\, Pacific City\, OR 97135\, OR\, United States
CATEGORIES:Classes and Workshops,Community
ATTACH;FMTTYPE=image/jpeg:https://tillamookcoast.com/wp-content/uploads/2025/07/yoga-oRzciY.jpg
GEO:45.2048476;-123.9670463
X-APPLE-STRUCTURED-LOCATION;VALUE=URI;X-ADDRESS=Kiawanda Community Center 34600 Cape Kiwanda Dr Pacific City OR 97135 OR United States;X-APPLE-RADIUS=500;X-TITLE=34600 Cape Kiwanda Dr\, Pacific City\, OR 97135:geo:-123.9670463,45.2048476
END:VEVENT
BEGIN:VEVENT
DTSTART;TZID=America/Los_Angeles:20260206T100000
DTEND;TZID=America/Los_Angeles:20260206T120000
DTSTAMP:20260422T113411
CREATED:20251108T143704Z
LAST-MODIFIED:20260206T112728Z
UID:10008253-1770372000-1770379200@tillamookcoast.com
SUMMARY:Trail Building in Nehalem Bay With LNCT!
DESCRIPTION:Every Friday\, volunteers gather on LNCT lands near Manzanita\, Nehalem and Wheeler to protect and restore habitat in the lower Nehalem watershed. We would love to see new faces out on the land!\n\n\n\nThese work parties are beginner friendly and an opportunity to learn about the engineering of hiking trails. We will be working on uneven ground\, bending\, and moving small rocks and brush during this process. Tools and gloves are provided\, new volunteers welcome and no prior experience needed. Join as frequently as you please.  Email shane@nehalemtrust.org for weekly updates on where to meet.\n\nAlder Creek Farm and Natural Area’s Nehalem Teaching Trail already supports an impressive variety of native plants and simulated ecosystems for community learning—but we’re looking to grow. This short trail will extend educational access into a different ecosystem and connect to the Natural Area’s pollinator meadow. We hope it will also add some variety to habitat access for bird watchers who visit the farm as a part of the Oregon Coast Birding Trail.
URL:https://tillamookcoast.com/plan-your-trip/events/event/trail-building-in-nehalem-bay-with-lnct-25/
LOCATION:Lower Nehalem Community Trust
CATEGORIES:Community,Education,Outdoor
ATTACH;FMTTYPE=image/jpeg:https://tillamookcoast.com/wp-content/uploads/2025/12/LNCT-Stewardship-Poster-4-LH2xa6.jpg
GEO:45.7201074;-123.8940225
END:VEVENT
BEGIN:VEVENT
DTSTART;TZID=America/Los_Angeles:20260206T100000
DTEND;TZID=America/Los_Angeles:20260206T200000
DTSTAMP:20260422T113411
CREATED:20251108T143704Z
LAST-MODIFIED:20260206T112728Z
UID:10008254-1770372000-1770408000@tillamookcoast.com
SUMMARY:All You Can Eat Fish and Chips
DESCRIPTION:Fresh\, local\, fried rockfish served with coleslaw and crispy french fries. Unlimited fish every Friday $18.99
URL:https://tillamookcoast.com/plan-your-trip/events/event/all-you-can-eat-fish-and-chips-15/
LOCATION:Fish Peddler at Pacific Oyster\, 5150 Hayes Oyster Dr
CATEGORIES:Community
END:VEVENT
BEGIN:VEVENT
DTSTART;TZID=America/Los_Angeles:20260206T110000
DTEND;TZID=America/Los_Angeles:20260206T120000
DTSTAMP:20260422T113411
CREATED:20251108T143704Z
LAST-MODIFIED:20260206T112729Z
UID:10008255-1770375600-1770379200@tillamookcoast.com
SUMMARY:Storytime at Garibaldi Library
DESCRIPTION:Kids of all ages are welcome to the Garibaldi Library for storytime\, Fridays at 11:00am.
URL:https://tillamookcoast.com/plan-your-trip/events/event/storytime-at-garibaldi-library-42/
LOCATION:Garibaldi Library\, 107 6th St\, Garibaldi OR
CATEGORIES:Community,Family Fun
ATTACH;FMTTYPE=image/png:https://tillamookcoast.com/wp-content/uploads/2025/06/Garibaldi-Story-Time-flyer-NiDhO7.png
GEO:40.4437739;-80.0023533
X-APPLE-STRUCTURED-LOCATION;VALUE=URI;X-ADDRESS=Garibaldi Library 107 6th St Garibaldi OR;X-APPLE-RADIUS=500;X-TITLE=107 6th St\, Garibaldi OR:geo:-80.0023533,40.4437739
END:VEVENT
BEGIN:VEVENT
DTSTART;TZID=America/Los_Angeles:20260206T163000
DTEND;TZID=America/Los_Angeles:20260206T200000
DTSTAMP:20260422T113411
CREATED:20260119T230615Z
LAST-MODIFIED:20260206T112729Z
UID:10009018-1770395400-1770408000@tillamookcoast.com
SUMMARY:February First Friday at the Blue Heron
DESCRIPTION:Join us for February’s First Friday on February 6th from 4:30 – 8:00 PM! Whether you’re celebrating an early Valentine’s date or just looking for a cozy night out\, we’ve got the perfect atmosphere waiting for you.\n\n\n\nYou can settle in and enjoy the local talents of Eric Sappington performing live while sharing our featured dinner special\, a delicious Fondue for Two. To make the evening even sweeter\, there will be samplings of a decadent Chocolate Bar Port for you to enjoy.\n\n\n\nGrab your favorite person and join us for an evening of great tunes\, amazing food\, and sweet sips—we can’t wait to see you there!
URL:https://tillamookcoast.com/plan-your-trip/events/event/february-first-friday-at-the-blue-heron/
LOCATION:Blue Heron French Cheese Co.\, 2001 Blue Heron Rd A\, Tillamook\, OR 97141\, OR
CATEGORIES:Community,Live Music
ATTACH;FMTTYPE=image/png:https://tillamookcoast.com/wp-content/uploads/2026/01/January_FF_Instagram-JnjZ0k.png
GEO:45.4671926;-123.8429587
X-APPLE-STRUCTURED-LOCATION;VALUE=URI;X-ADDRESS=Blue Heron French Cheese Co. 2001 Blue Heron Rd A Tillamook OR 97141 OR;X-APPLE-RADIUS=500;X-TITLE=2001 Blue Heron Rd A\, Tillamook\, OR 97141:geo:-123.8429587,45.4671926
END:VEVENT
BEGIN:VEVENT
DTSTART;TZID=America/Los_Angeles:20260206T170000
DTEND;TZID=America/Los_Angeles:20260206T190000
DTSTAMP:20260422T113411
CREATED:20260122T235926Z
LAST-MODIFIED:20260206T112841Z
UID:10009058-1770397200-1770404400@tillamookcoast.com
SUMMARY:Bay City Arts Center’s First Friday Gallery Opening A Winter Glimpse of the Beloved Ocean Celebration!
DESCRIPTION:Join local communities and visitors alike this February and experience the spirit of the beloved annual Ocean Celebration—traditionally held each August at Cape Lookout—through two special events at the Bay City Arts Center. The events highlight the work of Eduardo Cruz\, a self-taught mixed-media artist\, performer\, and the founder of Huehca Omeyocan\, the cultural group behind the “Ocean Celebration”.  \nTaking place on Friday\, February 6 and Saturday\, February 7\, the events offer two distinct ways to engage—through visual art and live performance. Attendees are welcome to join one or both events to celebrate Eduardo’s artwork\, experience cultural performance\, and learn more about the Ocean Celebration’s decade-long legacy as it approaches its 10th anniversary in 2026. \nOn Friday\, February 6\, Eduardo Cruz will be featured as February’s Artist of the Month during the Bay City Arts Center’s First Friday gallery opening. The exhibit will showcase his visually striking wood-burning artwork\, alongside cultural artifacts from the Ocean Celebration.The evening will also include participation from local environmental partners who help organize the celebration—such as Friends of Netarts Bay WEBS and Oregon Shores—highlighting the powerful intersection of art\, culture\, and environmental stewardship. \nThe celebration continues on Saturday\, February 7\, with a ticketed live performance at the Bay City Arts Center. Huehca Omeyocan\, led by Eduardo Cruz\, will present an Ancestral Music & Dance Celebration\, featuring traditional drumming\, Aztec dance\, and interactive audience participation. “This immersive experience honors the living traditions of Anahuac (Mesoamerican) culture\,” says Cruz. “The performance includes a beautifully curated display of instruments and artifacts from cultures across Mesoamérica\, inviting audiences to engage\, immerse\, and connect with the rhythms and stories of these ancestral traditions.” \nTogether\, these two events offer a rare winter opportunity to experience the creativity\, cultural depth\, and community partnerships that have made the Ocean Celebration a meaningful annual tradition on the Oregon coast. \nEvent Details \n\nGallery Opening: Friday\, February 6\, 5-7 p.m.\, 2026\nLive Performance: Saturday\, February 7\, 6-8:30 p.m.\, 2026\nTickets for Saturday’s live performance are $20. For more information and to purchase tickets online go to:  netartsbaywebs.org/events or https://www.baycityartscenter.com\nLocation: Bay City Arts Center\, 5680 A Street\, Bay City\, OR 97107\n\nStay connected \nEduardo Cruz on instagram: @huehcaomeyocan \nBay City Arts Center: https://baycityartscenter.com  \nFriends of Netarts Bay: https://netartsbaywebs.org Social: @netartsbaywebs \nOregon Shores: https://www.oregonshores.org \nOregon State Parks: https://stateparks.oregon.gov
URL:https://tillamookcoast.com/plan-your-trip/events/event/bay-city-arts-centers-first-friday-gallery-opening-a-winter-glimpse-of-the-beloved-ocean-celebration-2/
LOCATION:Bay City Arts Center\, 5680 A Street\, Bay City\, Oregon 97107
CATEGORIES:Community,Live Music
ATTACH;FMTTYPE=image/png:https://tillamookcoast.com/wp-content/uploads/2026/01/Friday-Event-5AEJVQ.png
GEO:45.525429;-123.8894722
X-APPLE-STRUCTURED-LOCATION;VALUE=URI;X-ADDRESS=Bay City Arts Center 5680 A Street Bay City Oregon 97107;X-APPLE-RADIUS=500;X-TITLE=5680 A Street\, Bay City\, Oregon 97107:geo:-123.8894722,45.525429
END:VEVENT
END:VCALENDAR