BEGIN:VCALENDAR
VERSION:2.0
PRODID:-//Tillamook Coast - ECPv6.15.16//NONSGML v1.0//EN
CALSCALE:GREGORIAN
METHOD:PUBLISH
X-ORIGINAL-URL:https://tillamookcoast.com
X-WR-CALDESC:Events for Tillamook Coast
REFRESH-INTERVAL;VALUE=DURATION:PT1H
X-Robots-Tag:noindex
X-PUBLISHED-TTL:PT1H
BEGIN:VTIMEZONE
TZID:America/Los_Angeles
BEGIN:DAYLIGHT
TZOFFSETFROM:-0800
TZOFFSETTO:-0700
TZNAME:PDT
DTSTART:20250309T100000
END:DAYLIGHT
BEGIN:STANDARD
TZOFFSETFROM:-0700
TZOFFSETTO:-0800
TZNAME:PST
DTSTART:20251102T090000
END:STANDARD
BEGIN:DAYLIGHT
TZOFFSETFROM:-0800
TZOFFSETTO:-0700
TZNAME:PDT
DTSTART:20260308T100000
END:DAYLIGHT
BEGIN:STANDARD
TZOFFSETFROM:-0700
TZOFFSETTO:-0800
TZNAME:PST
DTSTART:20261101T090000
END:STANDARD
BEGIN:DAYLIGHT
TZOFFSETFROM:-0800
TZOFFSETTO:-0700
TZNAME:PDT
DTSTART:20270314T100000
END:DAYLIGHT
BEGIN:STANDARD
TZOFFSETFROM:-0700
TZOFFSETTO:-0800
TZNAME:PST
DTSTART:20271107T090000
END:STANDARD
END:VTIMEZONE
BEGIN:VEVENT
DTSTART;TZID=America/Los_Angeles:20260212T090000
DTEND;TZID=America/Los_Angeles:20260212T100000
DTSTAMP:20260422T113610
CREATED:20251114T160939Z
LAST-MODIFIED:20260212T131949Z
UID:10008390-1770886800-1770890400@tillamookcoast.com
SUMMARY:Yoga With Dawn
DESCRIPTION:🧘‍♀️ Yoga with Dawn – Find Your Flow! 🧘‍♂️ \nStart your day with peace\, strength\, and positive energy 🌞Join Dawn for a refreshing yoga class every: \n🗓️ Monday\, Wednesday\, Friday & Saturday🕘 9:00 AM – 10:00 AM📍 Kiawanda Community Center \nAll levels are welcome—whether you’re new to yoga or a seasoned pro\, Dawn’s calm guidance and supportive atmosphere will leave you feeling refreshed and centered. \n✨ Bring a mat\, some water\, and a smile.No registration needed—just drop in and breathe it out with us! \n#YogaWithDawn #KiawandaCommunityCenter #MorningYoga #WellnessInPacificCity #MindBodySoul
URL:https://tillamookcoast.com/plan-your-trip/events/event/yoga-with-dawn-113/
LOCATION:Kiawanda Community Center\, 34600 Cape Kiwanda Dr\, Pacific City\, OR 97135\, OR\, United States
CATEGORIES:Classes and Workshops,Community
ATTACH;FMTTYPE=image/jpeg:https://tillamookcoast.com/wp-content/uploads/2025/07/yoga-oRzciY.jpg
GEO:45.2048476;-123.9670463
X-APPLE-STRUCTURED-LOCATION;VALUE=URI;X-ADDRESS=Kiawanda Community Center 34600 Cape Kiwanda Dr Pacific City OR 97135 OR United States;X-APPLE-RADIUS=500;X-TITLE=34600 Cape Kiwanda Dr\, Pacific City\, OR 97135:geo:-123.9670463,45.2048476
END:VEVENT
BEGIN:VEVENT
DTSTART;TZID=America/Los_Angeles:20260212T100000
DTEND;TZID=America/Los_Angeles:20260212T110000
DTSTAMP:20260422T113610
CREATED:20251114T160844Z
LAST-MODIFIED:20260212T131826Z
UID:10008385-1770890400-1770894000@tillamookcoast.com
SUMMARY:Family Storytime at Bay City Library
DESCRIPTION:Bring the whole family down to the Bay City Library for a fun storytime and activity every Thursday at 10am!
URL:https://tillamookcoast.com/plan-your-trip/events/event/family-storytime-at-bay-city-library-27/
LOCATION:Bay City Library\, 5525 B St\, Bay City\, OR
CATEGORIES:Community,Family Fun
ATTACH;FMTTYPE=image/png:https://tillamookcoast.com/wp-content/uploads/2024/12/Bay-City-Storytime1-iSlpg8.tmp_.png
GEO:45.5243851;-123.8908552
X-APPLE-STRUCTURED-LOCATION;VALUE=URI;X-ADDRESS=Bay City Library 5525 B St Bay City OR;X-APPLE-RADIUS=500;X-TITLE=5525 B St\, Bay City\, OR:geo:-123.8908552,45.5243851
END:VEVENT
BEGIN:VEVENT
DTSTART;TZID=America/Los_Angeles:20260212T100000
DTEND;TZID=America/Los_Angeles:20260212T200000
DTSTAMP:20260422T113610
CREATED:20251114T160845Z
LAST-MODIFIED:20260212T131827Z
UID:10008386-1770890400-1770926400@tillamookcoast.com
SUMMARY:All You Can Eat Oysters and Chips
DESCRIPTION:Petite oysters with coleslaw and crispy french fries. Unlimited refills on oysters\, served three ways- deep fried\, grilled\, and sautéed. Every Thursday $18.99
URL:https://tillamookcoast.com/plan-your-trip/events/event/all-you-can-eat-oysters-and-chips-16/
LOCATION:Fish Peddler at Pacific Oyster\, 5150 Hayes Oyster Dr
CATEGORIES:Community
ATTACH;FMTTYPE=image/jpeg:https://tillamookcoast.com/wp-content/uploads/2025/10/IMG_5605-scaled-ARVKXg-scaled.jpg
END:VEVENT
BEGIN:VEVENT
DTSTART;TZID=America/Los_Angeles:20260212T130000
DTEND;TZID=America/Los_Angeles:20260212T150000
DTSTAMP:20260422T113610
CREATED:20251114T160939Z
LAST-MODIFIED:20260212T131950Z
UID:10008392-1770901200-1770908400@tillamookcoast.com
SUMMARY:Bingo
DESCRIPTION:🎉 Thursday Bingo Fun at the Kiawanda Community Center! 🎉 \nJoin us every Thursday from 1PM to 3PM for an afternoon of bingo\, community\, and fun at the Kiawanda Community Center! \n🗓️ When: Thursdays\, 1:00–3:00 PM\n📍 Where: Kiawanda Community Center\n🎁 Prizes\, laughs\, and good company guaranteed! \nWhether you’re a seasoned player or brand new to the game\, everyone is welcome! Come early\, grab your favorite seat\, and get ready for a great time! 🙌 \nTag your bingo buddy and spread the word! 🎊 \n#BingoFun #KiawandaCommunityCenter #PacificCityEvents #ThursdayBingo #CommunityVibes
URL:https://tillamookcoast.com/plan-your-trip/events/event/bingo/
LOCATION:Kiawanda Community Center\, 34600 Cape Kiwanda Dr\, Pacific City\, OR 97135\, OR\, United States
CATEGORIES:Community
ATTACH;FMTTYPE=image/jpeg:https://tillamookcoast.com/wp-content/uploads/2025/07/Cream-Orange-Colorful-Retro-We-Are-Hiring-Flyer-vLTXaz.jpg
GEO:45.2048476;-123.9670463
X-APPLE-STRUCTURED-LOCATION;VALUE=URI;X-ADDRESS=Kiawanda Community Center 34600 Cape Kiwanda Dr Pacific City OR 97135 OR United States;X-APPLE-RADIUS=500;X-TITLE=34600 Cape Kiwanda Dr\, Pacific City\, OR 97135:geo:-123.9670463,45.2048476
END:VEVENT
BEGIN:VEVENT
DTSTART;TZID=America/Los_Angeles:20260212T140000
DTEND;TZID=America/Los_Angeles:20260212T150000
DTSTAMP:20260422T113610
CREATED:20251114T160845Z
LAST-MODIFIED:20260212T131828Z
UID:10008387-1770904800-1770908400@tillamookcoast.com
SUMMARY:Mahjong at Manzanita Library
DESCRIPTION:Play mahjong in a fun informal group at the Manzanita library Thursdays at 2 pm!
URL:https://tillamookcoast.com/plan-your-trip/events/event/mahjong-at-manzanita-library-20/
LOCATION:Manzanita Library\, 571 Laneda Ave Manzanita OR
CATEGORIES:Community,Family Fun
GEO:45.7194514;-123.9317481
X-APPLE-STRUCTURED-LOCATION;VALUE=URI;X-ADDRESS=Manzanita Library 571 Laneda Ave Manzanita OR;X-APPLE-RADIUS=500;X-TITLE=571 Laneda Ave Manzanita OR:geo:-123.9317481,45.7194514
END:VEVENT
BEGIN:VEVENT
DTSTART;TZID=America/Los_Angeles:20260212T160000
DTEND;TZID=America/Los_Angeles:20260212T170000
DTSTAMP:20260422T113610
CREATED:20251114T160845Z
LAST-MODIFIED:20260204T091916Z
UID:10008388-1770912000-1770915600@tillamookcoast.com
SUMMARY:Grief Support Group
DESCRIPTION:This free\, in-person support group meets the second and fourth Thursday monthly\, excluding holidays. It is for adults who are struggling with difficult and unexpected emotions from shock\, anger\, disbelief\, guilt and sadness from grief. \nIf you or someone you know is struggling with challenging emotions such as shock\, anger\, disbelief\, guilt or sadness due to grief\, please consider joining this support program that meets the second and fourth Thursday of each month. \nAri Douglas\, a bereavement coordinator\, leads this in-person grief support group\, which meets twice a month. Ari holds a Master of Divinity and is currently pursuing a Master’s degree in Social Work\, with 16 years of experience in counseling and providing emotional support. \nRSVP and/or questions: Ari Douglas\, Bereavement Coordinator\, email DouglaA01@ah.org or call 971-258-7792
URL:https://tillamookcoast.com/plan-your-trip/events/event/grief-support-group-10/
LOCATION:Adventist Health Tillamook\, 1000 Third St.\, Tillamook\, 97141
CATEGORIES:Community,Education
ATTACH;FMTTYPE=image/jpeg:https://tillamookcoast.com/wp-content/uploads/2025/02/coast-oregon_john-peters-ULR-IRGPbmM-unsplash_class-1-bDBpXt.tmp_.jpg
GEO:35.1201658;-90.0547925
X-APPLE-STRUCTURED-LOCATION;VALUE=URI;X-ADDRESS=Adventist Health Tillamook 1000 Third St. Tillamook 97141;X-APPLE-RADIUS=500;X-TITLE=1000 Third St.:geo:-90.0547925,35.1201658
END:VEVENT
BEGIN:VEVENT
DTSTART;TZID=America/Los_Angeles:20260212T160000
DTEND;TZID=America/Los_Angeles:20260212T173000
DTSTAMP:20260422T113610
CREATED:20251114T160939Z
LAST-MODIFIED:20260212T131828Z
UID:10008393-1770912000-1770917400@tillamookcoast.com
SUMMARY:Knitting Group
DESCRIPTION:Join a fun group of knitters at North Tillamook Library in Manzanita on Thursdays from 4pm to 5:30pm.
URL:https://tillamookcoast.com/plan-your-trip/events/event/knitting-group-28/
LOCATION:North Tillamook Library\, 571 Laneda Ave\, Manzanita\, OR 97130
CATEGORIES:Community,Education
ATTACH;FMTTYPE=image/png:https://tillamookcoast.com/wp-content/uploads/2024/08/logo-OfhBMs.tmp_.png
GEO:45.7194742;-123.9317422
X-APPLE-STRUCTURED-LOCATION;VALUE=URI;X-ADDRESS=North Tillamook Library 571 Laneda Ave Manzanita OR 97130;X-APPLE-RADIUS=500;X-TITLE=571 Laneda Ave\, Manzanita\, OR 97130:geo:-123.9317422,45.7194742
END:VEVENT
BEGIN:VEVENT
DTSTART;TZID=America/Los_Angeles:20260212T180000
DTEND;TZID=America/Los_Angeles:20260212T200000
DTSTAMP:20260422T113610
CREATED:20260129T230937Z
LAST-MODIFIED:20260212T131829Z
UID:10009110-1770919200-1770926400@tillamookcoast.com
SUMMARY:A Love Letter to Your Local Estuary
DESCRIPTION:What’s love got to do with… wetlands!? Drop into Bay City Arts Center from 6 – 8PM on Thursday night\, February 12th to hang out and craft valentines for your loved ones AND for your local estuary! Friends of Netarts Bay Watershed\, Estuary\, Beach\, and Sea – WEBS\, Tillamook Estuaries Partnership (TEP) and Lower Nehalem Community Trust staff will be around to tell you all about what there is to love about wetlands\, specifically the estuaries that make our North Coast so biodiverse and special. Craft supplies provided. See you there!
URL:https://tillamookcoast.com/plan-your-trip/events/event/a-love-letter-to-your-local-estuary/
LOCATION:Bay City Arts Center\, 5680 A Street\, Bay City\, Oregon 97107
CATEGORIES:Community,Family Fun,Holiday
ATTACH;FMTTYPE=image/png:https://tillamookcoast.com/wp-content/uploads/2026/01/time-change-LLTYE-2-Jn3dLB.png
GEO:45.525429;-123.8894722
X-APPLE-STRUCTURED-LOCATION;VALUE=URI;X-ADDRESS=Bay City Arts Center 5680 A Street Bay City Oregon 97107;X-APPLE-RADIUS=500;X-TITLE=5680 A Street\, Bay City\, Oregon 97107:geo:-123.8894722,45.525429
END:VEVENT
END:VCALENDAR