BEGIN:VCALENDAR
VERSION:2.0
PRODID:-//Tillamook Coast - ECPv6.15.16//NONSGML v1.0//EN
CALSCALE:GREGORIAN
METHOD:PUBLISH
X-ORIGINAL-URL:https://tillamookcoast.com
X-WR-CALDESC:Events for Tillamook Coast
REFRESH-INTERVAL;VALUE=DURATION:PT1H
X-Robots-Tag:noindex
X-PUBLISHED-TTL:PT1H
BEGIN:VTIMEZONE
TZID:America/Los_Angeles
BEGIN:DAYLIGHT
TZOFFSETFROM:-0800
TZOFFSETTO:-0700
TZNAME:PDT
DTSTART:20250309T100000
END:DAYLIGHT
BEGIN:STANDARD
TZOFFSETFROM:-0700
TZOFFSETTO:-0800
TZNAME:PST
DTSTART:20251102T090000
END:STANDARD
BEGIN:DAYLIGHT
TZOFFSETFROM:-0800
TZOFFSETTO:-0700
TZNAME:PDT
DTSTART:20260308T100000
END:DAYLIGHT
BEGIN:STANDARD
TZOFFSETFROM:-0700
TZOFFSETTO:-0800
TZNAME:PST
DTSTART:20261101T090000
END:STANDARD
BEGIN:DAYLIGHT
TZOFFSETFROM:-0800
TZOFFSETTO:-0700
TZNAME:PDT
DTSTART:20270314T100000
END:DAYLIGHT
BEGIN:STANDARD
TZOFFSETFROM:-0700
TZOFFSETTO:-0800
TZNAME:PST
DTSTART:20271107T090000
END:STANDARD
END:VTIMEZONE
BEGIN:VEVENT
DTSTART;TZID=America/Los_Angeles:20260213T090000
DTEND;TZID=America/Los_Angeles:20260213T100000
DTSTAMP:20260422T103200
CREATED:20251115T162507Z
LAST-MODIFIED:20260213T133334Z
UID:10008406-1770973200-1770976800@tillamookcoast.com
SUMMARY:Yoga With Dawn
DESCRIPTION:🧘‍♀️ Yoga with Dawn – Find Your Flow! 🧘‍♂️ \nStart your day with peace\, strength\, and positive energy 🌞Join Dawn for a refreshing yoga class every: \n🗓️ Monday\, Wednesday\, Friday & Saturday🕘 9:00 AM – 10:00 AM📍 Kiawanda Community Center \nAll levels are welcome—whether you’re new to yoga or a seasoned pro\, Dawn’s calm guidance and supportive atmosphere will leave you feeling refreshed and centered. \n✨ Bring a mat\, some water\, and a smile.No registration needed—just drop in and breathe it out with us! \n#YogaWithDawn #KiawandaCommunityCenter #MorningYoga #WellnessInPacificCity #MindBodySoul
URL:https://tillamookcoast.com/plan-your-trip/events/event/yoga-with-dawn-114/
LOCATION:Kiawanda Community Center\, 34600 Cape Kiwanda Dr\, Pacific City\, OR 97135\, OR\, United States
CATEGORIES:Classes and Workshops,Community
ATTACH;FMTTYPE=image/jpeg:https://tillamookcoast.com/wp-content/uploads/2025/07/yoga-oRzciY.jpg
GEO:45.2048476;-123.9670463
X-APPLE-STRUCTURED-LOCATION;VALUE=URI;X-ADDRESS=Kiawanda Community Center 34600 Cape Kiwanda Dr Pacific City OR 97135 OR United States;X-APPLE-RADIUS=500;X-TITLE=34600 Cape Kiwanda Dr\, Pacific City\, OR 97135:geo:-123.9670463,45.2048476
END:VEVENT
BEGIN:VEVENT
DTSTART;TZID=America/Los_Angeles:20260213T100000
DTEND;TZID=America/Los_Angeles:20260213T120000
DTSTAMP:20260422T103200
CREATED:20251115T162412Z
LAST-MODIFIED:20260213T133335Z
UID:10008402-1770976800-1770984000@tillamookcoast.com
SUMMARY:Trail Building in Nehalem Bay With LNCT!
DESCRIPTION:Every Friday\, volunteers gather on LNCT lands near Manzanita\, Nehalem and Wheeler to protect and restore habitat in the lower Nehalem watershed. We would love to see new faces out on the land!\n\n\n\nThese work parties are beginner friendly and an opportunity to learn about the engineering of hiking trails. We will be working on uneven ground\, bending\, and moving small rocks and brush during this process. Tools and gloves are provided\, new volunteers welcome and no prior experience needed. Join as frequently as you please.  Email shane@nehalemtrust.org for weekly updates on where to meet.\n\nAlder Creek Farm and Natural Area’s Nehalem Teaching Trail already supports an impressive variety of native plants and simulated ecosystems for community learning—but we’re looking to grow. This short trail will extend educational access into a different ecosystem and connect to the Natural Area’s pollinator meadow. We hope it will also add some variety to habitat access for bird watchers who visit the farm as a part of the Oregon Coast Birding Trail.
URL:https://tillamookcoast.com/plan-your-trip/events/event/trail-building-in-nehalem-bay-with-lnct-26/
LOCATION:Lower Nehalem Community Trust
CATEGORIES:Community,Education,Outdoor
ATTACH;FMTTYPE=image/jpeg:https://tillamookcoast.com/wp-content/uploads/2025/12/LNCT-Stewardship-Poster-4-LH2xa6.jpg
GEO:45.7201074;-123.8940225
END:VEVENT
BEGIN:VEVENT
DTSTART;TZID=America/Los_Angeles:20260213T100000
DTEND;TZID=America/Los_Angeles:20260213T200000
DTSTAMP:20260422T103200
CREATED:20251115T162412Z
LAST-MODIFIED:20260213T133336Z
UID:10008403-1770976800-1771012800@tillamookcoast.com
SUMMARY:All You Can Eat Fish and Chips
DESCRIPTION:Fresh\, local\, fried rockfish served with coleslaw and crispy french fries. Unlimited fish every Friday $18.99
URL:https://tillamookcoast.com/plan-your-trip/events/event/all-you-can-eat-fish-and-chips-16/
LOCATION:Fish Peddler at Pacific Oyster\, 5150 Hayes Oyster Dr
CATEGORIES:Community
END:VEVENT
BEGIN:VEVENT
DTSTART;TZID=America/Los_Angeles:20260213T110000
DTEND;TZID=America/Los_Angeles:20260213T120000
DTSTAMP:20260422T103200
CREATED:20251115T162412Z
LAST-MODIFIED:20260213T133336Z
UID:10008404-1770980400-1770984000@tillamookcoast.com
SUMMARY:Storytime at Garibaldi Library
DESCRIPTION:Kids of all ages are welcome to the Garibaldi Library for storytime\, Fridays at 11:00am.
URL:https://tillamookcoast.com/plan-your-trip/events/event/storytime-at-garibaldi-library-43/
LOCATION:Garibaldi Library\, 107 6th St\, Garibaldi OR
CATEGORIES:Community,Family Fun
ATTACH;FMTTYPE=image/png:https://tillamookcoast.com/wp-content/uploads/2025/06/Garibaldi-Story-Time-flyer-NiDhO7.png
GEO:40.4437739;-80.0023533
X-APPLE-STRUCTURED-LOCATION;VALUE=URI;X-ADDRESS=Garibaldi Library 107 6th St Garibaldi OR;X-APPLE-RADIUS=500;X-TITLE=107 6th St\, Garibaldi OR:geo:-80.0023533,40.4437739
END:VEVENT
BEGIN:VEVENT
DTSTART;TZID=America/Los_Angeles:20260213T170000
DTEND;TZID=America/Los_Angeles:20260213T190000
DTSTAMP:20260422T103200
CREATED:20260203T090421Z
LAST-MODIFIED:20260213T133337Z
UID:10009142-1771002000-1771009200@tillamookcoast.com
SUMMARY:February Sip+Shop: Free Museum
DESCRIPTION:The Tillamook County Pioneer Museum is a stop for the Tillamook Area Chamber of Commerce’s Sip+Shop night! Free admission from 5-7 pm at the Museum. We’ll be pouring Pelican Brewing Company. And this month we’ll have “Blind Date with a Book” available for purchase in our gift shop!\nYour adventure begins at the Chamber HQ for a complimentary glass and your first sip. You’ll receive a map of all the other fantastic participating businesses. It’s going to be an evening of great sips\, local shopping\, and good times. Cheers!
URL:https://tillamookcoast.com/plan-your-trip/events/event/february-sipshop-free-museum/
LOCATION:Tillamook County Pioneer Museum\, 2106 Second St\, Tillamook OR 97141
CATEGORIES:Community
ATTACH;FMTTYPE=image/png:https://tillamookcoast.com/wp-content/uploads/2026/02/Sip-Shop-Facebook-post-12-HnXCdw.png
GEO:45.4573215;-123.8427649
X-APPLE-STRUCTURED-LOCATION;VALUE=URI;X-ADDRESS=Tillamook County Pioneer Museum 2106 Second St Tillamook OR 97141;X-APPLE-RADIUS=500;X-TITLE=2106 Second St\, Tillamook OR 97141:geo:-123.8427649,45.4573215
END:VEVENT
BEGIN:VEVENT
DTSTART;TZID=America/Los_Angeles:20260213T170000
DTEND;TZID=America/Los_Angeles:20260213T190000
DTSTAMP:20260422T103200
CREATED:20260204T091918Z
LAST-MODIFIED:20260213T133337Z
UID:10009151-1771002000-1771009200@tillamookcoast.com
SUMMARY:February Sip + Shop
DESCRIPTION:Round up your friends for the February Sip + Shop! \n\nMeet us at the Tillamook Chamber HQ on Friday\, Feb 13th\, from 5:00–7:00 PM. Enjoy your first sip with us (and pick up your free glass if it’s your first time!) before grabbing the list of participating businesses.\n\nExplore downtown while enjoying complimentary sips along the way—it’s the ultimate way to shop local and find that perfect Valentine’s treasure!\n\nWhile this is a FREE event to attend\, we kindly encourage attendees to support the local businesses that are so kind to stay open late to make this event possible. Every small purchase goes a long way in supporting our neighbors and keeping our downtown vibrant!\n\nWe hope to see you there! Cheers!
URL:https://tillamookcoast.com/plan-your-trip/events/event/february-sip-shop/
CATEGORIES:Community,Shopping and Sales
ATTACH;FMTTYPE=image/png:https://tillamookcoast.com/wp-content/uploads/2026/02/Sip-shop-cQigmN.png
ORGANIZER;CN="Tillamook Chamber":MAILTO:info@tillamookchamber.org
END:VEVENT
BEGIN:VEVENT
DTSTART;TZID=America/Los_Angeles:20260213T190000
DTEND;TZID=America/Los_Angeles:20260213T210000
DTSTAMP:20260422T103200
CREATED:20251115T162412Z
LAST-MODIFIED:20260213T133338Z
UID:10008405-1771009200-1771016400@tillamookcoast.com
SUMMARY:Artist/Music Showcase
DESCRIPTION:Local and visiting musicans perform a free concert at the Tillamook Fairview Grange\, featuring Eric Sappington and other musicans and artists monthly. Relax and take in music in one of the best local performance halls.
URL:https://tillamookcoast.com/plan-your-trip/events/event/artist-music-showcase-7/
LOCATION:Tillamook Fairview Grange\, 5620 E. 3rd Street\, Tillamook\, OR 97141\, OR
CATEGORIES:Community,Live Music
ATTACH;FMTTYPE=image/jpeg:https://tillamookcoast.com/wp-content/uploads/2022/01/eric-at-grange-sP1DzR.tmp_.jpg
ORGANIZER;CN="Tillamook Fairview Grange":MAILTO:mary.mcginnis05@gmail.com
GEO:45.4982764;-123.9598036
X-APPLE-STRUCTURED-LOCATION;VALUE=URI;X-ADDRESS=Tillamook Fairview Grange 5620 E. 3rd Street Tillamook OR 97141 OR;X-APPLE-RADIUS=500;X-TITLE=5620 E. 3rd Street\, Tillamook\, OR 97141:geo:-123.9598036,45.4982764
END:VEVENT
END:VCALENDAR