BEGIN:VCALENDAR
VERSION:2.0
PRODID:-//Tillamook Coast - ECPv6.15.16//NONSGML v1.0//EN
CALSCALE:GREGORIAN
METHOD:PUBLISH
X-WR-CALNAME:Tillamook Coast
X-ORIGINAL-URL:https://tillamookcoast.com
X-WR-CALDESC:Events for Tillamook Coast
REFRESH-INTERVAL;VALUE=DURATION:PT1H
X-Robots-Tag:noindex
X-PUBLISHED-TTL:PT1H
BEGIN:VTIMEZONE
TZID:America/Los_Angeles
BEGIN:DAYLIGHT
TZOFFSETFROM:-0800
TZOFFSETTO:-0700
TZNAME:PDT
DTSTART:20250309T100000
END:DAYLIGHT
BEGIN:STANDARD
TZOFFSETFROM:-0700
TZOFFSETTO:-0800
TZNAME:PST
DTSTART:20251102T090000
END:STANDARD
BEGIN:DAYLIGHT
TZOFFSETFROM:-0800
TZOFFSETTO:-0700
TZNAME:PDT
DTSTART:20260308T100000
END:DAYLIGHT
BEGIN:STANDARD
TZOFFSETFROM:-0700
TZOFFSETTO:-0800
TZNAME:PST
DTSTART:20261101T090000
END:STANDARD
BEGIN:DAYLIGHT
TZOFFSETFROM:-0800
TZOFFSETTO:-0700
TZNAME:PDT
DTSTART:20270314T100000
END:DAYLIGHT
BEGIN:STANDARD
TZOFFSETFROM:-0700
TZOFFSETTO:-0800
TZNAME:PST
DTSTART:20271107T090000
END:STANDARD
END:VTIMEZONE
BEGIN:VEVENT
DTSTART;TZID=America/Los_Angeles:20260219T090000
DTEND;TZID=America/Los_Angeles:20260219T100000
DTSTAMP:20260422T124812
CREATED:20251121T175009Z
LAST-MODIFIED:20260219T170746Z
UID:10008455-1771491600-1771495200@tillamookcoast.com
SUMMARY:Yoga With Dawn
DESCRIPTION:🧘‍♀️ Yoga with Dawn – Find Your Flow! 🧘‍♂️ \nStart your day with peace\, strength\, and positive energy 🌞Join Dawn for a refreshing yoga class every: \n🗓️ Monday\, Wednesday\, Friday & Saturday🕘 9:00 AM – 10:00 AM📍 Kiawanda Community Center \nAll levels are welcome—whether you’re new to yoga or a seasoned pro\, Dawn’s calm guidance and supportive atmosphere will leave you feeling refreshed and centered. \n✨ Bring a mat\, some water\, and a smile.No registration needed—just drop in and breathe it out with us! \n#YogaWithDawn #KiawandaCommunityCenter #MorningYoga #WellnessInPacificCity #MindBodySoul
URL:https://tillamookcoast.com/plan-your-trip/events/event/yoga-with-dawn-117/
LOCATION:Kiawanda Community Center\, 34600 Cape Kiwanda Dr\, Pacific City\, OR 97135\, OR\, United States
CATEGORIES:Classes and Workshops,Community
ATTACH;FMTTYPE=image/jpeg:https://tillamookcoast.com/wp-content/uploads/2025/07/yoga-oRzciY.jpg
GEO:45.2048476;-123.9670463
X-APPLE-STRUCTURED-LOCATION;VALUE=URI;X-ADDRESS=Kiawanda Community Center 34600 Cape Kiwanda Dr Pacific City OR 97135 OR United States;X-APPLE-RADIUS=500;X-TITLE=34600 Cape Kiwanda Dr\, Pacific City\, OR 97135:geo:-123.9670463,45.2048476
END:VEVENT
BEGIN:VEVENT
DTSTART;TZID=America/Los_Angeles:20260219T100000
DTEND;TZID=America/Los_Angeles:20260219T110000
DTSTAMP:20260422T124812
CREATED:20251121T174916Z
LAST-MODIFIED:20260219T170628Z
UID:10008450-1771495200-1771498800@tillamookcoast.com
SUMMARY:Family Storytime at Bay City Library
DESCRIPTION:Bring the whole family down to the Bay City Library for a fun storytime and activity every Thursday at 10am!
URL:https://tillamookcoast.com/plan-your-trip/events/event/family-storytime-at-bay-city-library-28/
LOCATION:Bay City Library\, 5525 B St\, Bay City\, OR
CATEGORIES:Community,Family Fun
ATTACH;FMTTYPE=image/png:https://tillamookcoast.com/wp-content/uploads/2024/12/Bay-City-Storytime1-iSlpg8.tmp_.png
GEO:45.5243851;-123.8908552
X-APPLE-STRUCTURED-LOCATION;VALUE=URI;X-ADDRESS=Bay City Library 5525 B St Bay City OR;X-APPLE-RADIUS=500;X-TITLE=5525 B St\, Bay City\, OR:geo:-123.8908552,45.5243851
END:VEVENT
BEGIN:VEVENT
DTSTART;TZID=America/Los_Angeles:20260219T100000
DTEND;TZID=America/Los_Angeles:20260219T150000
DTSTAMP:20260422T124812
CREATED:20260205T093738Z
LAST-MODIFIED:20260219T170629Z
UID:10009163-1771495200-1771513200@tillamookcoast.com
SUMMARY:American Red Cross blood drive
DESCRIPTION:Emergency Red Cross Blood Drive held at Church of Jesus Christ of Latter day Saints at 4200 12th Street\, Tillamook\, OR 97141. \nWe only have a couple day supply for our most vulnerable community members – Please sign up here https://www.redcrossblood.org/give.html/drive-results?zipSponsor=LDSTillamook
URL:https://tillamookcoast.com/plan-your-trip/events/event/american-red-cross-blood-drive/
CATEGORIES:Community
ATTACH;FMTTYPE=image/png:https://tillamookcoast.com/wp-content/uploads/2026/02/LDS-iiMfhp.png
END:VEVENT
BEGIN:VEVENT
DTSTART;TZID=America/Los_Angeles:20260219T100000
DTEND;TZID=America/Los_Angeles:20260219T200000
DTSTAMP:20260422T124812
CREATED:20251121T174917Z
LAST-MODIFIED:20260219T170628Z
UID:10008451-1771495200-1771531200@tillamookcoast.com
SUMMARY:All You Can Eat Oysters and Chips
DESCRIPTION:Petite oysters with coleslaw and crispy french fries. Unlimited refills on oysters\, served three ways- deep fried\, grilled\, and sautéed. Every Thursday $18.99
URL:https://tillamookcoast.com/plan-your-trip/events/event/all-you-can-eat-oysters-and-chips-17/
LOCATION:Fish Peddler at Pacific Oyster\, 5150 Hayes Oyster Dr
CATEGORIES:Community
ATTACH;FMTTYPE=image/jpeg:https://tillamookcoast.com/wp-content/uploads/2025/10/IMG_5605-scaled-ARVKXg-scaled.jpg
END:VEVENT
BEGIN:VEVENT
DTSTART;TZID=America/Los_Angeles:20260219T103000
DTEND;TZID=America/Los_Angeles:20260219T113000
DTSTAMP:20260422T124812
CREATED:20251121T174917Z
LAST-MODIFIED:20260219T170629Z
UID:10008452-1771497000-1771500600@tillamookcoast.com
SUMMARY:PreK Storytime at Manzanita Library
DESCRIPTION:Stories and activities for preschoolers at the Manzanita Library every 3rd Thursday at 10:30 am!
URL:https://tillamookcoast.com/plan-your-trip/events/event/prek-storytime-at-manzanita-library-5/
LOCATION:Manzanita Library\, 571 Laneda Ave Manzanita OR
CATEGORIES:Community,Family Fun
ATTACH;FMTTYPE=image/png:https://tillamookcoast.com/wp-content/uploads/2025/09/PreK-Storytime-TZ-ZGwSyA.png
GEO:45.7194514;-123.9317481
X-APPLE-STRUCTURED-LOCATION;VALUE=URI;X-ADDRESS=Manzanita Library 571 Laneda Ave Manzanita OR;X-APPLE-RADIUS=500;X-TITLE=571 Laneda Ave Manzanita OR:geo:-123.9317481,45.7194514
END:VEVENT
BEGIN:VEVENT
DTSTART;TZID=America/Los_Angeles:20260219T130000
DTEND;TZID=America/Los_Angeles:20260219T150000
DTSTAMP:20260422T124812
CREATED:20251121T175009Z
LAST-MODIFIED:20260219T170748Z
UID:10008457-1771506000-1771513200@tillamookcoast.com
SUMMARY:Bingo
DESCRIPTION:🎉 Thursday Bingo Fun at the Kiawanda Community Center! 🎉 \nJoin us every Thursday from 1PM to 3PM for an afternoon of bingo\, community\, and fun at the Kiawanda Community Center! \n🗓️ When: Thursdays\, 1:00–3:00 PM\n📍 Where: Kiawanda Community Center\n🎁 Prizes\, laughs\, and good company guaranteed! \nWhether you’re a seasoned player or brand new to the game\, everyone is welcome! Come early\, grab your favorite seat\, and get ready for a great time! 🙌 \nTag your bingo buddy and spread the word! 🎊 \n#BingoFun #KiawandaCommunityCenter #PacificCityEvents #ThursdayBingo #CommunityVibes
URL:https://tillamookcoast.com/plan-your-trip/events/event/bingo-29/
LOCATION:Kiawanda Community Center\, 34600 Cape Kiwanda Dr\, Pacific City\, OR 97135\, OR\, United States
CATEGORIES:Community
ATTACH;FMTTYPE=image/jpeg:https://tillamookcoast.com/wp-content/uploads/2025/07/Cream-Orange-Colorful-Retro-We-Are-Hiring-Flyer-vLTXaz.jpg
GEO:45.2048476;-123.9670463
X-APPLE-STRUCTURED-LOCATION;VALUE=URI;X-ADDRESS=Kiawanda Community Center 34600 Cape Kiwanda Dr Pacific City OR 97135 OR United States;X-APPLE-RADIUS=500;X-TITLE=34600 Cape Kiwanda Dr\, Pacific City\, OR 97135:geo:-123.9670463,45.2048476
END:VEVENT
BEGIN:VEVENT
DTSTART;TZID=America/Los_Angeles:20260219T140000
DTEND;TZID=America/Los_Angeles:20260219T150000
DTSTAMP:20260422T124812
CREATED:20251121T174917Z
LAST-MODIFIED:20260219T170629Z
UID:10008453-1771509600-1771513200@tillamookcoast.com
SUMMARY:Mahjong at Manzanita Library
DESCRIPTION:Play mahjong in a fun informal group at the Manzanita library Thursdays at 2 pm!
URL:https://tillamookcoast.com/plan-your-trip/events/event/mahjong-at-manzanita-library-21/
LOCATION:Manzanita Library\, 571 Laneda Ave Manzanita OR
CATEGORIES:Community,Family Fun
GEO:45.7194514;-123.9317481
X-APPLE-STRUCTURED-LOCATION;VALUE=URI;X-ADDRESS=Manzanita Library 571 Laneda Ave Manzanita OR;X-APPLE-RADIUS=500;X-TITLE=571 Laneda Ave Manzanita OR:geo:-123.9317481,45.7194514
END:VEVENT
BEGIN:VEVENT
DTSTART;TZID=America/Los_Angeles:20260219T160000
DTEND;TZID=America/Los_Angeles:20260219T173000
DTSTAMP:20260422T124812
CREATED:20251121T175009Z
LAST-MODIFIED:20260219T170630Z
UID:10008458-1771516800-1771522200@tillamookcoast.com
SUMMARY:Knitting Group
DESCRIPTION:Join a fun group of knitters at North Tillamook Library in Manzanita on Thursdays from 4pm to 5:30pm.
URL:https://tillamookcoast.com/plan-your-trip/events/event/knitting-group-29/
LOCATION:North Tillamook Library\, 571 Laneda Ave\, Manzanita\, OR 97130
CATEGORIES:Community,Education
ATTACH;FMTTYPE=image/png:https://tillamookcoast.com/wp-content/uploads/2024/08/logo-OfhBMs.tmp_.png
GEO:45.7194742;-123.9317422
X-APPLE-STRUCTURED-LOCATION;VALUE=URI;X-ADDRESS=North Tillamook Library 571 Laneda Ave Manzanita OR 97130;X-APPLE-RADIUS=500;X-TITLE=571 Laneda Ave\, Manzanita\, OR 97130:geo:-123.9317422,45.7194742
END:VEVENT
BEGIN:VEVENT
DTSTART;TZID=America/Los_Angeles:20260219T183000
DTEND;TZID=America/Los_Angeles:20260219T200000
DTSTAMP:20260422T124812
CREATED:20260126T154124Z
LAST-MODIFIED:20260219T170630Z
UID:10009066-1771525800-1771531200@tillamookcoast.com
SUMMARY:Paint & Sip
DESCRIPTION:Join us for a fun night of art and community. All proceeds benefit the Nestucca 2026 Senior Class is hosting Paint & Sip with painting instruction hosted by Molly Ricks\, art teacher at Nestucca High School. \nRegistration fee includes all art supplies. Food and beverages are available for purchase from Pelican Brewing. All ages are welcome. \nDate: February 19 at 6:30pm\nLocation: Pelican Brewing- Pacific City \nCost: $35 Pre-payment\, $40 at door\, Group of 3 for $90\nPrepayment can be taken at the NHS concessions booth or by contacting Shannon at 503-965-6135
URL:https://tillamookcoast.com/plan-your-trip/events/event/paint-sip/
LOCATION:Pelican Brewing Company\, 33180 Cape Kiwanda Drive
CATEGORIES:Community,Fundraisers
ATTACH;FMTTYPE=image/png:https://tillamookcoast.com/wp-content/uploads/2026/01/paint-and-sip-oOt9RI.png
GEO:45.2151367;-123.9705111
X-APPLE-STRUCTURED-LOCATION;VALUE=URI;X-ADDRESS=Pelican Brewing Company 33180 Cape Kiwanda Drive;X-APPLE-RADIUS=500;X-TITLE=33180 Cape Kiwanda Drive:geo:-123.9705111,45.2151367
END:VEVENT
END:VCALENDAR