BEGIN:VCALENDAR
VERSION:2.0
PRODID:-//Tillamook Coast - ECPv6.15.16//NONSGML v1.0//EN
CALSCALE:GREGORIAN
METHOD:PUBLISH
X-ORIGINAL-URL:https://tillamookcoast.com
X-WR-CALDESC:Events for Tillamook Coast
REFRESH-INTERVAL;VALUE=DURATION:PT1H
X-Robots-Tag:noindex
X-PUBLISHED-TTL:PT1H
BEGIN:VTIMEZONE
TZID:America/Los_Angeles
BEGIN:DAYLIGHT
TZOFFSETFROM:-0800
TZOFFSETTO:-0700
TZNAME:PDT
DTSTART:20250309T100000
END:DAYLIGHT
BEGIN:STANDARD
TZOFFSETFROM:-0700
TZOFFSETTO:-0800
TZNAME:PST
DTSTART:20251102T090000
END:STANDARD
BEGIN:DAYLIGHT
TZOFFSETFROM:-0800
TZOFFSETTO:-0700
TZNAME:PDT
DTSTART:20260308T100000
END:DAYLIGHT
BEGIN:STANDARD
TZOFFSETFROM:-0700
TZOFFSETTO:-0800
TZNAME:PST
DTSTART:20261101T090000
END:STANDARD
BEGIN:DAYLIGHT
TZOFFSETFROM:-0800
TZOFFSETTO:-0700
TZNAME:PDT
DTSTART:20270314T100000
END:DAYLIGHT
BEGIN:STANDARD
TZOFFSETFROM:-0700
TZOFFSETTO:-0800
TZNAME:PST
DTSTART:20271107T090000
END:STANDARD
END:VTIMEZONE
BEGIN:VEVENT
DTSTART;TZID=America/Los_Angeles:20260221T090000
DTEND;TZID=America/Los_Angeles:20260221T100000
DTSTAMP:20260422T103038
CREATED:20251123T180848Z
LAST-MODIFIED:20260221T183646Z
UID:10008474-1771664400-1771668000@tillamookcoast.com
SUMMARY:Yoga With Dawn
DESCRIPTION:🧘‍♀️ Yoga with Dawn – Find Your Flow! 🧘‍♂️ \nStart your day with peace\, strength\, and positive energy 🌞Join Dawn for a refreshing yoga class every: \n🗓️ Monday\, Wednesday\, Friday & Saturday🕘 9:00 AM – 10:00 AM📍 Kiawanda Community Center \nAll levels are welcome—whether you’re new to yoga or a seasoned pro\, Dawn’s calm guidance and supportive atmosphere will leave you feeling refreshed and centered. \n✨ Bring a mat\, some water\, and a smile.No registration needed—just drop in and breathe it out with us! \n#YogaWithDawn #KiawandaCommunityCenter #MorningYoga #WellnessInPacificCity #MindBodySoul
URL:https://tillamookcoast.com/plan-your-trip/events/event/yoga-with-dawn-119/
LOCATION:Kiawanda Community Center\, 34600 Cape Kiwanda Dr\, Pacific City\, OR 97135\, OR\, United States
CATEGORIES:Classes and Workshops,Community
ATTACH;FMTTYPE=image/jpeg:https://tillamookcoast.com/wp-content/uploads/2025/07/yoga-oRzciY.jpg
GEO:45.2048476;-123.9670463
X-APPLE-STRUCTURED-LOCATION;VALUE=URI;X-ADDRESS=Kiawanda Community Center 34600 Cape Kiwanda Dr Pacific City OR 97135 OR United States;X-APPLE-RADIUS=500;X-TITLE=34600 Cape Kiwanda Dr\, Pacific City\, OR 97135:geo:-123.9670463,45.2048476
END:VEVENT
BEGIN:VEVENT
DTSTART;TZID=America/Los_Angeles:20260221T100000
DTEND;TZID=America/Los_Angeles:20260221T113000
DTSTAMP:20260422T103038
CREATED:20251123T180757Z
LAST-MODIFIED:20260221T183647Z
UID:10008471-1771668000-1771673400@tillamookcoast.com
SUMMARY:Saturday Morning Family Fun at Pacific City Library
DESCRIPTION:Join us for a variety of activities for the whole family at Pacific City library every third Saturday of the month!
URL:https://tillamookcoast.com/plan-your-trip/events/event/saturday-morning-family-fun-at-pacific-city-library-5/
LOCATION:Pacific City Library\, 6200 Camp St Pacific City\, OR
CATEGORIES:Community,Family Fun
ATTACH;FMTTYPE=image/png:https://tillamookcoast.com/wp-content/uploads/2025/09/Saturday-Morning-Family-Fun-at-TP-CxE5IY.png
GEO:45.2050261;-123.9606441
X-APPLE-STRUCTURED-LOCATION;VALUE=URI;X-ADDRESS=Pacific City Library 6200 Camp St Pacific City OR;X-APPLE-RADIUS=500;X-TITLE=6200 Camp St Pacific City\, OR:geo:-123.9606441,45.2050261
END:VEVENT
BEGIN:VEVENT
DTSTART;TZID=America/Los_Angeles:20260221T100000
DTEND;TZID=America/Los_Angeles:20260221T120000
DTSTAMP:20260422T103038
CREATED:20251123T180848Z
LAST-MODIFIED:20260221T183647Z
UID:10008475-1771668000-1771675200@tillamookcoast.com
SUMMARY:Dungeons and Dragons at Tillamook Library
DESCRIPTION:Play a variety of tabletop RPGs with local storytellers at the library! Open to all!
URL:https://tillamookcoast.com/plan-your-trip/events/event/dungeons-and-dragons-at-tillamook-library-66/
LOCATION:Tillamook County Library\, 1716 3rd Street Tillamook Oregon 97141
CATEGORIES:Community
ATTACH;FMTTYPE=image/png:https://tillamookcoast.com/wp-content/uploads/2025/07/Dungeons-Dragons-2025-TM-GIMjO9.png
GEO:45.4566251;-123.846324
X-APPLE-STRUCTURED-LOCATION;VALUE=URI;X-ADDRESS=Tillamook County Library 1716 3rd Street Tillamook Oregon 97141;X-APPLE-RADIUS=500;X-TITLE=1716 3rd Street Tillamook Oregon 97141:geo:-123.846324,45.4566251
END:VEVENT
BEGIN:VEVENT
DTSTART;TZID=America/Los_Angeles:20260221T100000
DTEND;TZID=America/Los_Angeles:20260221T120000
DTSTAMP:20260422T103038
CREATED:20260130T232038Z
LAST-MODIFIED:20260221T183814Z
UID:10009120-1771668000-1771675200@tillamookcoast.com
SUMMARY:Let’s Get Ready to Rock and Roll – Inspiration and Preparedness for Tillamook County
DESCRIPTION:The Cape Meares Emergency Volunteer Corps (CMEVC) and the newly formed Tillamook Emergency Volunteer Corps (TEVC) are gearing up for an energizing and educational morning as the Let’s Get Ready to Rock and Roll event arrives at the Tillamook County Library on February 21\, 2026\, from 10 a.m. to 12 p.m. County officials and representatives of CMEVC and TEVC will be available for questions during the Q & A session. CMEVC is the emergency preparedness arm of the Cape Meares Community Association (CMCA). \nFor those unable to attend in person\, send an email to capemearesca@gmail.com to request a ZOOM link and how to participate in the interactive events. Admission is FREE. Enter for a chance to win a “go-bag” ($125 value) filled with supplies that will help you survive the first 72 hours of emergencies like extended power outages and the long-anticipated 9.0 Cascadia Subduction Zone Earthquake. \nThe featured speaker\, Steve Eberlein\, will share his remarkable firsthand account of surviving the 9.1 Indian Ocean earthquake and tsunami (2004) while working for the Red Cross. His experience offers a powerful perspective on resilience\, preparedness\, and the strength people discover in moments of crisis. A native Oregonian\, Steve has delivered 200+ earthquake preparedness presentations\, including his 2018 TEDx presentation in Portland\, Oregon. Steve is the Resilience and Engagement Manager for Ethos Preparedness. \nSponsored by Governor Kotek’s Plan for a Resilient Oregon (PRO)\, CMEVC\, TEVC\, and the Tillamook County Library\, the program promises a blend of storytelling\, interactive events\, and community connection. CMCA is one of two nonprofits in Tillamook County and one of 53 community-based organizations whose work directly informs the Governor’s plan. The PRO will guide the development of her 2027-2029 budget and legislative funding in 2027 and beyond. TEVC focuses on emergency preparedness in the City of Tillamook and collaborates with CMEVC and other communities across Tillamook County through their membership in Tillamook County Civilian Corps Council (TC4)\, a grassroots council of communities\, agencies\, and organizations throughout Tillamook County.
URL:https://tillamookcoast.com/plan-your-trip/events/event/lets-get-ready-to-rock-and-roll-inspiration-and-preparedness-for-tillamook-county/
LOCATION:Tillamook County Library\, 1716 3rd Street Tillamook Oregon 97141
CATEGORIES:Community,Education
ATTACH;FMTTYPE=image/jpeg:https://tillamookcoast.com/wp-content/uploads/2026/01/February-21-20216_CMEVC_TEVC-Flyer-2_FINAL-1-scaled-JRq3BL-scaled.jpg
GEO:45.4566251;-123.846324
X-APPLE-STRUCTURED-LOCATION;VALUE=URI;X-ADDRESS=Tillamook County Library 1716 3rd Street Tillamook Oregon 97141;X-APPLE-RADIUS=500;X-TITLE=1716 3rd Street Tillamook Oregon 97141:geo:-123.846324,45.4566251
END:VEVENT
BEGIN:VEVENT
DTSTART;TZID=America/Los_Angeles:20260221T140000
DTEND;TZID=America/Los_Angeles:20260221T170000
DTSTAMP:20260422T103038
CREATED:20251123T180757Z
LAST-MODIFIED:20260221T183648Z
UID:10008472-1771682400-1771693200@tillamookcoast.com
SUMMARY:Maker Saturday at the Bay City Library
DESCRIPTION:Join us at the Bay City Branch Library on the 3rd Saturday of the month at 2:00pm and 5:00pm for Maker Saturday! Bring a project you have been working on or come and be inspired by the supplies we have. \nDo you have a new model or a LEGO kit you’ve been meaning to work on? Is there a painting or craft you’ve been wanting to start and/or finish? Are you looking for a place to get away for a while to work on your project? \nWe can help! Please note\, supplies are limited.
URL:https://tillamookcoast.com/plan-your-trip/events/event/maker-saturday-at-the-bay-city-library-33/
LOCATION:Bay City Library\, 5525 B St\, Bay City\, OR
CATEGORIES:Community
ATTACH;FMTTYPE=image/png:https://tillamookcoast.com/wp-content/uploads/2025/03/maker_saturdays-swH1cv.tmp_.png
GEO:45.5243851;-123.8908552
X-APPLE-STRUCTURED-LOCATION;VALUE=URI;X-ADDRESS=Bay City Library 5525 B St Bay City OR;X-APPLE-RADIUS=500;X-TITLE=5525 B St\, Bay City\, OR:geo:-123.8908552,45.5243851
END:VEVENT
BEGIN:VEVENT
DTSTART;TZID=America/Los_Angeles:20260221T190000
DTEND;TZID=America/Los_Angeles:20260221T200000
DTSTAMP:20260422T103038
CREATED:20260107T171905Z
LAST-MODIFIED:20260221T183814Z
UID:10008935-1771700400-1771704000@tillamookcoast.com
SUMMARY:Line Dancing
DESCRIPTION:🕺💃 Kick Up Your Heels at Line Dancing! 💃🕺Looking for a fun way to move\, groove\, and connect with your community? Join us for Line Dancing at the Kiawanda Community Center! Our line dancing class is full of energy\, laughter\, and easy-to-follow steps that make it perfect for beginners and seasoned dancers alike. No partner needed\, just bring your enthusiasm and get ready to dance to great music\, learn new routines\, and have a blast while staying active. 🎶✨ \nCome dance\, smile\, and make new friends\, because every step is more fun together!
URL:https://tillamookcoast.com/plan-your-trip/events/event/line-dancing-4/
LOCATION:Kiawanda Community Center\, 34600 Cape Kiwanda Dr\, Pacific City\, OR 97135\, OR\, United States
CATEGORIES:Classes and Workshops,Community
ATTACH;FMTTYPE=image/jpeg:https://tillamookcoast.com/wp-content/uploads/2026/01/1000009175-Zb9zvb.jpg
GEO:45.2048476;-123.9670463
X-APPLE-STRUCTURED-LOCATION;VALUE=URI;X-ADDRESS=Kiawanda Community Center 34600 Cape Kiwanda Dr Pacific City OR 97135 OR United States;X-APPLE-RADIUS=500;X-TITLE=34600 Cape Kiwanda Dr\, Pacific City\, OR 97135:geo:-123.9670463,45.2048476
END:VEVENT
END:VCALENDAR