BEGIN:VCALENDAR
VERSION:2.0
PRODID:-//Tillamook Coast - ECPv6.15.16//NONSGML v1.0//EN
CALSCALE:GREGORIAN
METHOD:PUBLISH
X-WR-CALNAME:Tillamook Coast
X-ORIGINAL-URL:https://tillamookcoast.com
X-WR-CALDESC:Events for Tillamook Coast
REFRESH-INTERVAL;VALUE=DURATION:PT1H
X-Robots-Tag:noindex
X-PUBLISHED-TTL:PT1H
BEGIN:VTIMEZONE
TZID:America/Los_Angeles
BEGIN:DAYLIGHT
TZOFFSETFROM:-0800
TZOFFSETTO:-0700
TZNAME:PDT
DTSTART:20250309T100000
END:DAYLIGHT
BEGIN:STANDARD
TZOFFSETFROM:-0700
TZOFFSETTO:-0800
TZNAME:PST
DTSTART:20251102T090000
END:STANDARD
BEGIN:DAYLIGHT
TZOFFSETFROM:-0800
TZOFFSETTO:-0700
TZNAME:PDT
DTSTART:20260308T100000
END:DAYLIGHT
BEGIN:STANDARD
TZOFFSETFROM:-0700
TZOFFSETTO:-0800
TZNAME:PST
DTSTART:20261101T090000
END:STANDARD
BEGIN:DAYLIGHT
TZOFFSETFROM:-0800
TZOFFSETTO:-0700
TZNAME:PDT
DTSTART:20270314T100000
END:DAYLIGHT
BEGIN:STANDARD
TZOFFSETFROM:-0700
TZOFFSETTO:-0800
TZNAME:PST
DTSTART:20271107T090000
END:STANDARD
END:VTIMEZONE
BEGIN:VEVENT
DTSTART;TZID=America/Los_Angeles:20260225T113000
DTEND;TZID=America/Los_Angeles:20260225T123000
DTSTAMP:20260422T091002
CREATED:20251231T191507Z
LAST-MODIFIED:20260225T193847Z
UID:10008871-1772019000-1772022600@tillamookcoast.com
SUMMARY:Senior Meals Tuesday & Wednesday
DESCRIPTION:🍽️ Senior Meals at the Kiawanda Community Center 🍽️ \nJoin us every Tuesday and Wednesday at 11:30 AM for delicious\, nutritious senior meals at the Kiawanda Community Center!\nCome enjoy great food and even better company in a warm and welcoming atmosphere. \n✨ Who: Seniors & community members\n📍 Where: Kiawanda Community Center\n📅 When: Every Tuesday & Wednesday\n⏰ Time: 11:30 AM \nBring a friend\, make new ones\, and enjoy a healthy midday meal! ❤️ \nFor more information\, call the Kiawanda Community Center.
URL:https://tillamookcoast.com/plan-your-trip/events/event/senior-meals-tuesday-wednesday-17/
LOCATION:Kiawanda Community Center\, 34600 Cape Kiwanda Dr\, Pacific City\, OR 97135\, OR\, United States
CATEGORIES:Community
ATTACH;FMTTYPE=image/png:https://tillamookcoast.com/wp-content/uploads/2025/12/Brown-Orange-Modern-Food-Price-Instagram-Post-Invitation-portrait-a9KvXm.png
GEO:45.2048476;-123.9670463
X-APPLE-STRUCTURED-LOCATION;VALUE=URI;X-ADDRESS=Kiawanda Community Center 34600 Cape Kiwanda Dr Pacific City OR 97135 OR United States;X-APPLE-RADIUS=500;X-TITLE=34600 Cape Kiwanda Dr\, Pacific City\, OR 97135:geo:-123.9670463,45.2048476
END:VEVENT
BEGIN:VEVENT
DTSTART;TZID=America/Los_Angeles:20260225T183000
DTEND;TZID=America/Los_Angeles:20260225T200000
DTSTAMP:20260422T091002
CREATED:20260211T130340Z
LAST-MODIFIED:20260225T193726Z
UID:10009203-1772044200-1772049600@tillamookcoast.com
SUMMARY:Eelgrass: Ecology\, Research\, and Local Updates
DESCRIPTION:Friends of Netarts Bay WEBS is kicking off 2026 with a three-part event series\, “Producers of\nthe Bay!” Our first event of the series shines a spotlight on eelgrass\, a flowering marine plant\nthat acts as a nursery for the young fish and invertebrates that form the foundation of our local\nfood web.\nNetarts Bay stands out as one of the few bays in Oregon that still has healthy native eelgrass\nbeds. Eelgrass is impacted by a variety of human activities including boating\, dredging\,\nrecreational shellfish harvest\, some aquaculture harvesting techniques\, the introduction of\ninvasive species\, and nutrient runoff from land. Eelgrass responses to\, and recovery from\, these\nactivities vary widely\, highlighting the importance of local\, science-based approaches to\nsustaining ecosystem health while supporting the important industries and communities that\ndepend on a thriving bay. So how are scientists working to sustain this vital species throughout\nthe coast\, and how can we protect the healthy beds in Netarts?\nJoin us on Zoom to hear from Dr. Tony D’Andrea\, Project Director of ODFW’s Shellfish &\nEstuarine Assessment of Coastal Oregon (SEACOR). He’ll share insights from his work\nmonitoring local eelgrass health\, including recent surveys in neighboring Tillamook Bay.\nTune in on February 25th\, 6:30 PM – 8:00 PM\, to learn the latest on local eelgrass and stick\naround for a live Q&A at the end of the presentation. We’d love to see you there!\nVisit https://www.netartsbaywebs.org/events to learn more and register. The Zoom link will be\nshared after registration.\nQuestions or Cancellations? Contact info@netartsbaywebs.org\nConnect with the Friends of Netarts Bay WEBS online!\nWebsite: www.netartsbaywebs.org\nSocial: @netartsbaywebs\nEmail: info@netartsbaywebs.org\nRead more about SEACOR: https://www.dfw.state.or.us/mrp/shellfish/Seacor/\nContact the SEACOR project via e-mail at: ODFW.SEACOR@odfw.oregon.gov
URL:https://tillamookcoast.com/plan-your-trip/events/event/eelgrass-ecology-research-and-local-updates/
LOCATION:Virtual
CATEGORIES:Community,Education
ATTACH;FMTTYPE=image/png:https://tillamookcoast.com/wp-content/uploads/2026/02/Eventbrite-Banner-Google-Form-Eelgrass-XfpG0Z.png
END:VEVENT
END:VCALENDAR