BEGIN:VCALENDAR
VERSION:2.0
PRODID:-//Tillamook Coast - ECPv6.15.16//NONSGML v1.0//EN
CALSCALE:GREGORIAN
METHOD:PUBLISH
X-WR-CALNAME:Tillamook Coast
X-ORIGINAL-URL:https://tillamookcoast.com
X-WR-CALDESC:Events for Tillamook Coast
REFRESH-INTERVAL;VALUE=DURATION:PT1H
X-Robots-Tag:noindex
X-PUBLISHED-TTL:PT1H
BEGIN:VTIMEZONE
TZID:America/Los_Angeles
BEGIN:DAYLIGHT
TZOFFSETFROM:-0800
TZOFFSETTO:-0700
TZNAME:PDT
DTSTART:20250309T100000
END:DAYLIGHT
BEGIN:STANDARD
TZOFFSETFROM:-0700
TZOFFSETTO:-0800
TZNAME:PST
DTSTART:20251102T090000
END:STANDARD
BEGIN:DAYLIGHT
TZOFFSETFROM:-0800
TZOFFSETTO:-0700
TZNAME:PDT
DTSTART:20260308T100000
END:DAYLIGHT
BEGIN:STANDARD
TZOFFSETFROM:-0700
TZOFFSETTO:-0800
TZNAME:PST
DTSTART:20261101T090000
END:STANDARD
BEGIN:DAYLIGHT
TZOFFSETFROM:-0800
TZOFFSETTO:-0700
TZNAME:PDT
DTSTART:20270314T100000
END:DAYLIGHT
BEGIN:STANDARD
TZOFFSETFROM:-0700
TZOFFSETTO:-0800
TZNAME:PST
DTSTART:20271107T090000
END:STANDARD
END:VTIMEZONE
BEGIN:VEVENT
DTSTART;TZID=America/Los_Angeles:20260227T090000
DTEND;TZID=America/Los_Angeles:20260227T100000
DTSTAMP:20260422T090956
CREATED:20251201T173025Z
LAST-MODIFIED:20260227T200743Z
UID:10008634-1772182800-1772186400@tillamookcoast.com
SUMMARY:Yoga With Dawn
DESCRIPTION:🧘‍♀️ Yoga with Dawn – Find Your Flow! 🧘‍♂️ \nStart your day with peace\, strength\, and positive energy 🌞Join Dawn for a refreshing yoga class every: \n🗓️ Monday\, Wednesday\, Friday & Saturday🕘 9:00 AM – 10:00 AM📍 Kiawanda Community Center \nAll levels are welcome—whether you’re new to yoga or a seasoned pro\, Dawn’s calm guidance and supportive atmosphere will leave you feeling refreshed and centered. \n✨ Bring a mat\, some water\, and a smile.No registration needed—just drop in and breathe it out with us! \n#YogaWithDawn #KiawandaCommunityCenter #MorningYoga #WellnessInPacificCity #MindBodySoul
URL:https://tillamookcoast.com/plan-your-trip/events/event/yoga-with-dawn-122/
LOCATION:Kiawanda Community Center\, 34600 Cape Kiwanda Dr\, Pacific City\, OR 97135\, OR\, United States
CATEGORIES:Classes and Workshops,Community
ATTACH;FMTTYPE=image/jpeg:https://tillamookcoast.com/wp-content/uploads/2025/07/yoga-oRzciY.jpg
GEO:45.2048476;-123.9670463
X-APPLE-STRUCTURED-LOCATION;VALUE=URI;X-ADDRESS=Kiawanda Community Center 34600 Cape Kiwanda Dr Pacific City OR 97135 OR United States;X-APPLE-RADIUS=500;X-TITLE=34600 Cape Kiwanda Dr\, Pacific City\, OR 97135:geo:-123.9670463,45.2048476
END:VEVENT
BEGIN:VEVENT
DTSTART;TZID=America/Los_Angeles:20260227T100000
DTEND;TZID=America/Los_Angeles:20260227T120000
DTSTAMP:20260422T090956
CREATED:20251201T172929Z
LAST-MODIFIED:20260227T200744Z
UID:10008614-1772186400-1772193600@tillamookcoast.com
SUMMARY:Trail Building in Nehalem Bay With LNCT!
DESCRIPTION:Every Friday\, volunteers gather on LNCT lands near Manzanita\, Nehalem and Wheeler to protect and restore habitat in the lower Nehalem watershed. We would love to see new faces out on the land!\n\n\n\nThese work parties are beginner friendly and an opportunity to learn about the engineering of hiking trails. We will be working on uneven ground\, bending\, and moving small rocks and brush during this process. Tools and gloves are provided\, new volunteers welcome and no prior experience needed. Join as frequently as you please.  Email shane@nehalemtrust.org for weekly updates on where to meet.\n\nAlder Creek Farm and Natural Area’s Nehalem Teaching Trail already supports an impressive variety of native plants and simulated ecosystems for community learning—but we’re looking to grow. This short trail will extend educational access into a different ecosystem and connect to the Natural Area’s pollinator meadow. We hope it will also add some variety to habitat access for bird watchers who visit the farm as a part of the Oregon Coast Birding Trail.
URL:https://tillamookcoast.com/plan-your-trip/events/event/trail-building-in-nehalem-bay-with-lnct-28/
LOCATION:Lower Nehalem Community Trust
CATEGORIES:Community,Education,Outdoor
ATTACH;FMTTYPE=image/jpeg:https://tillamookcoast.com/wp-content/uploads/2025/12/LNCT-Stewardship-Poster-4-LH2xa6.jpg
GEO:45.7201074;-123.8940225
END:VEVENT
BEGIN:VEVENT
DTSTART;TZID=America/Los_Angeles:20260227T100000
DTEND;TZID=America/Los_Angeles:20260227T200000
DTSTAMP:20260422T090956
CREATED:20251201T172929Z
LAST-MODIFIED:20260227T200745Z
UID:10008615-1772186400-1772222400@tillamookcoast.com
SUMMARY:All You Can Eat Fish and Chips
DESCRIPTION:Fresh\, local\, fried rockfish served with coleslaw and crispy french fries. Unlimited fish every Friday $18.99
URL:https://tillamookcoast.com/plan-your-trip/events/event/all-you-can-eat-fish-and-chips-18/
LOCATION:Fish Peddler at Pacific Oyster\, 5150 Hayes Oyster Dr
CATEGORIES:Community
END:VEVENT
BEGIN:VEVENT
DTSTART;TZID=America/Los_Angeles:20260227T110000
DTEND;TZID=America/Los_Angeles:20260227T120000
DTSTAMP:20260422T090956
CREATED:20251201T172929Z
LAST-MODIFIED:20260227T200745Z
UID:10008616-1772190000-1772193600@tillamookcoast.com
SUMMARY:Storytime at Garibaldi Library
DESCRIPTION:Kids of all ages are welcome to the Garibaldi Library for storytime\, Fridays at 11:00am.
URL:https://tillamookcoast.com/plan-your-trip/events/event/storytime-at-garibaldi-library-45/
LOCATION:Garibaldi Library\, 107 6th St\, Garibaldi OR
CATEGORIES:Community,Family Fun
ATTACH;FMTTYPE=image/png:https://tillamookcoast.com/wp-content/uploads/2025/06/Garibaldi-Story-Time-flyer-NiDhO7.png
GEO:40.4437739;-80.0023533
X-APPLE-STRUCTURED-LOCATION;VALUE=URI;X-ADDRESS=Garibaldi Library 107 6th St Garibaldi OR;X-APPLE-RADIUS=500;X-TITLE=107 6th St\, Garibaldi OR:geo:-80.0023533,40.4437739
END:VEVENT
BEGIN:VEVENT
DTSTART;TZID=America/Los_Angeles:20260227T150000
DTEND;TZID=America/Los_Angeles:20260227T160000
DTSTAMP:20260422T090956
CREATED:20260217T160622Z
LAST-MODIFIED:20260227T200746Z
UID:10009254-1772204400-1772208000@tillamookcoast.com
SUMMARY:Sourdough Starter Class at Manzanita Library
DESCRIPTION:Learn about building and caring for a sourdough starter at the Manzanita Library on February 27th at 3 pm!
URL:https://tillamookcoast.com/plan-your-trip/events/event/sourdough-starter-class-at-manzanita-library/
LOCATION:Manzanita Library\, 571 Laneda Ave Manzanita OR
CATEGORIES:Community,Education
ATTACH;FMTTYPE=image/png:https://tillamookcoast.com/wp-content/uploads/2026/02/Sourdough-Starter-Class-091925-TM-2gNNLV.png
GEO:45.7194514;-123.9317481
X-APPLE-STRUCTURED-LOCATION;VALUE=URI;X-ADDRESS=Manzanita Library 571 Laneda Ave Manzanita OR;X-APPLE-RADIUS=500;X-TITLE=571 Laneda Ave Manzanita OR:geo:-123.9317481,45.7194514
END:VEVENT
BEGIN:VEVENT
DTSTART;TZID=America/Los_Angeles:20260227T160000
DTEND;TZID=America/Los_Angeles:20260227T190000
DTSTAMP:20260422T090956
CREATED:20251201T172929Z
LAST-MODIFIED:20251217T170430Z
UID:10008617-1772208000-1772218800@tillamookcoast.com
SUMMARY:Steak Night & Live Music in the Garden
DESCRIPTION:Join us for prime grade steaks and seafood and live music every last Friday!
URL:https://tillamookcoast.com/plan-your-trip/events/event/steak-night-live-music-in-the-garden-7/
LOCATION:JAndy Oyster Co.\, 6760 South Prairie Road\, OR\, United States
CATEGORIES:Community,Live Music
ATTACH;FMTTYPE=image/jpeg:https://tillamookcoast.com/wp-content/uploads/2025/07/IMG_4528-scaled-OeLBkk-scaled.jpg
END:VEVENT
BEGIN:VEVENT
DTSTART;TZID=America/Los_Angeles:20260227T180000
DTEND;TZID=America/Los_Angeles:20260227T200000
DTSTAMP:20260422T090956
CREATED:20260220T182502Z
LAST-MODIFIED:20260227T200746Z
UID:10009284-1772215200-1772222400@tillamookcoast.com
SUMMARY:After the Fire Benefit Concert for Scott Casey & Cosmo Jones
DESCRIPTION:Some good friends experienced a huge fire at the end of January and lost all the contents of a building on their property\, which contained two recording studios\, a myriad of musical instruments\, stage equipment\, lights\, computers\, and their livelihoods. Moss Creek Studios\, Coastal AV\, and Crow Cane Studios were completely destroyed.\n\nA bunch of us who love them would really like to provide support to cover the cost of things insurance will not provide. All of the people involved are the kind of people who have helped everyone around them in multiple ways\, on multiple occasions. They are a big part of the heart of our community. Money won’t replace the lost treasures and memories\, but it can help lighten the pain of starting over. Suggested donation is $10 for this event\, plus we are raffling off a brand new Taylor Guitar to one lucky person!
URL:https://tillamookcoast.com/plan-your-trip/events/event/after-the-fire-benefit-concert-for-scott-casey-cosmo-jones/
LOCATION:Tillamook Eagles #2144\, 209 Stillwell Ave
CATEGORIES:Community,Fundraisers,Live Music
ATTACH;FMTTYPE=image/jpeg:https://tillamookcoast.com/wp-content/uploads/2026/02/After-the-Fire-0ckzoR.jpg
END:VEVENT
END:VCALENDAR