BEGIN:VCALENDAR
VERSION:2.0
PRODID:-//Tillamook Coast - ECPv6.15.16//NONSGML v1.0//EN
CALSCALE:GREGORIAN
METHOD:PUBLISH
X-ORIGINAL-URL:https://tillamookcoast.com
X-WR-CALDESC:Events for Tillamook Coast
REFRESH-INTERVAL;VALUE=DURATION:PT1H
X-Robots-Tag:noindex
X-PUBLISHED-TTL:PT1H
BEGIN:VTIMEZONE
TZID:America/Los_Angeles
BEGIN:DAYLIGHT
TZOFFSETFROM:-0800
TZOFFSETTO:-0700
TZNAME:PDT
DTSTART:20250309T100000
END:DAYLIGHT
BEGIN:STANDARD
TZOFFSETFROM:-0700
TZOFFSETTO:-0800
TZNAME:PST
DTSTART:20251102T090000
END:STANDARD
BEGIN:DAYLIGHT
TZOFFSETFROM:-0800
TZOFFSETTO:-0700
TZNAME:PDT
DTSTART:20260308T100000
END:DAYLIGHT
BEGIN:STANDARD
TZOFFSETFROM:-0700
TZOFFSETTO:-0800
TZNAME:PST
DTSTART:20261101T090000
END:STANDARD
BEGIN:DAYLIGHT
TZOFFSETFROM:-0800
TZOFFSETTO:-0700
TZNAME:PDT
DTSTART:20270314T100000
END:DAYLIGHT
BEGIN:STANDARD
TZOFFSETFROM:-0700
TZOFFSETTO:-0800
TZNAME:PST
DTSTART:20271107T090000
END:STANDARD
END:VTIMEZONE
BEGIN:VEVENT
DTSTART;TZID=America/Los_Angeles:20260317T100000
DTEND;TZID=America/Los_Angeles:20260317T150000
DTSTAMP:20260422T091344
CREATED:20251217T170558Z
LAST-MODIFIED:20260317T114004Z
UID:10008763-1773741600-1773759600@tillamookcoast.com
SUMMARY:Tuesday Stitchers
DESCRIPTION:Come and be a part of a community of people who love to make things for others\, and in turn make friends within the group. All levels are welcome. \nJoin us at the Kiawanda Community Center on Tuesdays from 10 AM to 3 PM in the Great Hall. \nFirst Monday every month from 4 to 9 PM. \nCall (503) 965-7900 for more details | $6 admission
URL:https://tillamookcoast.com/plan-your-trip/events/event/tuesday-stitchers-32/
LOCATION:Kiawanda Community Center\, 34600 Cape Kiwanda Dr\, Pacific City\, OR 97135\, OR\, United States
CATEGORIES:Classes and Workshops,Community
ATTACH;FMTTYPE=image/png:https://tillamookcoast.com/wp-content/uploads/2024/10/Tuesday-Stitchers-Group-Flyer-C0pwow.tmp_.png
GEO:45.2048476;-123.9670463
X-APPLE-STRUCTURED-LOCATION;VALUE=URI;X-ADDRESS=Kiawanda Community Center 34600 Cape Kiwanda Dr Pacific City OR 97135 OR United States;X-APPLE-RADIUS=500;X-TITLE=34600 Cape Kiwanda Dr\, Pacific City\, OR 97135:geo:-123.9670463,45.2048476
END:VEVENT
BEGIN:VEVENT
DTSTART;TZID=America/Los_Angeles:20260317T113000
DTEND;TZID=America/Los_Angeles:20260317T123000
DTSTAMP:20260422T091344
CREATED:20251217T170558Z
LAST-MODIFIED:20260317T114004Z
UID:10008764-1773747000-1773750600@tillamookcoast.com
SUMMARY:Senior Meals
DESCRIPTION:Senior Lunches are served at 11:30 am on Tuesdays and Wednesdays for $3 and others may attend for $6.
URL:https://tillamookcoast.com/plan-your-trip/events/event/senior-meals-32/
LOCATION:Kiawanda Community Center\, 34600 Cape Kiwanda Dr\, Pacific City\, OR 97135\, OR\, United States
CATEGORIES:Community
ATTACH;FMTTYPE=image/png:https://tillamookcoast.com/wp-content/uploads/2024/08/Senior-Meals-bmZJeV.tmp_.png
GEO:45.2048476;-123.9670463
X-APPLE-STRUCTURED-LOCATION;VALUE=URI;X-ADDRESS=Kiawanda Community Center 34600 Cape Kiwanda Dr Pacific City OR 97135 OR United States;X-APPLE-RADIUS=500;X-TITLE=34600 Cape Kiwanda Dr\, Pacific City\, OR 97135:geo:-123.9670463,45.2048476
END:VEVENT
BEGIN:VEVENT
DTSTART;TZID=America/Los_Angeles:20260317T113000
DTEND;TZID=America/Los_Angeles:20260317T123000
DTSTAMP:20260422T091344
CREATED:20251231T191523Z
LAST-MODIFIED:20260317T114005Z
UID:10008876-1773747000-1773750600@tillamookcoast.com
SUMMARY:Senior Meals Tuesday & Wednesday
DESCRIPTION:🍽️ Senior Meals at the Kiawanda Community Center 🍽️ \nJoin us every Tuesday and Wednesday at 11:30 AM for delicious\, nutritious senior meals at the Kiawanda Community Center!\nCome enjoy great food and even better company in a warm and welcoming atmosphere. \n✨ Who: Seniors & community members\n📍 Where: Kiawanda Community Center\n📅 When: Every Tuesday & Wednesday\n⏰ Time: 11:30 AM \nBring a friend\, make new ones\, and enjoy a healthy midday meal! ❤️ \nFor more information\, call the Kiawanda Community Center.
URL:https://tillamookcoast.com/plan-your-trip/events/event/senior-meals-tuesday-wednesday-22/
LOCATION:Kiawanda Community Center\, 34600 Cape Kiwanda Dr\, Pacific City\, OR 97135\, OR\, United States
CATEGORIES:Community
ATTACH;FMTTYPE=image/png:https://tillamookcoast.com/wp-content/uploads/2025/12/Brown-Orange-Modern-Food-Price-Instagram-Post-Invitation-portrait-a9KvXm.png
GEO:45.2048476;-123.9670463
X-APPLE-STRUCTURED-LOCATION;VALUE=URI;X-ADDRESS=Kiawanda Community Center 34600 Cape Kiwanda Dr Pacific City OR 97135 OR United States;X-APPLE-RADIUS=500;X-TITLE=34600 Cape Kiwanda Dr\, Pacific City\, OR 97135:geo:-123.9670463,45.2048476
END:VEVENT
BEGIN:VEVENT
DTSTART;TZID=America/Los_Angeles:20260317T140000
DTEND;TZID=America/Los_Angeles:20260317T150000
DTSTAMP:20260422T091344
CREATED:20251217T170436Z
LAST-MODIFIED:20260317T113840Z
UID:10008758-1773756000-1773759600@tillamookcoast.com
SUMMARY:Book Club at Garibaldi Library
DESCRIPTION:Join us at the Garibaldi Branch Library on the third Tuesday of each month for a book club meeting at 2 pm. Pick up the book anytime before the meeting at the Garibaldi library.
URL:https://tillamookcoast.com/plan-your-trip/events/event/book-club-at-garibaldi-library-9/
LOCATION:Garibaldi Library\, 107 6th St\, Garibaldi OR
CATEGORIES:Classes and Workshops,Community
ATTACH;FMTTYPE=image/png:https://tillamookcoast.com/wp-content/uploads/2025/06/Garibaldi-Branch-Book-Club-n56FM3.png
GEO:40.4437739;-80.0023533
X-APPLE-STRUCTURED-LOCATION;VALUE=URI;X-ADDRESS=Garibaldi Library 107 6th St Garibaldi OR;X-APPLE-RADIUS=500;X-TITLE=107 6th St\, Garibaldi OR:geo:-80.0023533,40.4437739
END:VEVENT
BEGIN:VEVENT
DTSTART;TZID=America/Los_Angeles:20260317T163000
DTEND;TZID=America/Los_Angeles:20260317T210000
DTSTAMP:20260422T091344
CREATED:20260305T220723Z
LAST-MODIFIED:20260317T113840Z
UID:10009391-1773765000-1773781200@tillamookcoast.com
SUMMARY:St. Patty’s Day Dinner and Fund Raiser for the Tillamook County Composite Squadron\, CAP
DESCRIPTION:On March 17th from 4:30 PM until 9:00 PM\, your local Tillamook County Composite Squadron of the Civil Air Patrol is taking over the Pacific Restaurant for a fund-raising dinner.  The Civil Air Patrol is a national organization composed of local squadrons who perform search and rescue missions\, train youth to become the future leaders of our country and engage in aerospace education activities across the county and state. The organization’s members are all volunteers and must raise funds for squadron activities. \nSo come join the Tillamook County Composite Squadron members for a traditional Irish meal on St. Patrick’s Day. Only $20.00 for Irish corned beef and cabbage\, potatoes\, traditional soda bread\, salad and some great dessert. Help support your local squadron and have a great meal. You might even want to purchase a raffle ticket for something very special!
URL:https://tillamookcoast.com/plan-your-trip/events/event/st-pattys-day-dinner-and-fund-raiser-for-the-tillamook-county-composite-squadron-cap/
LOCATION:Pacific Restaurant\, 205 Main Ave\, Tillamook\, Or
CATEGORIES:Community,Fundraisers
ATTACH;FMTTYPE=image/png:https://tillamookcoast.com/wp-content/uploads/2026/03/St-Patty-Dinner-DvCD6l.png
GEO:45.4570683;-123.8470791
X-APPLE-STRUCTURED-LOCATION;VALUE=URI;X-ADDRESS=Pacific Restaurant 205 Main Ave Tillamook Or;X-APPLE-RADIUS=500;X-TITLE=205 Main Ave\, Tillamook\, Or:geo:-123.8470791,45.4570683
END:VEVENT
BEGIN:VEVENT
DTSTART;TZID=America/Los_Angeles:20260317T180000
DTEND;TZID=America/Los_Angeles:20260317T210000
DTSTAMP:20260422T091344
CREATED:20251217T170436Z
LAST-MODIFIED:20260317T113841Z
UID:10008759-1773770400-1773781200@tillamookcoast.com
SUMMARY:Trivia at Pelican Brewing- Pacific City
DESCRIPTION:Join us for trivia night every Tuesday! Win cool prizes and show your knowledge. Blackout dates apply.
URL:https://tillamookcoast.com/plan-your-trip/events/event/trivia-at-pelican-brewing-pacific-city-15/
LOCATION:Pelican Brewing Company\, 33180 Cape Kiwanda Drive
CATEGORIES:Community
ATTACH;FMTTYPE=image/jpeg:https://tillamookcoast.com/wp-content/uploads/2025/12/TRivia-QC2tAN.jpg
GEO:45.2151367;-123.9705111
X-APPLE-STRUCTURED-LOCATION;VALUE=URI;X-ADDRESS=Pelican Brewing Company 33180 Cape Kiwanda Drive;X-APPLE-RADIUS=500;X-TITLE=33180 Cape Kiwanda Drive:geo:-123.9705111,45.2151367
END:VEVENT
END:VCALENDAR