BEGIN:VCALENDAR
VERSION:2.0
PRODID:-//Tillamook Coast - ECPv6.15.16//NONSGML v1.0//EN
CALSCALE:GREGORIAN
METHOD:PUBLISH
X-ORIGINAL-URL:https://tillamookcoast.com
X-WR-CALDESC:Events for Tillamook Coast
REFRESH-INTERVAL;VALUE=DURATION:PT1H
X-Robots-Tag:noindex
X-PUBLISHED-TTL:PT1H
BEGIN:VTIMEZONE
TZID:America/Los_Angeles
BEGIN:DAYLIGHT
TZOFFSETFROM:-0800
TZOFFSETTO:-0700
TZNAME:PDT
DTSTART:20250309T100000
END:DAYLIGHT
BEGIN:STANDARD
TZOFFSETFROM:-0700
TZOFFSETTO:-0800
TZNAME:PST
DTSTART:20251102T090000
END:STANDARD
BEGIN:DAYLIGHT
TZOFFSETFROM:-0800
TZOFFSETTO:-0700
TZNAME:PDT
DTSTART:20260308T100000
END:DAYLIGHT
BEGIN:STANDARD
TZOFFSETFROM:-0700
TZOFFSETTO:-0800
TZNAME:PST
DTSTART:20261101T090000
END:STANDARD
BEGIN:DAYLIGHT
TZOFFSETFROM:-0800
TZOFFSETTO:-0700
TZNAME:PDT
DTSTART:20270314T100000
END:DAYLIGHT
BEGIN:STANDARD
TZOFFSETFROM:-0700
TZOFFSETTO:-0800
TZNAME:PST
DTSTART:20271107T090000
END:STANDARD
END:VTIMEZONE
BEGIN:VEVENT
DTSTART;TZID=America/Los_Angeles:20260401T000000
DTEND;TZID=America/Los_Angeles:20260401T233000
DTSTAMP:20260422T075210
CREATED:20260318T114928Z
LAST-MODIFIED:20260326T173421Z
UID:10009522-1775001600-1775086200@tillamookcoast.com
SUMMARY:CALL FOR ART- CALLING NORTH COAST ARTISTS!
DESCRIPTION:Blue Water Fine Art Gallery is now accepting submissions for May Flowers\, our first community exhibition celebrating the colors and renewal of spring along the Oregon Coast. \nArtists may submit up to three original artworks inspired by the May Flowers theme. \nSubmission Deadline: April 21\, 2026 \nThe exhibition runs May 8 – June 6\, with a Community Reception on May 9\, 5–7 PM — free and open to all. \nSubmit your work and help us welcome spring with creativity and community. \nFull details and guidelines on website: \nBlueWaterFineArtGallery.com \nStay connected with upcoming exhibitions and artist calls — sign up for our newsletter at BlueWaterFineArtGallery.com
URL:https://tillamookcoast.com/plan-your-trip/events/event/call-for-art-calling-north-coast-artists-15/
LOCATION:Blue Water Fine Art Gallery\, 119 S Miller St.\, Rockaway Beach\, OR 97136
CATEGORIES:Arts and Culture,Community
ATTACH;FMTTYPE=image/png:https://tillamookcoast.com/wp-content/uploads/2026/03/Call-FOR-ART-PURPLE-oQ7D6z.png
END:VEVENT
BEGIN:VEVENT
DTSTART;TZID=America/Los_Angeles:20260401T100000
DTEND;TZID=America/Los_Angeles:20260401T160000
DTSTAMP:20260422T075210
CREATED:20260309T232223Z
LAST-MODIFIED:20260326T173422Z
UID:10009425-1775037600-1775059200@tillamookcoast.com
SUMMARY:Reflecting on Resilience – Exhibit Opening
DESCRIPTION:For 75 years\, stewardship in the TSF has taken many forms – from the daily labor of rebuilding a burned landscape to welcoming visitors into a living classroom. Reflecting on Resilience explores the intertwined histories of service\, restoration\, and public engagement that connect South Fork Forest Camp and the Tillamook Forest Center. Through stories\, artifacts\, and never before publicly displayed photos\, this exhibit invites reflection on how forests\, and our relationship to them\, change over time\, and how today’s stewardship will define the forests of the future.
URL:https://tillamookcoast.com/plan-your-trip/events/event/reflecting-on-resilience-exhibit-opening/
LOCATION:Tillamook Forest Center\, 45500 Wilson River Hwy
CATEGORIES:Community,Education
ATTACH;FMTTYPE=image/jpeg:https://tillamookcoast.com/wp-content/uploads/2026/03/Film-Strip-website-small-1-scaled-05LO4j-scaled.jpg
GEO:45.5860311;-123.5606006
X-APPLE-STRUCTURED-LOCATION;VALUE=URI;X-ADDRESS=Tillamook Forest Center 45500 Wilson River Hwy;X-APPLE-RADIUS=500;X-TITLE=45500 Wilson River Hwy:geo:-123.5606006,45.5860311
END:VEVENT
BEGIN:VEVENT
DTSTART;TZID=America/Los_Angeles:20260401T100000
DTEND;TZID=America/Los_Angeles:20260401T160000
DTSTAMP:20260422T075210
CREATED:20260309T232418Z
LAST-MODIFIED:20260326T173554Z
UID:10009436-1775037600-1775059200@tillamookcoast.com
SUMMARY:Reflecting on Resilience – Exhibit Opening
DESCRIPTION:For 75 years\, stewardship in the TSF has taken many forms – from the daily labor of rebuilding a burned landscape to welcoming visitors into a living classroom. Reflecting on Resilience explores the intertwined histories of service\, restoration\, and public engagement that connect South Fork Forest Camp and the Tillamook Forest Center. Through stories\, artifacts\, and never before publicly displayed photos\, this exhibit invites reflection on how forests\, and our relationship to them\, change over time\, and how today’s stewardship will define the forests of the future.
URL:https://tillamookcoast.com/plan-your-trip/events/event/reflecting-on-resilience-exhibit-opening-2/
LOCATION:Tillamook Forest Center\, 45500 Wilson River Hwy
CATEGORIES:Community,Education
GEO:45.5860311;-123.5606006
X-APPLE-STRUCTURED-LOCATION;VALUE=URI;X-ADDRESS=Tillamook Forest Center 45500 Wilson River Hwy;X-APPLE-RADIUS=500;X-TITLE=45500 Wilson River Hwy:geo:-123.5606006,45.5860311
END:VEVENT
BEGIN:VEVENT
DTSTART;TZID=America/Los_Angeles:20260401T113000
DTEND;TZID=America/Los_Angeles:20260401T123000
DTSTAMP:20260422T075210
CREATED:20260102T161549Z
LAST-MODIFIED:20260326T173555Z
UID:10008893-1775043000-1775046600@tillamookcoast.com
SUMMARY:Senior Meals Tuesday & Wednesday
DESCRIPTION:🍽️ Senior Meals at the Kiawanda Community Center 🍽️ \nJoin us every Tuesday and Wednesday at 11:30 AM for delicious\, nutritious senior meals at the Kiawanda Community Center!\nCome enjoy great food and even better company in a warm and welcoming atmosphere. \n✨ Who: Seniors & community members\n📍 Where: Kiawanda Community Center\n📅 When: Every Tuesday & Wednesday\n⏰ Time: 11:30 AM \nBring a friend\, make new ones\, and enjoy a healthy midday meal! ❤️ \nFor more information\, call the Kiawanda Community Center.
URL:https://tillamookcoast.com/plan-your-trip/events/event/senior-meals-tuesday-wednesday-27/
LOCATION:Kiawanda Community Center\, 34600 Cape Kiwanda Dr\, Pacific City\, OR 97135\, OR\, United States
CATEGORIES:Community
ATTACH;FMTTYPE=image/png:https://tillamookcoast.com/wp-content/uploads/2025/12/Brown-Orange-Modern-Food-Price-Instagram-Post-Invitation-portrait-a9KvXm.png
GEO:45.2048476;-123.9670463
X-APPLE-STRUCTURED-LOCATION;VALUE=URI;X-ADDRESS=Kiawanda Community Center 34600 Cape Kiwanda Dr Pacific City OR 97135 OR United States;X-APPLE-RADIUS=500;X-TITLE=34600 Cape Kiwanda Dr\, Pacific City\, OR 97135:geo:-123.9670463,45.2048476
END:VEVENT
BEGIN:VEVENT
DTSTART;TZID=America/Los_Angeles:20260401T180000
DTEND;TZID=America/Los_Angeles:20260401T200000
DTSTAMP:20260422T075210
CREATED:20260313T083912Z
LAST-MODIFIED:20260326T173555Z
UID:10009462-1775066400-1775073600@tillamookcoast.com
SUMMARY:April Movies at Main: In Disguise and Undercover
DESCRIPTION:Watch movies at the library 6 pm Wednesdays! \n In Disguise and Undercover \n4/1 Sister Act (1992) \n1/8 Miss Congeniality (2000) \n4/15 Some Like It Hot (1959) \n4/22 The Fast and the Furious (2001) \n4/29 Pushover (1954)
URL:https://tillamookcoast.com/plan-your-trip/events/event/april-movies-at-main-in-disguise-and-undercover/
LOCATION:Tillamook County Library\, 1716 3rd Street Tillamook Oregon 97141
CATEGORIES:Community,Family Fun
ATTACH;FMTTYPE=image/png:https://tillamookcoast.com/wp-content/uploads/2026/03/April-Movies-at-Main-BZJPvv.png
GEO:45.4566251;-123.846324
X-APPLE-STRUCTURED-LOCATION;VALUE=URI;X-ADDRESS=Tillamook County Library 1716 3rd Street Tillamook Oregon 97141;X-APPLE-RADIUS=500;X-TITLE=1716 3rd Street Tillamook Oregon 97141:geo:-123.846324,45.4566251
END:VEVENT
END:VCALENDAR