BEGIN:VCALENDAR
VERSION:2.0
PRODID:-//Tillamook Coast - ECPv6.15.16//NONSGML v1.0//EN
CALSCALE:GREGORIAN
METHOD:PUBLISH
X-WR-CALNAME:Tillamook Coast
X-ORIGINAL-URL:https://tillamookcoast.com
X-WR-CALDESC:Events for Tillamook Coast
REFRESH-INTERVAL;VALUE=DURATION:PT1H
X-Robots-Tag:noindex
X-PUBLISHED-TTL:PT1H
BEGIN:VTIMEZONE
TZID:America/Los_Angeles
BEGIN:DAYLIGHT
TZOFFSETFROM:-0800
TZOFFSETTO:-0700
TZNAME:PDT
DTSTART:20250309T100000
END:DAYLIGHT
BEGIN:STANDARD
TZOFFSETFROM:-0700
TZOFFSETTO:-0800
TZNAME:PST
DTSTART:20251102T090000
END:STANDARD
BEGIN:DAYLIGHT
TZOFFSETFROM:-0800
TZOFFSETTO:-0700
TZNAME:PDT
DTSTART:20260308T100000
END:DAYLIGHT
BEGIN:STANDARD
TZOFFSETFROM:-0700
TZOFFSETTO:-0800
TZNAME:PST
DTSTART:20261101T090000
END:STANDARD
BEGIN:DAYLIGHT
TZOFFSETFROM:-0800
TZOFFSETTO:-0700
TZNAME:PDT
DTSTART:20270314T100000
END:DAYLIGHT
BEGIN:STANDARD
TZOFFSETFROM:-0700
TZOFFSETTO:-0800
TZNAME:PST
DTSTART:20271107T090000
END:STANDARD
END:VTIMEZONE
BEGIN:VEVENT
DTSTART;TZID=America/Los_Angeles:20260415T000000
DTEND;TZID=America/Los_Angeles:20260415T233000
DTSTAMP:20260422T080019
CREATED:20260318T114953Z
LAST-MODIFIED:20260415T190730Z
UID:10009537-1776211200-1776295800@tillamookcoast.com
SUMMARY:CALL FOR ART- CALLING NORTH COAST ARTISTS!
DESCRIPTION:Blue Water Fine Art Gallery is now accepting submissions for May Flowers\, our first community exhibition celebrating the colors and renewal of spring along the Oregon Coast. \nArtists may submit up to three original artworks inspired by the May Flowers theme. \nSubmission Deadline: April 21\, 2026 \nThe exhibition runs May 8 – June 6\, with a Community Reception on May 9\, 5–7 PM — free and open to all. \nSubmit your work and help us welcome spring with creativity and community. \nFull details and guidelines on website: \nBlueWaterFineArtGallery.com \nStay connected with upcoming exhibitions and artist calls — sign up for our newsletter at BlueWaterFineArtGallery.com
URL:https://tillamookcoast.com/plan-your-trip/events/event/call-for-art-calling-north-coast-artists-29/
LOCATION:Blue Water Fine Art Gallery\, 119 S Miller St.\, Rockaway Beach\, OR 97136
CATEGORIES:Arts and Culture,Community
ATTACH;FMTTYPE=image/png:https://tillamookcoast.com/wp-content/uploads/2026/03/Call-FOR-ART-PURPLE-oQ7D6z.png
END:VEVENT
BEGIN:VEVENT
DTSTART;TZID=America/Los_Angeles:20260415T103000
DTEND;TZID=America/Los_Angeles:20260415T113000
DTSTAMP:20260422T080019
CREATED:20260115T171454Z
LAST-MODIFIED:20260403T010544Z
UID:10009001-1776249000-1776252600@tillamookcoast.com
SUMMARY:Book Babies Storytime at Manzanita Library
DESCRIPTION:Stories and activities for the smallest patrons every 3rd Wednesday at 10:30 am!
URL:https://tillamookcoast.com/plan-your-trip/events/event/book-babies-storytime-at-manzanita-library-7/
LOCATION:Manzanita Library\, 571 Laneda Ave Manzanita OR
CATEGORIES:Community,Family Fun
ATTACH;FMTTYPE=image/png:https://tillamookcoast.com/wp-content/uploads/2025/09/Book-Babies-storytime-TZ-XiR6zM.png
GEO:45.7194514;-123.9317481
X-APPLE-STRUCTURED-LOCATION;VALUE=URI;X-ADDRESS=Manzanita Library 571 Laneda Ave Manzanita OR;X-APPLE-RADIUS=500;X-TITLE=571 Laneda Ave Manzanita OR:geo:-123.9317481,45.7194514
END:VEVENT
BEGIN:VEVENT
DTSTART;TZID=America/Los_Angeles:20260415T103000
DTEND;TZID=America/Los_Angeles:20260415T120000
DTSTAMP:20260422T080019
CREATED:20260325T165937Z
LAST-MODIFIED:20260415T190732Z
UID:10009598-1776249000-1776254400@tillamookcoast.com
SUMMARY:Alternative Sewing\, Knitting and Quilting Tools Lecture
DESCRIPTION:Instructor: Marie-Lise Best\nDate – Wednesday\, April 15th\, 2026 from 10:30AM to 12:00PM\nLength – 1 hour\nCost – $30.00 (Member)\, $35.00 (Non-Member)\nPrerequisite – None\nWhat you’ll learn – This lecture will introduce the student to alternate tools that are found in places “other” than a quilt shop\, sewing shop or knit shop but are less expensive and better to use. \nTo sign up\, call Latimer at 503-842-8622 or email us at latimer2105@gmail.com.
URL:https://tillamookcoast.com/plan-your-trip/events/event/alternative-sewing-knitting-and-quilting-tools-lecture/
LOCATION:Latimer Quilt & Textile Center\, 2105 Wilson River Loop Road\, OR\, United States
CATEGORIES:Community,Education
ATTACH;FMTTYPE=image/jpeg:https://tillamookcoast.com/wp-content/uploads/2026/03/kelly-sikkema-2k_3X5bU2SU-unsplash-scaled-S7jmRr-scaled.jpg
GEO:45.4746092;-123.8388062
X-APPLE-STRUCTURED-LOCATION;VALUE=URI;X-ADDRESS=Latimer Quilt & Textile Center 2105 Wilson River Loop Road OR United States;X-APPLE-RADIUS=500;X-TITLE=2105 Wilson River Loop Road:geo:-123.8388062,45.4746092
END:VEVENT
BEGIN:VEVENT
DTSTART;TZID=America/Los_Angeles:20260415T113000
DTEND;TZID=America/Los_Angeles:20260415T123000
DTSTAMP:20260422T080019
CREATED:20260115T171711Z
LAST-MODIFIED:20260415T190848Z
UID:10009005-1776252600-1776256200@tillamookcoast.com
SUMMARY:Senior Meals Tuesday & Wednesday
DESCRIPTION:🍽️ Senior Meals at the Kiawanda Community Center 🍽️ \nJoin us every Tuesday and Wednesday at 11:30 AM for delicious\, nutritious senior meals at the Kiawanda Community Center!\nCome enjoy great food and even better company in a warm and welcoming atmosphere. \n✨ Who: Seniors & community members\n📍 Where: Kiawanda Community Center\n📅 When: Every Tuesday & Wednesday\n⏰ Time: 11:30 AM \nBring a friend\, make new ones\, and enjoy a healthy midday meal! ❤️ \nFor more information\, call the Kiawanda Community Center.
URL:https://tillamookcoast.com/plan-your-trip/events/event/senior-meals-tuesday-wednesday-31/
LOCATION:Kiawanda Community Center\, 34600 Cape Kiwanda Dr\, Pacific City\, OR 97135\, OR\, United States
CATEGORIES:Community
ATTACH;FMTTYPE=image/png:https://tillamookcoast.com/wp-content/uploads/2025/12/Brown-Orange-Modern-Food-Price-Instagram-Post-Invitation-portrait-a9KvXm.png
GEO:45.2048476;-123.9670463
X-APPLE-STRUCTURED-LOCATION;VALUE=URI;X-ADDRESS=Kiawanda Community Center 34600 Cape Kiwanda Dr Pacific City OR 97135 OR United States;X-APPLE-RADIUS=500;X-TITLE=34600 Cape Kiwanda Dr\, Pacific City\, OR 97135:geo:-123.9670463,45.2048476
END:VEVENT
BEGIN:VEVENT
DTSTART;TZID=America/Los_Angeles:20260415T130000
DTEND;TZID=America/Los_Angeles:20260415T143000
DTSTAMP:20260422T080019
CREATED:20260403T002103Z
LAST-MODIFIED:20260415T190733Z
UID:10009623-1776258000-1776263400@tillamookcoast.com
SUMMARY:Copyrights and the Fiber Arts Lecture
DESCRIPTION:Instructor: Marie-Lise Best\nDate – Wednesday\, April 15th\, 2026 from 1:00PM to 2:30PM\nLength – 1.5 hours\nCost – $30.00 (Member)\, $35.00 (Non-Member)\nPrerequisite –None\nWhat you’ll learn – This lecture will introduce the student to the world of copyrights.  If you use any kind of pattern or want to create your own pattern\, this lecture is for you.  With the world of AI coming on strong\, how are you at risk and how do you deal with the legalities of sharing or owning a pattern. \nTo sign up\, call Latimer at 503-842-8622 or email us at latimer2105@gmail.com.
URL:https://tillamookcoast.com/plan-your-trip/events/event/copyrights-and-the-fiber-arts-lecture/
LOCATION:Latimer Quilt & Textile Center\, 2105 Wilson River Loop Road\, OR\, United States
CATEGORIES:Classes and Workshops,Community
ATTACH;FMTTYPE=image/jpeg:https://tillamookcoast.com/wp-content/uploads/2026/04/markus-winkler-9XfSFjcwGh0-unsplash-scaled-K4xObB-scaled.jpg
GEO:45.4746092;-123.8388062
X-APPLE-STRUCTURED-LOCATION;VALUE=URI;X-ADDRESS=Latimer Quilt & Textile Center 2105 Wilson River Loop Road OR United States;X-APPLE-RADIUS=500;X-TITLE=2105 Wilson River Loop Road:geo:-123.8388062,45.4746092
END:VEVENT
BEGIN:VEVENT
DTSTART;TZID=America/Los_Angeles:20260415T161500
DTEND;TZID=America/Los_Angeles:20260415T171500
DTSTAMP:20260422T080019
CREATED:20260115T171455Z
LAST-MODIFIED:20260415T190734Z
UID:10009003-1776269700-1776273300@tillamookcoast.com
SUMMARY:Teen Craft & Chat at Garibaldi Library
DESCRIPTION:Drop in crafting and social time for teens!
URL:https://tillamookcoast.com/plan-your-trip/events/event/teen-craft-chat-at-garibaldi-library-10/
LOCATION:Garibaldi Library\, 107 6th St\, Garibaldi OR
CATEGORIES:Community
ATTACH;FMTTYPE=image/png:https://tillamookcoast.com/wp-content/uploads/2025/03/Teen-Craft-Chat-8IMqYQ.tmp_.png
GEO:40.4437739;-80.0023533
X-APPLE-STRUCTURED-LOCATION;VALUE=URI;X-ADDRESS=Garibaldi Library 107 6th St Garibaldi OR;X-APPLE-RADIUS=500;X-TITLE=107 6th St\, Garibaldi OR:geo:-80.0023533,40.4437739
END:VEVENT
BEGIN:VEVENT
DTSTART;TZID=America/Los_Angeles:20260415T180000
DTEND;TZID=America/Los_Angeles:20260415T180000
DTSTAMP:20260422T080019
CREATED:20260313T083957Z
LAST-MODIFIED:20260415T190734Z
UID:10009468-1776276000-1776276000@tillamookcoast.com
SUMMARY:April Movies at Main: In Disguise and Undercover
DESCRIPTION:Watch movies at the library 6 pm Wednesdays! \n In Disguise and Undercover \n4/1 Sister Act (1992) \n1/8 Miss Congeniality (2000) \n4/15 Some Like It Hot (1959) \n4/22 The Fast and the Furious (2001) \n4/29 Pushover (1954)
URL:https://tillamookcoast.com/plan-your-trip/events/event/april-movies-at-main-in-disguise-and-undercover-3/
LOCATION:Tillamook County Library\, 1716 3rd Street Tillamook Oregon 97141
CATEGORIES:Community,Family Fun
ATTACH;FMTTYPE=image/png:https://tillamookcoast.com/wp-content/uploads/2026/03/April-Movies-at-Main-BZJPvv.png
GEO:45.4566251;-123.846324
X-APPLE-STRUCTURED-LOCATION;VALUE=URI;X-ADDRESS=Tillamook County Library 1716 3rd Street Tillamook Oregon 97141;X-APPLE-RADIUS=500;X-TITLE=1716 3rd Street Tillamook Oregon 97141:geo:-123.846324,45.4566251
END:VEVENT
END:VCALENDAR