BEGIN:VCALENDAR
VERSION:2.0
PRODID:-//Tillamook Coast - ECPv6.15.16//NONSGML v1.0//EN
CALSCALE:GREGORIAN
METHOD:PUBLISH
X-WR-CALNAME:Tillamook Coast
X-ORIGINAL-URL:https://tillamookcoast.com
X-WR-CALDESC:Events for Tillamook Coast
REFRESH-INTERVAL;VALUE=DURATION:PT1H
X-Robots-Tag:noindex
X-PUBLISHED-TTL:PT1H
BEGIN:VTIMEZONE
TZID:America/Los_Angeles
BEGIN:DAYLIGHT
TZOFFSETFROM:-0800
TZOFFSETTO:-0700
TZNAME:PDT
DTSTART:20250309T100000
END:DAYLIGHT
BEGIN:STANDARD
TZOFFSETFROM:-0700
TZOFFSETTO:-0800
TZNAME:PST
DTSTART:20251102T090000
END:STANDARD
BEGIN:DAYLIGHT
TZOFFSETFROM:-0800
TZOFFSETTO:-0700
TZNAME:PDT
DTSTART:20260308T100000
END:DAYLIGHT
BEGIN:STANDARD
TZOFFSETFROM:-0700
TZOFFSETTO:-0800
TZNAME:PST
DTSTART:20261101T090000
END:STANDARD
BEGIN:DAYLIGHT
TZOFFSETFROM:-0800
TZOFFSETTO:-0700
TZNAME:PDT
DTSTART:20270314T100000
END:DAYLIGHT
BEGIN:STANDARD
TZOFFSETFROM:-0700
TZOFFSETTO:-0800
TZNAME:PST
DTSTART:20271107T090000
END:STANDARD
END:VTIMEZONE
BEGIN:VEVENT
DTSTART;TZID=America/Los_Angeles:20260416T000000
DTEND;TZID=America/Los_Angeles:20260416T233000
DTSTAMP:20260422T075110
CREATED:20260318T114955Z
LAST-MODIFIED:20260415T190735Z
UID:10009538-1776297600-1776382200@tillamookcoast.com
SUMMARY:CALL FOR ART- CALLING NORTH COAST ARTISTS!
DESCRIPTION:Blue Water Fine Art Gallery is now accepting submissions for May Flowers\, our first community exhibition celebrating the colors and renewal of spring along the Oregon Coast. \nArtists may submit up to three original artworks inspired by the May Flowers theme. \nSubmission Deadline: April 21\, 2026 \nThe exhibition runs May 8 – June 6\, with a Community Reception on May 9\, 5–7 PM — free and open to all. \nSubmit your work and help us welcome spring with creativity and community. \nFull details and guidelines on website: \nBlueWaterFineArtGallery.com \nStay connected with upcoming exhibitions and artist calls — sign up for our newsletter at BlueWaterFineArtGallery.com
URL:https://tillamookcoast.com/plan-your-trip/events/event/call-for-art-calling-north-coast-artists-30/
LOCATION:Blue Water Fine Art Gallery\, 119 S Miller St.\, Rockaway Beach\, OR 97136
CATEGORIES:Arts and Culture,Community
ATTACH;FMTTYPE=image/png:https://tillamookcoast.com/wp-content/uploads/2026/03/Call-FOR-ART-PURPLE-oQ7D6z.png
END:VEVENT
BEGIN:VEVENT
DTSTART;TZID=America/Los_Angeles:20260416T090000
DTEND;TZID=America/Los_Angeles:20260416T100000
DTSTAMP:20260422T075110
CREATED:20260116T173829Z
LAST-MODIFIED:20260415T190849Z
UID:10009011-1776330000-1776333600@tillamookcoast.com
SUMMARY:Yoga With Dawn
DESCRIPTION:🧘‍♀️ Yoga with Dawn – Find Your Flow! 🧘‍♂️ \nStart your day with peace\, strength\, and positive energy 🌞Join Dawn for a refreshing yoga class every: \n🗓️ Monday\, Wednesday\, Friday & Saturday🕘 9:00 AM – 10:00 AM📍 Kiawanda Community Center \nAll levels are welcome—whether you’re new to yoga or a seasoned pro\, Dawn’s calm guidance and supportive atmosphere will leave you feeling refreshed and centered. \n✨ Bring a mat\, some water\, and a smile.No registration needed—just drop in and breathe it out with us! \n#YogaWithDawn #KiawandaCommunityCenter #MorningYoga #WellnessInPacificCity #MindBodySoul
URL:https://tillamookcoast.com/plan-your-trip/events/event/yoga-with-dawn-149/
LOCATION:Kiawanda Community Center\, 34600 Cape Kiwanda Dr\, Pacific City\, OR 97135\, OR\, United States
CATEGORIES:Classes and Workshops,Community
ATTACH;FMTTYPE=image/jpeg:https://tillamookcoast.com/wp-content/uploads/2025/07/yoga-oRzciY.jpg
GEO:45.2048476;-123.9670463
X-APPLE-STRUCTURED-LOCATION;VALUE=URI;X-ADDRESS=Kiawanda Community Center 34600 Cape Kiwanda Dr Pacific City OR 97135 OR United States;X-APPLE-RADIUS=500;X-TITLE=34600 Cape Kiwanda Dr\, Pacific City\, OR 97135:geo:-123.9670463,45.2048476
END:VEVENT
BEGIN:VEVENT
DTSTART;TZID=America/Los_Angeles:20260416T100000
DTEND;TZID=America/Los_Angeles:20260416T110000
DTSTAMP:20260422T075110
CREATED:20260116T173605Z
LAST-MODIFIED:20260415T190735Z
UID:10009006-1776333600-1776337200@tillamookcoast.com
SUMMARY:Family Storytime at Bay City Library
DESCRIPTION:Bring the whole family down to the Bay City Library for a fun storytime and activity every Thursday at 10am!
URL:https://tillamookcoast.com/plan-your-trip/events/event/family-storytime-at-bay-city-library-40/
LOCATION:Bay City Library\, 5525 B St\, Bay City\, OR
CATEGORIES:Community,Family Fun
ATTACH;FMTTYPE=image/png:https://tillamookcoast.com/wp-content/uploads/2024/12/Bay-City-Storytime1-iSlpg8.tmp_.png
GEO:45.5243851;-123.8908552
X-APPLE-STRUCTURED-LOCATION;VALUE=URI;X-ADDRESS=Bay City Library 5525 B St Bay City OR;X-APPLE-RADIUS=500;X-TITLE=5525 B St\, Bay City\, OR:geo:-123.8908552,45.5243851
END:VEVENT
BEGIN:VEVENT
DTSTART;TZID=America/Los_Angeles:20260416T100000
DTEND;TZID=America/Los_Angeles:20260416T110000
DTSTAMP:20260422T075110
CREATED:20260313T083741Z
LAST-MODIFIED:20260415T190736Z
UID:10009455-1776333600-1776337200@tillamookcoast.com
SUMMARY:Storytime Spring Tea Party at Bay City Library
DESCRIPTION:Dress up and drink tea at storytime to celebrate spring!
URL:https://tillamookcoast.com/plan-your-trip/events/event/storytime-spring-tea-party-at-bay-city-library/
LOCATION:Bay City Library\, 5525 B St\, Bay City\, OR
CATEGORIES:Community,Family Fun
GEO:45.5243851;-123.8908552
X-APPLE-STRUCTURED-LOCATION;VALUE=URI;X-ADDRESS=Bay City Library 5525 B St Bay City OR;X-APPLE-RADIUS=500;X-TITLE=5525 B St\, Bay City\, OR:geo:-123.8908552,45.5243851
END:VEVENT
BEGIN:VEVENT
DTSTART;TZID=America/Los_Angeles:20260416T100000
DTEND;TZID=America/Los_Angeles:20260416T200000
DTSTAMP:20260422T075110
CREATED:20260116T173606Z
LAST-MODIFIED:20260415T190736Z
UID:10009007-1776333600-1776369600@tillamookcoast.com
SUMMARY:All You Can Eat Oysters and Chips
DESCRIPTION:Petite oysters with coleslaw and crispy french fries. Unlimited refills on oysters\, served three ways- deep fried\, grilled\, and sautéed. Every Thursday $18.99
URL:https://tillamookcoast.com/plan-your-trip/events/event/all-you-can-eat-oysters-and-chips-25/
LOCATION:Fish Peddler at Pacific Oyster\, 5150 Hayes Oyster Dr
CATEGORIES:Community
ATTACH;FMTTYPE=image/jpeg:https://tillamookcoast.com/wp-content/uploads/2025/10/IMG_5605-scaled-ARVKXg-scaled.jpg
END:VEVENT
BEGIN:VEVENT
DTSTART;TZID=America/Los_Angeles:20260416T103000
DTEND;TZID=America/Los_Angeles:20260416T113000
DTSTAMP:20260422T075110
CREATED:20260116T173606Z
LAST-MODIFIED:20260403T010548Z
UID:10009008-1776335400-1776339000@tillamookcoast.com
SUMMARY:PreK Storytime at Manzanita Library
DESCRIPTION:Stories and activities for preschoolers at the Manzanita Library every 3rd Thursday at 10:30 am!
URL:https://tillamookcoast.com/plan-your-trip/events/event/prek-storytime-at-manzanita-library-7/
LOCATION:Manzanita Library\, 571 Laneda Ave Manzanita OR
CATEGORIES:Community,Family Fun
ATTACH;FMTTYPE=image/png:https://tillamookcoast.com/wp-content/uploads/2025/09/PreK-Storytime-TZ-ZGwSyA.png
GEO:45.7194514;-123.9317481
X-APPLE-STRUCTURED-LOCATION;VALUE=URI;X-ADDRESS=Manzanita Library 571 Laneda Ave Manzanita OR;X-APPLE-RADIUS=500;X-TITLE=571 Laneda Ave Manzanita OR:geo:-123.9317481,45.7194514
END:VEVENT
BEGIN:VEVENT
DTSTART;TZID=America/Los_Angeles:20260416T130000
DTEND;TZID=America/Los_Angeles:20260416T150000
DTSTAMP:20260422T075110
CREATED:20260116T173830Z
LAST-MODIFIED:20260415T190852Z
UID:10009013-1776344400-1776351600@tillamookcoast.com
SUMMARY:Bingo
DESCRIPTION:🎉 Thursday Bingo Fun at the Kiawanda Community Center! 🎉 \nJoin us every Thursday from 1PM to 3PM for an afternoon of bingo\, community\, and fun at the Kiawanda Community Center! \n🗓️ When: Thursdays\, 1:00–3:00 PM\n📍 Where: Kiawanda Community Center\n🎁 Prizes\, laughs\, and good company guaranteed! \nWhether you’re a seasoned player or brand new to the game\, everyone is welcome! Come early\, grab your favorite seat\, and get ready for a great time! 🙌 \nTag your bingo buddy and spread the word! 🎊 \n#BingoFun #KiawandaCommunityCenter #PacificCityEvents #ThursdayBingo #CommunityVibes
URL:https://tillamookcoast.com/plan-your-trip/events/event/bingo-37/
LOCATION:Kiawanda Community Center\, 34600 Cape Kiwanda Dr\, Pacific City\, OR 97135\, OR\, United States
CATEGORIES:Community
ATTACH;FMTTYPE=image/jpeg:https://tillamookcoast.com/wp-content/uploads/2025/07/Cream-Orange-Colorful-Retro-We-Are-Hiring-Flyer-vLTXaz.jpg
GEO:45.2048476;-123.9670463
X-APPLE-STRUCTURED-LOCATION;VALUE=URI;X-ADDRESS=Kiawanda Community Center 34600 Cape Kiwanda Dr Pacific City OR 97135 OR United States;X-APPLE-RADIUS=500;X-TITLE=34600 Cape Kiwanda Dr\, Pacific City\, OR 97135:geo:-123.9670463,45.2048476
END:VEVENT
BEGIN:VEVENT
DTSTART;TZID=America/Los_Angeles:20260416T140000
DTEND;TZID=America/Los_Angeles:20260416T150000
DTSTAMP:20260422T075110
CREATED:20260116T173607Z
LAST-MODIFIED:20260415T190737Z
UID:10009009-1776348000-1776351600@tillamookcoast.com
SUMMARY:Mahjong at Manzanita Library
DESCRIPTION:Play mahjong in a fun informal group at the Manzanita library Thursdays at 2 pm!
URL:https://tillamookcoast.com/plan-your-trip/events/event/mahjong-at-manzanita-library-28/
LOCATION:Manzanita Library\, 571 Laneda Ave Manzanita OR
CATEGORIES:Community,Family Fun
GEO:45.7194514;-123.9317481
X-APPLE-STRUCTURED-LOCATION;VALUE=URI;X-ADDRESS=Manzanita Library 571 Laneda Ave Manzanita OR;X-APPLE-RADIUS=500;X-TITLE=571 Laneda Ave Manzanita OR:geo:-123.9317481,45.7194514
END:VEVENT
BEGIN:VEVENT
DTSTART;TZID=America/Los_Angeles:20260416T150000
DTEND;TZID=America/Los_Angeles:20260416T160000
DTSTAMP:20260422T075110
CREATED:20260313T083958Z
LAST-MODIFIED:20260415T190852Z
UID:10009469-1776351600-1776355200@tillamookcoast.com
SUMMARY:Sofia Talvik at Tillamook County Library
DESCRIPTION:Music by Swedish singer-songwriter Sofia presenting her unique and touching Nordic folk meets Americana sound.
URL:https://tillamookcoast.com/plan-your-trip/events/event/sofia-talvik-at-tillamook-county-library/
LOCATION:Tillamook County Library\, 1716 3rd Street Tillamook Oregon 97141
CATEGORIES:Community,Live Music
ATTACH;FMTTYPE=image/png:https://tillamookcoast.com/wp-content/uploads/2026/04/Screenshot-2026-04-10-092417-l7p0Vi.png
GEO:45.4566251;-123.846324
X-APPLE-STRUCTURED-LOCATION;VALUE=URI;X-ADDRESS=Tillamook County Library 1716 3rd Street Tillamook Oregon 97141;X-APPLE-RADIUS=500;X-TITLE=1716 3rd Street Tillamook Oregon 97141:geo:-123.846324,45.4566251
END:VEVENT
BEGIN:VEVENT
DTSTART;TZID=America/Los_Angeles:20260416T160000
DTEND;TZID=America/Los_Angeles:20260416T173000
DTSTAMP:20260422T075110
CREATED:20260116T173830Z
LAST-MODIFIED:20260415T190738Z
UID:10009014-1776355200-1776360600@tillamookcoast.com
SUMMARY:Knitting Group
DESCRIPTION:Join a fun group of knitters at North Tillamook Library in Manzanita on Thursdays from 4pm to 5:30pm.
URL:https://tillamookcoast.com/plan-your-trip/events/event/knitting-group-37/
LOCATION:North Tillamook Library\, 571 Laneda Ave\, Manzanita\, OR 97130
CATEGORIES:Community,Education
ATTACH;FMTTYPE=image/png:https://tillamookcoast.com/wp-content/uploads/2024/08/logo-OfhBMs.tmp_.png
GEO:45.7194742;-123.9317422
X-APPLE-STRUCTURED-LOCATION;VALUE=URI;X-ADDRESS=North Tillamook Library 571 Laneda Ave Manzanita OR 97130;X-APPLE-RADIUS=500;X-TITLE=571 Laneda Ave\, Manzanita\, OR 97130:geo:-123.9317422,45.7194742
END:VEVENT
END:VCALENDAR