BEGIN:VCALENDAR
VERSION:2.0
PRODID:-//Tillamook Coast - ECPv6.15.16//NONSGML v1.0//EN
CALSCALE:GREGORIAN
METHOD:PUBLISH
X-ORIGINAL-URL:https://tillamookcoast.com
X-WR-CALDESC:Events for Tillamook Coast
REFRESH-INTERVAL;VALUE=DURATION:PT1H
X-Robots-Tag:noindex
X-PUBLISHED-TTL:PT1H
BEGIN:VTIMEZONE
TZID:America/Los_Angeles
BEGIN:DAYLIGHT
TZOFFSETFROM:-0800
TZOFFSETTO:-0700
TZNAME:PDT
DTSTART:20250309T100000
END:DAYLIGHT
BEGIN:STANDARD
TZOFFSETFROM:-0700
TZOFFSETTO:-0800
TZNAME:PST
DTSTART:20251102T090000
END:STANDARD
BEGIN:DAYLIGHT
TZOFFSETFROM:-0800
TZOFFSETTO:-0700
TZNAME:PDT
DTSTART:20260308T100000
END:DAYLIGHT
BEGIN:STANDARD
TZOFFSETFROM:-0700
TZOFFSETTO:-0800
TZNAME:PST
DTSTART:20261101T090000
END:STANDARD
BEGIN:DAYLIGHT
TZOFFSETFROM:-0800
TZOFFSETTO:-0700
TZNAME:PDT
DTSTART:20270314T100000
END:DAYLIGHT
BEGIN:STANDARD
TZOFFSETFROM:-0700
TZOFFSETTO:-0800
TZNAME:PST
DTSTART:20271107T090000
END:STANDARD
END:VTIMEZONE
BEGIN:VEVENT
DTSTART;TZID=America/Los_Angeles:20260417T000000
DTEND;TZID=America/Los_Angeles:20260417T233000
DTSTAMP:20260422T075153
CREATED:20260318T114957Z
LAST-MODIFIED:20260417T183444Z
UID:10009539-1776384000-1776468600@tillamookcoast.com
SUMMARY:CALL FOR ART- CALLING NORTH COAST ARTISTS!
DESCRIPTION:Blue Water Fine Art Gallery is now accepting submissions for May Flowers\, our first community exhibition celebrating the colors and renewal of spring along the Oregon Coast. \nArtists may submit up to three original artworks inspired by the May Flowers theme. \nSubmission Deadline: April 21\, 2026 \nThe exhibition runs May 8 – June 6\, with a Community Reception on May 9\, 5–7 PM — free and open to all. \nSubmit your work and help us welcome spring with creativity and community. \nFull details and guidelines on website: \nBlueWaterFineArtGallery.com \nStay connected with upcoming exhibitions and artist calls — sign up for our newsletter at BlueWaterFineArtGallery.com
URL:https://tillamookcoast.com/plan-your-trip/events/event/call-for-art-calling-north-coast-artists-31/
LOCATION:Blue Water Fine Art Gallery\, 119 S Miller St.\, Rockaway Beach\, OR 97136
CATEGORIES:Arts and Culture,Community
ATTACH;FMTTYPE=image/png:https://tillamookcoast.com/wp-content/uploads/2026/03/Call-FOR-ART-PURPLE-oQ7D6z.png
END:VEVENT
BEGIN:VEVENT
DTSTART;TZID=America/Los_Angeles:20260417T080000
DTEND;TZID=America/Los_Angeles:20260417T170000
DTSTAMP:20260422T075153
CREATED:20260313T084006Z
LAST-MODIFIED:20260417T183444Z
UID:10009470-1776412800-1776445200@tillamookcoast.com
SUMMARY:Native Plants with Grand Ronde Native Plant Nursery
DESCRIPTION:Learn about Oregon native plants with an expert from the Grand Ronde Native Plant Nursery!
URL:https://tillamookcoast.com/plan-your-trip/events/event/native-plants-with-grand-ronde-native-plant-nursery/
LOCATION:Tillamook County Library\, 1716 3rd Street Tillamook Oregon 97141
CATEGORIES:Community,Education
ATTACH;FMTTYPE=image/png:https://tillamookcoast.com/wp-content/uploads/2026/03/Native-Plants-041726-TM-2KCuNn.png
GEO:45.4566251;-123.846324
X-APPLE-STRUCTURED-LOCATION;VALUE=URI;X-ADDRESS=Tillamook County Library 1716 3rd Street Tillamook Oregon 97141;X-APPLE-RADIUS=500;X-TITLE=1716 3rd Street Tillamook Oregon 97141:geo:-123.846324,45.4566251
END:VEVENT
BEGIN:VEVENT
DTSTART;TZID=America/Los_Angeles:20260417T090000
DTEND;TZID=America/Los_Angeles:20260417T100000
DTSTAMP:20260422T075153
CREATED:20260119T230930Z
LAST-MODIFIED:20260417T183445Z
UID:10009026-1776416400-1776420000@tillamookcoast.com
SUMMARY:Yoga With Dawn
DESCRIPTION:🧘‍♀️ Yoga with Dawn – Find Your Flow! 🧘‍♂️ \nStart your day with peace\, strength\, and positive energy 🌞Join Dawn for a refreshing yoga class every: \n🗓️ Monday\, Wednesday\, Friday & Saturday🕘 9:00 AM – 10:00 AM📍 Kiawanda Community Center \nAll levels are welcome—whether you’re new to yoga or a seasoned pro\, Dawn’s calm guidance and supportive atmosphere will leave you feeling refreshed and centered. \n✨ Bring a mat\, some water\, and a smile.No registration needed—just drop in and breathe it out with us! \n#YogaWithDawn #KiawandaCommunityCenter #MorningYoga #WellnessInPacificCity #MindBodySoul
URL:https://tillamookcoast.com/plan-your-trip/events/event/yoga-with-dawn-150/
LOCATION:Kiawanda Community Center\, 34600 Cape Kiwanda Dr\, Pacific City\, OR 97135\, OR\, United States
CATEGORIES:Classes and Workshops,Community
ATTACH;FMTTYPE=image/jpeg:https://tillamookcoast.com/wp-content/uploads/2025/07/yoga-oRzciY.jpg
GEO:45.2048476;-123.9670463
X-APPLE-STRUCTURED-LOCATION;VALUE=URI;X-ADDRESS=Kiawanda Community Center 34600 Cape Kiwanda Dr Pacific City OR 97135 OR United States;X-APPLE-RADIUS=500;X-TITLE=34600 Cape Kiwanda Dr\, Pacific City\, OR 97135:geo:-123.9670463,45.2048476
END:VEVENT
BEGIN:VEVENT
DTSTART;TZID=America/Los_Angeles:20260417T100000
DTEND;TZID=America/Los_Angeles:20260417T120000
DTSTAMP:20260422T075153
CREATED:20260119T230720Z
LAST-MODIFIED:20260417T183446Z
UID:10009019-1776420000-1776427200@tillamookcoast.com
SUMMARY:Trail Building in Nehalem Bay With LNCT!
DESCRIPTION:Every Friday\, volunteers gather on LNCT lands near Manzanita\, Nehalem and Wheeler to protect and restore habitat in the lower Nehalem watershed. We would love to see new faces out on the land!\n\n\n\nThese work parties are beginner friendly and an opportunity to learn about the engineering of hiking trails. We will be working on uneven ground\, bending\, and moving small rocks and brush during this process. Tools and gloves are provided\, new volunteers welcome and no prior experience needed. Join as frequently as you please.  Email shane@nehalemtrust.org for weekly updates on where to meet.\n\nAlder Creek Farm and Natural Area’s Nehalem Teaching Trail already supports an impressive variety of native plants and simulated ecosystems for community learning—but we’re looking to grow. This short trail will extend educational access into a different ecosystem and connect to the Natural Area’s pollinator meadow. We hope it will also add some variety to habitat access for bird watchers who visit the farm as a part of the Oregon Coast Birding Trail.
URL:https://tillamookcoast.com/plan-your-trip/events/event/trail-building-in-nehalem-bay-with-lnct-34/
LOCATION:Lower Nehalem Community Trust
CATEGORIES:Community,Education,Outdoor
ATTACH;FMTTYPE=image/jpeg:https://tillamookcoast.com/wp-content/uploads/2025/12/LNCT-Stewardship-Poster-4-LH2xa6.jpg
GEO:45.7201074;-123.8940225
END:VEVENT
BEGIN:VEVENT
DTSTART;TZID=America/Los_Angeles:20260417T100000
DTEND;TZID=America/Los_Angeles:20260417T200000
DTSTAMP:20260422T075153
CREATED:20260119T230720Z
LAST-MODIFIED:20260417T183447Z
UID:10009020-1776420000-1776456000@tillamookcoast.com
SUMMARY:All You Can Eat Fish and Chips
DESCRIPTION:Fresh\, local\, fried rockfish served with coleslaw and crispy french fries. Unlimited fish every Friday $18.99
URL:https://tillamookcoast.com/plan-your-trip/events/event/all-you-can-eat-fish-and-chips-25/
LOCATION:Fish Peddler at Pacific Oyster\, 5150 Hayes Oyster Dr
CATEGORIES:Community
END:VEVENT
BEGIN:VEVENT
DTSTART;TZID=America/Los_Angeles:20260417T110000
DTEND;TZID=America/Los_Angeles:20260417T120000
DTSTAMP:20260422T075153
CREATED:20260119T230720Z
LAST-MODIFIED:20260417T183447Z
UID:10009021-1776423600-1776427200@tillamookcoast.com
SUMMARY:Storytime at Garibaldi Library
DESCRIPTION:Kids of all ages are welcome to the Garibaldi Library for storytime\, Fridays at 11:00am.
URL:https://tillamookcoast.com/plan-your-trip/events/event/storytime-at-garibaldi-library-52/
LOCATION:Garibaldi Library\, 107 6th St\, Garibaldi OR
CATEGORIES:Community,Family Fun
ATTACH;FMTTYPE=image/png:https://tillamookcoast.com/wp-content/uploads/2025/06/Garibaldi-Story-Time-flyer-NiDhO7.png
GEO:40.4437739;-80.0023533
X-APPLE-STRUCTURED-LOCATION;VALUE=URI;X-ADDRESS=Garibaldi Library 107 6th St Garibaldi OR;X-APPLE-RADIUS=500;X-TITLE=107 6th St\, Garibaldi OR:geo:-80.0023533,40.4437739
END:VEVENT
BEGIN:VEVENT
DTSTART;TZID=America/Los_Angeles:20260417T160000
DTEND;TZID=America/Los_Angeles:20260417T160000
DTSTAMP:20260422T075153
CREATED:20260313T084012Z
LAST-MODIFIED:20260417T183602Z
UID:10009471-1776441600-1776441600@tillamookcoast.com
SUMMARY:Native Plants with Grand Ronde Native Plant Nursery
DESCRIPTION:Learn about Oregon native plants with an expert from the Grand Ronde Native Plant Nursery!
URL:https://tillamookcoast.com/plan-your-trip/events/event/native-plants-with-grand-ronde-native-plant-nursery-2/
LOCATION:Tillamook County Library\, 1716 3rd Street Tillamook Oregon 97141
CATEGORIES:Community,Education
ATTACH;FMTTYPE=image/png:https://tillamookcoast.com/wp-content/uploads/2026/03/Native-Plants-041726-TM-2KCuNn.png
GEO:45.4566251;-123.846324
X-APPLE-STRUCTURED-LOCATION;VALUE=URI;X-ADDRESS=Tillamook County Library 1716 3rd Street Tillamook Oregon 97141;X-APPLE-RADIUS=500;X-TITLE=1716 3rd Street Tillamook Oregon 97141:geo:-123.846324,45.4566251
END:VEVENT
BEGIN:VEVENT
DTSTART;TZID=America/Los_Angeles:20260417T180000
DTEND;TZID=America/Los_Angeles:20260417T193000
DTSTAMP:20260422T075153
CREATED:20260403T002116Z
LAST-MODIFIED:20260417T183448Z
UID:10009624-1776448800-1776454200@tillamookcoast.com
SUMMARY:Dory Fishers Event: Kickin’ Sand & Story Tellin’
DESCRIPTION:This is a free event\, but due to limited seating\, registration is required.\nhttps://www.eventbrite.com/…/dory-fisherskickin-sand…\n\nJoin us on Friday\, April 17th from 6:00 PM to 7:30 PM at the Tillamook County Pioneer Museum for Dory Fishers—Kickin’ Sand and Story Tellin’! Joseph E. “Jay” Taylor III will facilitate a panel discussion & storytelling event with three members of the dory fleet: Ray Monroe\, Steve Johnson\, and Mike Sears. Light appetizers & drinks for this free event are provided and sponsored by our community partners\, Tillamook County Historical Society.\n\nJay Taylor first visited Pacific City in 1959\, joined the dory fleet in the mid-1970s\, and became a full time resident in 1979. In the 1990s he completed his bachelors and masters degrees at the University OF Oregon and his PhD at the university up in Seattle. Since 1996\, he has taught history and geography at Iowa State University\, Simon Fraser University\, and University of Portland. His most recent book is Persistent Callings: Seasons of Work and Identity on the Oregon Coast\, and he is currently writing “47 Percent of the West: The Political Economy of Congressional Conservation.”\n\nRay Monroe is a Sandlake\, Oregon local who grew up immersed in the region’s fishing and farming communities. He attended Beaver Grade School and graduated from Nestucca High School. Ray began dory fishing in 1969 alongside his grandfather and father\, continuing a family tradition on the water. Today\, he serves as co-chair of the Pacific City Dorymen’s Association.\nSteve Johnson is a third-generation commercial fisherman who began fishing with his father\, JJ Johnson\, when he was just a middle schooler. Carrying on his family’s fishing tradition\, Steve has been actively involved with the Pacific City Dorymen’s Association and has served as a board member for the past 20 years.\n\nMike Sears is a third-generation resident of Tierra Del Mar whose dory fishing experience began with his father Bill Sears who operated Sears Sporting Goods in Pacific City from 1963 to 1979. Mike’s father-in-law\, Jack Gilman was a well-known local dory boat builder\, further connecting Mike to the rich tradition of the Pacific City dory fleet.
URL:https://tillamookcoast.com/plan-your-trip/events/event/dory-fishers-event-kickin-sand-story-tellin/
LOCATION:Tillamook County Pioneer Museum\, 2106 Second St\, Tillamook OR 97141
CATEGORIES:Community,Education
GEO:45.4573215;-123.8427649
X-APPLE-STRUCTURED-LOCATION;VALUE=URI;X-ADDRESS=Tillamook County Pioneer Museum 2106 Second St Tillamook OR 97141;X-APPLE-RADIUS=500;X-TITLE=2106 Second St\, Tillamook OR 97141:geo:-123.8427649,45.4573215
END:VEVENT
END:VCALENDAR