BEGIN:VCALENDAR
VERSION:2.0
PRODID:-//Tillamook Coast - ECPv6.15.16//NONSGML v1.0//EN
CALSCALE:GREGORIAN
METHOD:PUBLISH
X-WR-CALNAME:Tillamook Coast
X-ORIGINAL-URL:https://tillamookcoast.com
X-WR-CALDESC:Events for Tillamook Coast
REFRESH-INTERVAL;VALUE=DURATION:PT1H
X-Robots-Tag:noindex
X-PUBLISHED-TTL:PT1H
BEGIN:VTIMEZONE
TZID:America/Los_Angeles
BEGIN:DAYLIGHT
TZOFFSETFROM:-0800
TZOFFSETTO:-0700
TZNAME:PDT
DTSTART:20250309T100000
END:DAYLIGHT
BEGIN:STANDARD
TZOFFSETFROM:-0700
TZOFFSETTO:-0800
TZNAME:PST
DTSTART:20251102T090000
END:STANDARD
BEGIN:DAYLIGHT
TZOFFSETFROM:-0800
TZOFFSETTO:-0700
TZNAME:PDT
DTSTART:20260308T100000
END:DAYLIGHT
BEGIN:STANDARD
TZOFFSETFROM:-0700
TZOFFSETTO:-0800
TZNAME:PST
DTSTART:20261101T090000
END:STANDARD
BEGIN:DAYLIGHT
TZOFFSETFROM:-0800
TZOFFSETTO:-0700
TZNAME:PDT
DTSTART:20270314T100000
END:DAYLIGHT
BEGIN:STANDARD
TZOFFSETFROM:-0700
TZOFFSETTO:-0800
TZNAME:PST
DTSTART:20271107T090000
END:STANDARD
END:VTIMEZONE
BEGIN:VEVENT
DTSTART;TZID=America/Los_Angeles:20260426T100000
DTEND;TZID=America/Los_Angeles:20260426T180000
DTSTAMP:20260422T075139
CREATED:20260313T083759Z
LAST-MODIFIED:20260421T183044Z
UID:10009458-1777197600-1777226400@tillamookcoast.com
SUMMARY:Hart’s Camp Spring Festival
DESCRIPTION:Experience a weekend of live music curated by ZuhG Life Presents\, delicious eats from local food trucks\, refreshing craft beer and a vibrant marketplace featuring talented local artisans and makers. Whether you’re here for the tunes\, the brews or just the good vibes\, this is the perfect way to welcome the season on the Oregon Coast. Free and family-friendly.
URL:https://tillamookcoast.com/plan-your-trip/events/event/harts-camp-spring-festival-2/
LOCATION:Hart’s Camp\, 33315-B Cape Kiwanda Drive\, Pacific City\, OR 97135
CATEGORIES:Community,Family Fun,Live Music
ATTACH;FMTTYPE=image/jpeg:https://tillamookcoast.com/wp-content/uploads/2026/03/4375044665_ORE_HartsCamp_SpringFestival_0226_1200x675_v1-raiNfV.jpg
END:VEVENT
BEGIN:VEVENT
DTSTART;TZID=America/Los_Angeles:20260426T110000
DTEND;TZID=America/Los_Angeles:20260426T160000
DTSTAMP:20260422T075139
CREATED:20260225T193827Z
LAST-MODIFIED:20260421T183044Z
UID:10009337-1777201200-1777219200@tillamookcoast.com
SUMMARY:Tillamook Headlight Herald Home & Garden Show
DESCRIPTION:Tillamook Headlight Herald 2026 Home & Garden Show\nTillamook County Fairgrounds\n4603 East Third Street\nSaturday\, April 25\n 9 a.m. to 4 p.m.\n\nSunday\, April 26\n11 a.m. to 4 p.m.\n\nFree Admission\nFree Parking
URL:https://tillamookcoast.com/plan-your-trip/events/event/tillamook-headlight-herald-home-garden-show-2/
CATEGORIES:Community,Family Fun,Shopping and Sales
END:VEVENT
BEGIN:VEVENT
DTSTART;TZID=America/Los_Angeles:20260426T150000
DTEND;TZID=America/Los_Angeles:20260507T163000
DTSTAMP:20260422T075139
CREATED:20260415T190918Z
LAST-MODIFIED:20260421T183044Z
UID:10009742-1777215600-1778171400@tillamookcoast.com
SUMMARY:Cannon Beach Chorus presents its FREE Spring 2026 concert\, “I Am America\, the land\, the people\, the struggle to be free”
DESCRIPTION:The Cannon Beach Chorus presents its Spring 2026 concert\, “I Am America\, the land\, the people\, the struggle to be free”. The concert music was selected in recognition of the 250th anniversary of the signing of the Declaration of Independence.\n\nKnown for performing in a wide range of musical styles\, the chorus has chosen music from the Revolutionary War period to contemporary times\, from composers including Aaron Copland\, Stephen Foster\, Garth Brooks as well as traditional folk and patriotic music with lyrics in English\, Spanish and Navajo. The chorus will be joined by guest musicians Kristin Wishon\, Flute\, Piccolo; Tim Berthelsen\, Violin\, Fiddle; Diane Ericson\, Percussion and Allen Barber\, Tenor.\n\n\nThe concert will feature Tillamook pianist\, Blake Poblador\, in a performance of L’Union\, written during the American Civil War by composer and pianist\, Louis Moreau Gottschalk.\n\nThere is no charge to attend. Donations are encouraged to support the chorus and our scholarship fund for Clatsop and Tillamook County high school Seniors who will continue their vocal/choral music training after graduation.\n\n\nRoy Seiber\, Director
URL:https://tillamookcoast.com/plan-your-trip/events/event/cannon-beach-chorus-presents-its-free-spring-2026-concert-i-am-america-the-land-the-people-the-struggle-to-be-free/
LOCATION:Tillamook United Methodist Church\, 3808 12th Street\, Tillamook\, OR. 97141\, OR\, United States
CATEGORIES:Community,Family Fun,Live Music
ATTACH;FMTTYPE=image/jpeg:https://tillamookcoast.com/wp-content/uploads/2026/04/CBChorusSpr26Flyer-2vh2FQ.jpg
GEO:45.44959;-123.82161
X-APPLE-STRUCTURED-LOCATION;VALUE=URI;X-ADDRESS=Tillamook United Methodist Church 3808 12th Street Tillamook OR. 97141 OR United States;X-APPLE-RADIUS=500;X-TITLE=3808 12th Street\, Tillamook\, OR. 97141:geo:-123.82161,45.44959
END:VEVENT
BEGIN:VEVENT
DTSTART;TZID=America/Los_Angeles:20260426T160000
DTEND;TZID=America/Los_Angeles:20260426T180000
DTSTAMP:20260422T075139
CREATED:20260403T002145Z
LAST-MODIFIED:20260421T183045Z
UID:10009628-1777219200-1777226400@tillamookcoast.com
SUMMARY:Netarts/Oceanside Earth Day Cleanup
DESCRIPTION:Celebrate Earth Month on Sunday\, April 26th with the Friends of Netarts Bay Watershed\, Estuary\, Beach\, and Sea (WEBS) by joining us in a beach cleanup from Cape Lookout State Park to Cape Meares and Bayocean Spit.  \nWinter brings an influx of marine debris\, with storms washing up harmful trash that poses a threat to wildlife and our unique coastal ecosystems. Springtime offers the perfect opportunity to unite as a community and restore our beaches. WEBS has been hosting cleanups for decades with SOLVE\, an environmental non-profit that supports volunteer-led environmental stewardship throughout Oregon. “Clean up the beach with friends or family\, or expand your community by teaming up with fellow volunteers. Volunteers of all ages will find the beach cleanup fun\, educational\, and rewarding\,” shares Marina Dreeben\, WEBS Stewardship Coordinator.  \nWe will meet at 4pm to clean up while the tide is low and wrap up our work as the sun starts setting at 6pm. Thanks to the amazing crew at The Schooner Restaurant and Lounge\, all volunteers will receive a coupon for 10% off dinner on the evening of the cleanup\, so be sure to stick around for a delicious\, locally-sourced meal while you enjoy the sunset after an afternoon of hard work. \nAs you head out to clean up or just explore\, it is important to remember that ocean shores can be dangerous. Avoid logs in the water\, keep your distance from marine mammals\, and never turn your back on the ocean! If you find any hazardous material\, please alert a staff member.  \nAdvanced registration saves time but is not required. To register and read more about this event visit http://www.netartsbaywebs.org/events  \nQuestions?  \nContact info@netartsbaywebs.org \nConsider donating:   \nFriends of Netarts Bay WEBS is committed to offering high-quality\, nature-based events led by experts\, while also reducing the financial barrier of outdoor recreation. We do this by offering our events and programs at no cost to participants.  \nYour donation helps in supporting the work of our organization. Every little bit helps!  All of our workshops\, classes\, and events are free. As a non-profit organization\, we rely on donations and grants to keep us going\, and growing.   \nIf you would like to donate\, please visit our website. \nStay social with Friends of Netarts Bay WEBS online @netartsbaywebs
URL:https://tillamookcoast.com/plan-your-trip/events/event/netarts-oceanside-earth-day-cleanup/
LOCATION:Schooner Restaurant & Lounge\, 2065 NW Boat Basin Rd. Netarts 97141
CATEGORIES:Community,Outdoor
ATTACH;FMTTYPE=image/jpeg:https://tillamookcoast.com/wp-content/uploads/2026/04/Beach-Cleanup-Digital-Graphic-w36WoL.jpg
GEO:45.6933742;-122.87145
X-APPLE-STRUCTURED-LOCATION;VALUE=URI;X-ADDRESS=Schooner Restaurant & Lounge 2065 NW Boat Basin Rd. Netarts 97141;X-APPLE-RADIUS=500;X-TITLE=2065 NW Boat Basin Rd. Netarts 97141:geo:-122.87145,45.6933742
END:VEVENT
END:VCALENDAR