BEGIN:VCALENDAR
VERSION:2.0
PRODID:-//Tillamook Coast - ECPv6.15.16//NONSGML v1.0//EN
CALSCALE:GREGORIAN
METHOD:PUBLISH
X-WR-CALNAME:Tillamook Coast
X-ORIGINAL-URL:https://tillamookcoast.com
X-WR-CALDESC:Events for Tillamook Coast
REFRESH-INTERVAL;VALUE=DURATION:PT1H
X-Robots-Tag:noindex
X-PUBLISHED-TTL:PT1H
BEGIN:VTIMEZONE
TZID:America/Los_Angeles
BEGIN:DAYLIGHT
TZOFFSETFROM:-0800
TZOFFSETTO:-0700
TZNAME:PDT
DTSTART:20250309T100000
END:DAYLIGHT
BEGIN:STANDARD
TZOFFSETFROM:-0700
TZOFFSETTO:-0800
TZNAME:PST
DTSTART:20251102T090000
END:STANDARD
BEGIN:DAYLIGHT
TZOFFSETFROM:-0800
TZOFFSETTO:-0700
TZNAME:PDT
DTSTART:20260308T100000
END:DAYLIGHT
BEGIN:STANDARD
TZOFFSETFROM:-0700
TZOFFSETTO:-0800
TZNAME:PST
DTSTART:20261101T090000
END:STANDARD
BEGIN:DAYLIGHT
TZOFFSETFROM:-0800
TZOFFSETTO:-0700
TZNAME:PDT
DTSTART:20270314T100000
END:DAYLIGHT
BEGIN:STANDARD
TZOFFSETFROM:-0700
TZOFFSETTO:-0800
TZNAME:PST
DTSTART:20271107T090000
END:STANDARD
END:VTIMEZONE
BEGIN:VEVENT
DTSTART;TZID=America/Los_Angeles:20260426T150000
DTEND;TZID=America/Los_Angeles:20260507T163000
DTSTAMP:20260422T090951
CREATED:20260415T190918Z
LAST-MODIFIED:20260421T183044Z
UID:10009742-1777215600-1778171400@tillamookcoast.com
SUMMARY:Cannon Beach Chorus presents its FREE Spring 2026 concert\, “I Am America\, the land\, the people\, the struggle to be free”
DESCRIPTION:The Cannon Beach Chorus presents its Spring 2026 concert\, “I Am America\, the land\, the people\, the struggle to be free”. The concert music was selected in recognition of the 250th anniversary of the signing of the Declaration of Independence.\n\nKnown for performing in a wide range of musical styles\, the chorus has chosen music from the Revolutionary War period to contemporary times\, from composers including Aaron Copland\, Stephen Foster\, Garth Brooks as well as traditional folk and patriotic music with lyrics in English\, Spanish and Navajo. The chorus will be joined by guest musicians Kristin Wishon\, Flute\, Piccolo; Tim Berthelsen\, Violin\, Fiddle; Diane Ericson\, Percussion and Allen Barber\, Tenor.\n\n\nThe concert will feature Tillamook pianist\, Blake Poblador\, in a performance of L’Union\, written during the American Civil War by composer and pianist\, Louis Moreau Gottschalk.\n\nThere is no charge to attend. Donations are encouraged to support the chorus and our scholarship fund for Clatsop and Tillamook County high school Seniors who will continue their vocal/choral music training after graduation.\n\n\nRoy Seiber\, Director
URL:https://tillamookcoast.com/plan-your-trip/events/event/cannon-beach-chorus-presents-its-free-spring-2026-concert-i-am-america-the-land-the-people-the-struggle-to-be-free/
LOCATION:Tillamook United Methodist Church\, 3808 12th Street\, Tillamook\, OR. 97141\, OR\, United States
CATEGORIES:Community,Family Fun,Live Music
ATTACH;FMTTYPE=image/jpeg:https://tillamookcoast.com/wp-content/uploads/2026/04/CBChorusSpr26Flyer-2vh2FQ.jpg
GEO:45.44959;-123.82161
X-APPLE-STRUCTURED-LOCATION;VALUE=URI;X-ADDRESS=Tillamook United Methodist Church 3808 12th Street Tillamook OR. 97141 OR United States;X-APPLE-RADIUS=500;X-TITLE=3808 12th Street\, Tillamook\, OR. 97141:geo:-123.82161,45.44959
END:VEVENT
BEGIN:VEVENT
DTSTART;TZID=America/Los_Angeles:20260429T113000
DTEND;TZID=America/Los_Angeles:20260429T123000
DTSTAMP:20260422T090951
CREATED:20260129T231324Z
LAST-MODIFIED:20260421T183119Z
UID:10009116-1777462200-1777465800@tillamookcoast.com
SUMMARY:Senior Meals Tuesday & Wednesday
DESCRIPTION:🍽️ Senior Meals at the Kiawanda Community Center 🍽️ \nJoin us every Tuesday and Wednesday at 11:30 AM for delicious\, nutritious senior meals at the Kiawanda Community Center!\nCome enjoy great food and even better company in a warm and welcoming atmosphere. \n✨ Who: Seniors & community members\n📍 Where: Kiawanda Community Center\n📅 When: Every Tuesday & Wednesday\n⏰ Time: 11:30 AM \nBring a friend\, make new ones\, and enjoy a healthy midday meal! ❤️ \nFor more information\, call the Kiawanda Community Center.
URL:https://tillamookcoast.com/plan-your-trip/events/event/senior-meals-tuesday-wednesday-35/
LOCATION:Kiawanda Community Center\, 34600 Cape Kiwanda Dr\, Pacific City\, OR 97135\, OR\, United States
CATEGORIES:Community
ATTACH;FMTTYPE=image/png:https://tillamookcoast.com/wp-content/uploads/2025/12/Brown-Orange-Modern-Food-Price-Instagram-Post-Invitation-portrait-a9KvXm.png
GEO:45.2048476;-123.9670463
X-APPLE-STRUCTURED-LOCATION;VALUE=URI;X-ADDRESS=Kiawanda Community Center 34600 Cape Kiwanda Dr Pacific City OR 97135 OR United States;X-APPLE-RADIUS=500;X-TITLE=34600 Cape Kiwanda Dr\, Pacific City\, OR 97135:geo:-123.9670463,45.2048476
END:VEVENT
BEGIN:VEVENT
DTSTART;TZID=America/Los_Angeles:20260429T180000
DTEND;TZID=America/Los_Angeles:20260429T180000
DTSTAMP:20260422T090951
CREATED:20260313T084034Z
LAST-MODIFIED:20260421T183119Z
UID:10009475-1777485600-1777485600@tillamookcoast.com
SUMMARY:April Movies at Main: In Disguise and Undercover
DESCRIPTION:Watch movies at the library 6 pm Wednesdays! \n In Disguise and Undercover \n4/1 Sister Act (1992) \n1/8 Miss Congeniality (2000) \n4/15 Some Like It Hot (1959) \n4/22 The Fast and the Furious (2001) \n4/29 Pushover (1954)
URL:https://tillamookcoast.com/plan-your-trip/events/event/april-movies-at-main-in-disguise-and-undercover-5/
LOCATION:Tillamook County Library\, 1716 3rd Street Tillamook Oregon 97141
CATEGORIES:Community,Family Fun
ATTACH;FMTTYPE=image/png:https://tillamookcoast.com/wp-content/uploads/2026/03/April-Movies-at-Main-BZJPvv.png
GEO:45.4566251;-123.846324
X-APPLE-STRUCTURED-LOCATION;VALUE=URI;X-ADDRESS=Tillamook County Library 1716 3rd Street Tillamook Oregon 97141;X-APPLE-RADIUS=500;X-TITLE=1716 3rd Street Tillamook Oregon 97141:geo:-123.846324,45.4566251
END:VEVENT
END:VCALENDAR