BEGIN:VCALENDAR
VERSION:2.0
PRODID:-//Tillamook Coast - ECPv6.15.16//NONSGML v1.0//EN
CALSCALE:GREGORIAN
METHOD:PUBLISH
X-ORIGINAL-URL:https://tillamookcoast.com
X-WR-CALDESC:Events for Tillamook Coast
REFRESH-INTERVAL;VALUE=DURATION:PT1H
X-Robots-Tag:noindex
X-PUBLISHED-TTL:PT1H
BEGIN:VTIMEZONE
TZID:America/Los_Angeles
BEGIN:DAYLIGHT
TZOFFSETFROM:-0800
TZOFFSETTO:-0700
TZNAME:PDT
DTSTART:20250309T100000
END:DAYLIGHT
BEGIN:STANDARD
TZOFFSETFROM:-0700
TZOFFSETTO:-0800
TZNAME:PST
DTSTART:20251102T090000
END:STANDARD
BEGIN:DAYLIGHT
TZOFFSETFROM:-0800
TZOFFSETTO:-0700
TZNAME:PDT
DTSTART:20260308T100000
END:DAYLIGHT
BEGIN:STANDARD
TZOFFSETFROM:-0700
TZOFFSETTO:-0800
TZNAME:PST
DTSTART:20261101T090000
END:STANDARD
BEGIN:DAYLIGHT
TZOFFSETFROM:-0800
TZOFFSETTO:-0700
TZNAME:PDT
DTSTART:20270314T100000
END:DAYLIGHT
BEGIN:STANDARD
TZOFFSETFROM:-0700
TZOFFSETTO:-0800
TZNAME:PST
DTSTART:20271107T090000
END:STANDARD
END:VTIMEZONE
BEGIN:VEVENT
DTSTART;TZID=America/Los_Angeles:20260518T090000
DTEND;TZID=America/Los_Angeles:20260518T100000
DTSTAMP:20260422T103153
CREATED:20260217T161001Z
LAST-MODIFIED:20260421T183134Z
UID:10009259-1779094800-1779098400@tillamookcoast.com
SUMMARY:Yoga With Dawn
DESCRIPTION:🧘‍♀️ Yoga with Dawn – Find Your Flow! 🧘‍♂️ \nStart your day with peace\, strength\, and positive energy 🌞Join Dawn for a refreshing yoga class every: \n🗓️ Monday\, Wednesday\, Friday & Saturday🕘 9:00 AM – 10:00 AM📍 Kiawanda Community Center \nAll levels are welcome—whether you’re new to yoga or a seasoned pro\, Dawn’s calm guidance and supportive atmosphere will leave you feeling refreshed and centered. \n✨ Bring a mat\, some water\, and a smile.No registration needed—just drop in and breathe it out with us! \n#YogaWithDawn #KiawandaCommunityCenter #MorningYoga #WellnessInPacificCity #MindBodySoul
URL:https://tillamookcoast.com/plan-your-trip/events/event/yoga-with-dawn-168/
LOCATION:Kiawanda Community Center\, 34600 Cape Kiwanda Dr\, Pacific City\, OR 97135\, OR\, United States
CATEGORIES:Classes and Workshops,Community
ATTACH;FMTTYPE=image/jpeg:https://tillamookcoast.com/wp-content/uploads/2025/07/yoga-oRzciY.jpg
GEO:45.2048476;-123.9670463
X-APPLE-STRUCTURED-LOCATION;VALUE=URI;X-ADDRESS=Kiawanda Community Center 34600 Cape Kiwanda Dr Pacific City OR 97135 OR United States;X-APPLE-RADIUS=500;X-TITLE=34600 Cape Kiwanda Dr\, Pacific City\, OR 97135:geo:-123.9670463,45.2048476
END:VEVENT
BEGIN:VEVENT
DTSTART;TZID=America/Los_Angeles:20260518T103000
DTEND;TZID=America/Los_Angeles:20260518T123000
DTSTAMP:20260422T103153
CREATED:20260217T161002Z
LAST-MODIFIED:20260421T183134Z
UID:10009261-1779100200-1779107400@tillamookcoast.com
SUMMARY:Dungeons and Dragons at Tillamook Library
DESCRIPTION:Play a variety of tabletop RPGs with local storytellers at the library! Open to all!
URL:https://tillamookcoast.com/plan-your-trip/events/event/dungeons-and-dragons-at-tillamook-library-91/
LOCATION:Tillamook County Library\, 1716 3rd Street Tillamook Oregon 97141
CATEGORIES:Community
ATTACH;FMTTYPE=image/png:https://tillamookcoast.com/wp-content/uploads/2025/07/Dungeons-Dragons-2025-TM-1-0TbwQn.png
GEO:45.4566251;-123.846324
X-APPLE-STRUCTURED-LOCATION;VALUE=URI;X-ADDRESS=Tillamook County Library 1716 3rd Street Tillamook Oregon 97141;X-APPLE-RADIUS=500;X-TITLE=1716 3rd Street Tillamook Oregon 97141:geo:-123.846324,45.4566251
END:VEVENT
BEGIN:VEVENT
DTSTART;TZID=America/Los_Angeles:20260518T190000
DTEND;TZID=America/Los_Angeles:20260518T210000
DTSTAMP:20260422T103153
CREATED:20260421T183135Z
LAST-MODIFIED:20260421T183135Z
UID:10009779-1779130800-1779138000@tillamookcoast.com
SUMMARY:MusicOregon Listening Session on the North Coast Music Scene
DESCRIPTION:MusicOregon is conducting a statewide listening tour across seven Oregon communities from May 16 through May 23\, 2026. Each stop is a free\, two-hour public gathering open to musicians\, venue operators\, music educators\, producers\, managers\, and anyone who works in or alongside the local music scene. The gatherings are conversation-first: no formal presentations\, no agenda beyond listening. Participants will help define MusicOregon’s statewide programming\, partnerships\, and advocacy priorities for the next two years. \nThe tour is funded in part by the Oregon Community Foundation through its Arts Rebuilding Grant program\, and reflects MusicOregon’s expansion beyond its Portland origins into all of Oregon’s major music regions: the North Coast\, the Willamette Valley\, Southern Oregon\, Central Oregon\, and Northeastern Oregon. \nA statewide needs assessment survey is also open now at musicoregon.org/survey. Responses are anonymous. MusicOregon will share the results with the music community and the public. \nWHO SHOULD ATTEND\n\nIndependent musicians and performers\nVenue operators\, bookers\, and promoters\nMusic producers\, engineers\, and studio owners\nManagers\, agents\, and music entrepreneurs\nMusic educators and teaching artists\nCommunity organizers working at the intersection of arts and culture\n\nAll gatherings are free and open to the public. Light refreshments provided. \nRSVP
URL:https://tillamookcoast.com/plan-your-trip/events/event/musicoregon-listening-session-on-the-north-coast-music-scene/
LOCATION:Fairview Grange\, 5520 3rd St\, Tillamook\, OR\, United States\, Oregon
CATEGORIES:Community,Education
ATTACH;FMTTYPE=image/png:https://tillamookcoast.com/wp-content/uploads/2026/04/Tillamook-FB-Event-Cover-1200-x-628-px-5ziv3P.png
END:VEVENT
END:VCALENDAR