BEGIN:VCALENDAR
VERSION:2.0
PRODID:-//Tillamook Coast - ECPv6.15.16//NONSGML v1.0//EN
CALSCALE:GREGORIAN
METHOD:PUBLISH
X-ORIGINAL-URL:https://tillamookcoast.com
X-WR-CALDESC:Events for Tillamook Coast
REFRESH-INTERVAL;VALUE=DURATION:PT1H
X-Robots-Tag:noindex
X-PUBLISHED-TTL:PT1H
BEGIN:VTIMEZONE
TZID:America/Los_Angeles
BEGIN:DAYLIGHT
TZOFFSETFROM:-0800
TZOFFSETTO:-0700
TZNAME:PDT
DTSTART:20250309T100000
END:DAYLIGHT
BEGIN:STANDARD
TZOFFSETFROM:-0700
TZOFFSETTO:-0800
TZNAME:PST
DTSTART:20251102T090000
END:STANDARD
BEGIN:DAYLIGHT
TZOFFSETFROM:-0800
TZOFFSETTO:-0700
TZNAME:PDT
DTSTART:20260308T100000
END:DAYLIGHT
BEGIN:STANDARD
TZOFFSETFROM:-0700
TZOFFSETTO:-0800
TZNAME:PST
DTSTART:20261101T090000
END:STANDARD
BEGIN:DAYLIGHT
TZOFFSETFROM:-0800
TZOFFSETTO:-0700
TZNAME:PDT
DTSTART:20270314T100000
END:DAYLIGHT
BEGIN:STANDARD
TZOFFSETFROM:-0700
TZOFFSETTO:-0800
TZNAME:PST
DTSTART:20271107T090000
END:STANDARD
END:VTIMEZONE
BEGIN:VEVENT
DTSTART;TZID=America/Los_Angeles:20260618T090000
DTEND;TZID=America/Los_Angeles:20260618T100000
DTSTAMP:20260422T113914
CREATED:20260320T122234Z
LAST-MODIFIED:20260421T183204Z
UID:10009565-1781773200-1781776800@tillamookcoast.com
SUMMARY:Yoga With Dawn
DESCRIPTION:🧘‍♀️ Yoga with Dawn – Find Your Flow! 🧘‍♂️ \nStart your day with peace\, strength\, and positive energy 🌞Join Dawn for a refreshing yoga class every: \n🗓️ Monday\, Wednesday\, Friday & Saturday🕘 9:00 AM – 10:00 AM📍 Kiawanda Community Center \nAll levels are welcome—whether you’re new to yoga or a seasoned pro\, Dawn’s calm guidance and supportive atmosphere will leave you feeling refreshed and centered. \n✨ Bring a mat\, some water\, and a smile.No registration needed—just drop in and breathe it out with us! \n#YogaWithDawn #KiawandaCommunityCenter #MorningYoga #WellnessInPacificCity #MindBodySoul
URL:https://tillamookcoast.com/plan-your-trip/events/event/yoga-with-dawn-185/
LOCATION:Kiawanda Community Center\, 34600 Cape Kiwanda Dr\, Pacific City\, OR 97135\, OR\, United States
CATEGORIES:Classes and Workshops,Community
ATTACH;FMTTYPE=image/jpeg:https://tillamookcoast.com/wp-content/uploads/2025/07/yoga-oRzciY.jpg
GEO:45.2048476;-123.9670463
X-APPLE-STRUCTURED-LOCATION;VALUE=URI;X-ADDRESS=Kiawanda Community Center 34600 Cape Kiwanda Dr Pacific City OR 97135 OR United States;X-APPLE-RADIUS=500;X-TITLE=34600 Cape Kiwanda Dr\, Pacific City\, OR 97135:geo:-123.9670463,45.2048476
END:VEVENT
BEGIN:VEVENT
DTSTART;TZID=America/Los_Angeles:20260618T100000
DTEND;TZID=America/Los_Angeles:20260618T110000
DTSTAMP:20260422T113914
CREATED:20260320T121950Z
LAST-MODIFIED:20260421T183104Z
UID:10009562-1781776800-1781780400@tillamookcoast.com
SUMMARY:Family Storytime at Bay City Library
DESCRIPTION:Bring the whole family down to the Bay City Library for a fun storytime and activity every Thursday at 10am!
URL:https://tillamookcoast.com/plan-your-trip/events/event/family-storytime-at-bay-city-library-50/
LOCATION:Bay City Library\, 5525 B St\, Bay City\, OR
CATEGORIES:Community,Family Fun
ATTACH;FMTTYPE=image/png:https://tillamookcoast.com/wp-content/uploads/2024/12/Bay-City-Storytime1-iSlpg8.tmp_.png
GEO:45.5243851;-123.8908552
X-APPLE-STRUCTURED-LOCATION;VALUE=URI;X-ADDRESS=Bay City Library 5525 B St Bay City OR;X-APPLE-RADIUS=500;X-TITLE=5525 B St\, Bay City\, OR:geo:-123.8908552,45.5243851
END:VEVENT
BEGIN:VEVENT
DTSTART;TZID=America/Los_Angeles:20260618T103000
DTEND;TZID=America/Los_Angeles:20260618T113000
DTSTAMP:20260422T113914
CREATED:20260320T121950Z
LAST-MODIFIED:20260403T010643Z
UID:10009563-1781778600-1781782200@tillamookcoast.com
SUMMARY:PreK Storytime at Manzanita Library
DESCRIPTION:Stories and activities for preschoolers at the Manzanita Library every 3rd Thursday at 10:30 am!
URL:https://tillamookcoast.com/plan-your-trip/events/event/prek-storytime-at-manzanita-library-8/
LOCATION:Manzanita Library\, 571 Laneda Ave Manzanita OR
CATEGORIES:Community,Family Fun
ATTACH;FMTTYPE=image/png:https://tillamookcoast.com/wp-content/uploads/2025/09/PreK-Storytime-TZ-ZGwSyA.png
GEO:45.7194514;-123.9317481
X-APPLE-STRUCTURED-LOCATION;VALUE=URI;X-ADDRESS=Manzanita Library 571 Laneda Ave Manzanita OR;X-APPLE-RADIUS=500;X-TITLE=571 Laneda Ave Manzanita OR:geo:-123.9317481,45.7194514
END:VEVENT
BEGIN:VEVENT
DTSTART;TZID=America/Los_Angeles:20260618T130000
DTEND;TZID=America/Los_Angeles:20260618T150000
DTSTAMP:20260422T113914
CREATED:20260320T122236Z
LAST-MODIFIED:20260421T183204Z
UID:10009567-1781787600-1781794800@tillamookcoast.com
SUMMARY:Bingo
DESCRIPTION:🎉 Thursday Bingo Fun at the Kiawanda Community Center! 🎉 \nJoin us every Thursday from 1PM to 3PM for an afternoon of bingo\, community\, and fun at the Kiawanda Community Center! \n🗓️ When: Thursdays\, 1:00–3:00 PM\n📍 Where: Kiawanda Community Center\n🎁 Prizes\, laughs\, and good company guaranteed! \nWhether you’re a seasoned player or brand new to the game\, everyone is welcome! Come early\, grab your favorite seat\, and get ready for a great time! 🙌 \nTag your bingo buddy and spread the word! 🎊 \n#BingoFun #KiawandaCommunityCenter #PacificCityEvents #ThursdayBingo #CommunityVibes
URL:https://tillamookcoast.com/plan-your-trip/events/event/bingo-46/
LOCATION:Kiawanda Community Center\, 34600 Cape Kiwanda Dr\, Pacific City\, OR 97135\, OR\, United States
CATEGORIES:Community
ATTACH;FMTTYPE=image/jpeg:https://tillamookcoast.com/wp-content/uploads/2025/07/Cream-Orange-Colorful-Retro-We-Are-Hiring-Flyer-vLTXaz.jpg
GEO:45.2048476;-123.9670463
X-APPLE-STRUCTURED-LOCATION;VALUE=URI;X-ADDRESS=Kiawanda Community Center 34600 Cape Kiwanda Dr Pacific City OR 97135 OR United States;X-APPLE-RADIUS=500;X-TITLE=34600 Cape Kiwanda Dr\, Pacific City\, OR 97135:geo:-123.9670463,45.2048476
END:VEVENT
BEGIN:VEVENT
DTSTART;TZID=America/Los_Angeles:20260618T140000
DTEND;TZID=America/Los_Angeles:20260618T150000
DTSTAMP:20260422T113914
CREATED:20260320T121951Z
LAST-MODIFIED:20260421T183104Z
UID:10009564-1781791200-1781794800@tillamookcoast.com
SUMMARY:Mahjong at Manzanita Library
DESCRIPTION:Play mahjong in a fun informal group at the Manzanita library Thursdays at 2 pm!
URL:https://tillamookcoast.com/plan-your-trip/events/event/mahjong-at-manzanita-library-37/
LOCATION:Manzanita Library\, 571 Laneda Ave Manzanita OR
CATEGORIES:Community,Family Fun
GEO:45.7194514;-123.9317481
X-APPLE-STRUCTURED-LOCATION;VALUE=URI;X-ADDRESS=Manzanita Library 571 Laneda Ave Manzanita OR;X-APPLE-RADIUS=500;X-TITLE=571 Laneda Ave Manzanita OR:geo:-123.9317481,45.7194514
END:VEVENT
BEGIN:VEVENT
DTSTART;TZID=America/Los_Angeles:20260618T160000
DTEND;TZID=America/Los_Angeles:20260618T173000
DTSTAMP:20260422T113914
CREATED:20260320T122236Z
LAST-MODIFIED:20260421T183205Z
UID:10009568-1781798400-1781803800@tillamookcoast.com
SUMMARY:Knitting Group
DESCRIPTION:Join a fun group of knitters at North Tillamook Library in Manzanita on Thursdays from 4pm to 5:30pm.
URL:https://tillamookcoast.com/plan-your-trip/events/event/knitting-group-45/
LOCATION:North Tillamook Library\, 571 Laneda Ave\, Manzanita\, OR 97130
CATEGORIES:Community,Education
ATTACH;FMTTYPE=image/png:https://tillamookcoast.com/wp-content/uploads/2024/08/logo-OfhBMs.tmp_.png
GEO:45.7194742;-123.9317422
X-APPLE-STRUCTURED-LOCATION;VALUE=URI;X-ADDRESS=North Tillamook Library 571 Laneda Ave Manzanita OR 97130;X-APPLE-RADIUS=500;X-TITLE=571 Laneda Ave\, Manzanita\, OR 97130:geo:-123.9317422,45.7194742
END:VEVENT
END:VCALENDAR