BEGIN:VCALENDAR
VERSION:2.0
PRODID:-//Tillamook Coast - ECPv6.15.16//NONSGML v1.0//EN
CALSCALE:GREGORIAN
METHOD:PUBLISH
X-ORIGINAL-URL:https://tillamookcoast.com
X-WR-CALDESC:Events for Tillamook Coast
REFRESH-INTERVAL;VALUE=DURATION:PT1H
X-Robots-Tag:noindex
X-PUBLISHED-TTL:PT1H
BEGIN:VTIMEZONE
TZID:America/Los_Angeles
BEGIN:DAYLIGHT
TZOFFSETFROM:-0800
TZOFFSETTO:-0700
TZNAME:PDT
DTSTART:20250309T100000
END:DAYLIGHT
BEGIN:STANDARD
TZOFFSETFROM:-0700
TZOFFSETTO:-0800
TZNAME:PST
DTSTART:20251102T090000
END:STANDARD
BEGIN:DAYLIGHT
TZOFFSETFROM:-0800
TZOFFSETTO:-0700
TZNAME:PDT
DTSTART:20260308T100000
END:DAYLIGHT
BEGIN:STANDARD
TZOFFSETFROM:-0700
TZOFFSETTO:-0800
TZNAME:PST
DTSTART:20261101T090000
END:STANDARD
BEGIN:DAYLIGHT
TZOFFSETFROM:-0800
TZOFFSETTO:-0700
TZNAME:PDT
DTSTART:20270314T100000
END:DAYLIGHT
BEGIN:STANDARD
TZOFFSETFROM:-0700
TZOFFSETTO:-0800
TZNAME:PST
DTSTART:20271107T090000
END:STANDARD
END:VTIMEZONE
BEGIN:VEVENT
DTSTART;TZID=America/Los_Angeles:20260420T160000
DTEND;TZID=America/Los_Angeles:20260420T160000
DTSTAMP:20260420T200917
CREATED:20260313T084015Z
LAST-MODIFIED:20260419T183618Z
UID:10009472-1776700800-1776700800@tillamookcoast.com
SUMMARY:Grief Workshops with Morgan Motsinger at Tillamook Library
DESCRIPTION:Grief Literacy: Understanding Loss\, Reclaiming Life\nA four-part community workshop series\nGrief is not a problem to be solved or a stage to get through. It’s something we carry\, and with the right understanding\, it can become one of our greatest teachers. This series blends neuroscience\, psychology\, and lived experience to help you understand what grief actually is\, why it affects your brain and body the way it does\, and how to move through it with more compassion\, clarity\, and even joy. \nEach session includes mindfulness practice\, movement\, real conversation\, and tools you can use immediately. Come to one or come to all\, each session stands on its own. \nWeek 1 — What We Get Wrong About Grief \nUnpacking the myths (including the infamous 5 stages) and discovering what grief actually looks like. \nWeek 2 — Grief and the Brain \nWhy grief is so exhausting\, what’s happening neurologically\, and why your brain needs delight just as much as it needs to process. \nWeek 3 — Grief Is Everywhere \nGrief isn’t only about death. Exploring the losses that don’t get named (divorce\, illness\, identity\, relationships) and what they reveal about what we love most. \nWeek 4 — From Knowing to Tending \nGrief in the body\, somatic practices\, an in-the-moment grief toolkit\, and the big question: what does your grief make clear about the life you want to build? \nLed by Morgan Motsinger: TEDx speaker\, mindfulness teacher\, psychology educator\, and bereaved parent.
URL:https://tillamookcoast.com/plan-your-trip/events/event/grief-workshops-with-morgan-motsinger-at-tillamook-library-3/
LOCATION:Tillamook County Library\, 1716 3rd Street Tillamook Oregon 97141
CATEGORIES:Community,Education
ATTACH;FMTTYPE=image/png:https://tillamookcoast.com/wp-content/uploads/2026/03/Grief-Literacy-workshop-series-TM-7H9xVM.png
GEO:45.4566251;-123.846324
X-APPLE-STRUCTURED-LOCATION;VALUE=URI;X-ADDRESS=Tillamook County Library 1716 3rd Street Tillamook Oregon 97141;X-APPLE-RADIUS=500;X-TITLE=1716 3rd Street Tillamook Oregon 97141:geo:-123.846324,45.4566251
END:VEVENT
BEGIN:VEVENT
DTSTART;TZID=America/Los_Angeles:20260421T100000
DTEND;TZID=America/Los_Angeles:20260421T110000
DTSTAMP:20260420T200917
CREATED:20260121T233224Z
LAST-MODIFIED:20260419T183509Z
UID:10009048-1776765600-1776769200@tillamookcoast.com
SUMMARY:Tillamook Main Library Storytime: Terrific Twos
DESCRIPTION:Terrific Twos (TT) on Tues @ 10am; developmentally appropriate for 24-36mos; bubbles\, balls\, parachute & instruments! There is no expectation that your children will sit still or be quiet. It’s not developmentally appropriate to ask them to. \nA couple of things about the children’s room that might set you at ease: \n\nThere is no expectation that it will be a quiet zone; kids are kids and they are allowed to act themselves in the children’s room.\nOnly 2 hard and fast rules: No Running & No Screaming.\nIf your child needs a snack\, feed them!
URL:https://tillamookcoast.com/plan-your-trip/events/event/tillamook-main-library-storytime-terrific-twos-38/
LOCATION:Tillamook Main Library\, Tillamook\, 1716 3rd St\, Tillamook\, OR\, 97141\, United States
CATEGORIES:Education,Family Fun
ATTACH;FMTTYPE=image/jpeg:https://tillamookcoast.com/wp-content/uploads/2023/01/TCL-white-Et5zrw.tmp_.jpg
ORGANIZER;CN="Melanie Hetrick":MAILTO:mhetrick@co.tillamook.or.us
GEO:45.4566251;-123.846324
X-APPLE-STRUCTURED-LOCATION;VALUE=URI;X-ADDRESS=Tillamook Main Library Tillamook 1716 3rd St Tillamook OR 97141 United States;X-APPLE-RADIUS=500;X-TITLE=1716 3rd St:geo:-123.846324,45.4566251
END:VEVENT
BEGIN:VEVENT
DTSTART;TZID=America/Los_Angeles:20260422T100000
DTEND;TZID=America/Los_Angeles:20260422T110000
DTSTAMP:20260420T200917
CREATED:20260122T235900Z
LAST-MODIFIED:20260419T183511Z
UID:10009057-1776852000-1776855600@tillamookcoast.com
SUMMARY:Tillamook Main Library Storytime: Preschool
DESCRIPTION:Preschool storytime (PS) on Wed @ 10; developmentally appropriate for 3-5 yos; music\, stories\, interactive play and lots of laughs! In this class little begin to learn about a leader at the front of the room\, how to hold their wiggles\, listening and sitting still. When a child is transitioning from TT to PS my expectation is that they will sit for 5-10 minutes and then they might go play. I do not force them to sit still if they are not ready to. \nA couple of things about the children’s room that might set you at ease: \n\nThere is no expectation that it will be a quiet zone; kids are kids and they are allowed to act like themselves in the children’s room.\nOnly 2 hard and fast rules: No Running & No Screaming.\nIf your child needs a snack\, feed them!
URL:https://tillamookcoast.com/plan-your-trip/events/event/tillamook-main-library-storytime-preschool-38/
LOCATION:Tillamook Main Library\, Tillamook\, 1716 3rd St\, Tillamook\, OR\, 97141\, United States
CATEGORIES:Education,Family Fun
ATTACH;FMTTYPE=image/png:https://tillamookcoast.com/wp-content/uploads/2023/01/TCL-transparent-logo-9SAvyC.tmp_.png
ORGANIZER;CN="Melanie Hetrick":MAILTO:mhetrick@co.tillamook.or.us
GEO:45.4566251;-123.846324
X-APPLE-STRUCTURED-LOCATION;VALUE=URI;X-ADDRESS=Tillamook Main Library Tillamook 1716 3rd St Tillamook OR 97141 United States;X-APPLE-RADIUS=500;X-TITLE=1716 3rd St:geo:-123.846324,45.4566251
END:VEVENT
BEGIN:VEVENT
DTSTART;TZID=America/Los_Angeles:20260422T150000
DTEND;TZID=America/Los_Angeles:20260422T170000
DTSTAMP:20260420T200917
CREATED:20260403T002134Z
LAST-MODIFIED:20260419T183511Z
UID:10009627-1776870000-1776877200@tillamookcoast.com
SUMMARY:Earth Day Service Celebration
DESCRIPTION:Celebrate Earth Day and the grand opening of a new trail at Alder Creek farm with an afternoon of native planting\, kids activities and a native plant sale! For the past year\, LNCT Stewardship Volunteers have been hard at work carving out a new hillside trail through Sorrel Woods at Alder Creek Farm. Learn how to plant a few native species and go home with a few of your own from Aldervale Nursery. All ages are welcome. Gloves and tools provided. Weather appropriate clothing encouraged.\n\nThis event will take place on uneven ground in a wooded area. Bathrooms\, potable water and a washing station are available on-site.\n\nAlder Creek Farm\n35955 Underhill Ln\nNehalem\, OR 97131
URL:https://tillamookcoast.com/plan-your-trip/events/event/earth-day-service-celebration/
LOCATION:OR
CATEGORIES:Community,Education,Outdoor
ATTACH;FMTTYPE=image/jpeg:https://tillamookcoast.com/wp-content/uploads/2026/04/Official-Earth-Day-2026-Poster-ruqmha.jpg
END:VEVENT
BEGIN:VEVENT
DTSTART;TZID=America/Los_Angeles:20260422T173000
DTEND;TZID=America/Los_Angeles:20260422T183000
DTSTAMP:20260420T200917
CREATED:20260410T183314Z
LAST-MODIFIED:20260419T183512Z
UID:10009689-1776879000-1776882600@tillamookcoast.com
SUMMARY:Vote Yes Tillamook Bay Fire & Rescue District: Open House\, Q&A
DESCRIPTION:The evening will begin with a short presentation about the proposed Tillamook Bay Fire & Rescue Rural Fire Protection District that is coming to the 2026 May ballot for permanent residents served by fire organizations in the Bay City and Tillamook areas.\n\nThe presentation will be followed by Q&As\, and then a time to meet and greet with volunteer firefighters\, current board members\, and other advocates for the measure.\n\nHosted at the:Fairview Grange5520 3rd StTillamook\, OR 97141\n\nFree and open to the public.
URL:https://tillamookcoast.com/plan-your-trip/events/event/vote-yes-tillamook-bay-fire-rescue-district-open-house-qa/
LOCATION:Fairview Grange\, 5520 3rd St\, Tillamook\, OR\, United States\, Oregon
CATEGORIES:Community,Education
ATTACH;FMTTYPE=image/png:https://tillamookcoast.com/wp-content/uploads/2026/04/Logo-2-wGsWM0.png
END:VEVENT
BEGIN:VEVENT
DTSTART;TZID=America/Los_Angeles:20260423T090000
DTEND;TZID=America/Los_Angeles:20260423T100000
DTSTAMP:20260420T200917
CREATED:20260212T131935Z
LAST-MODIFIED:20260419T183512Z
UID:10009219-1776934800-1776938400@tillamookcoast.com
SUMMARY:Virtual Grief Support Groups
DESCRIPTION:Grief touches every part of life\, often in ways we never expected. Whether you are navigating the loss of a loved one\, a major life\nchange\, or the overwhelming emotions that follow loss of any kind\, you don’t have to face it alone. \nThese groups offer gentle guidance\, practical tools\, and heartfelt support to help you move through your grief at your own pace. \nVirtual groups co-led by:\nCami Aufdermauer\, Bereavement Coordinator and Chaplain\nDr. Pam Strachan\, Board-Certified Chaplain and Bereavement Specialist \nVirtual Grief Support Groups\nOccurs the first and last Thursday of every month for one hour starting at 9 a.m.\nRegistration required visiting ahlink.org/tillamookgg
URL:https://tillamookcoast.com/plan-your-trip/events/event/virtual-grief-support-groups-5/
LOCATION:OR
CATEGORIES:Community,Education
ATTACH;FMTTYPE=image/jpeg:https://tillamookcoast.com/wp-content/uploads/2026/02/2026-Grief-Groups-2-Flyer-Single-Page-nvKAXj.jpg
END:VEVENT
BEGIN:VEVENT
DTSTART;TZID=America/Los_Angeles:20260423T160000
DTEND;TZID=America/Los_Angeles:20260423T173000
DTSTAMP:20260420T200917
CREATED:20260126T154435Z
LAST-MODIFIED:20260419T183514Z
UID:10009080-1776960000-1776965400@tillamookcoast.com
SUMMARY:Knitting Group
DESCRIPTION:Join a fun group of knitters at North Tillamook Library in Manzanita on Thursdays from 4pm to 5:30pm.
URL:https://tillamookcoast.com/plan-your-trip/events/event/knitting-group-38/
LOCATION:North Tillamook Library\, 571 Laneda Ave\, Manzanita\, OR 97130
CATEGORIES:Community,Education
ATTACH;FMTTYPE=image/png:https://tillamookcoast.com/wp-content/uploads/2024/08/logo-OfhBMs.tmp_.png
GEO:45.7194742;-123.9317422
X-APPLE-STRUCTURED-LOCATION;VALUE=URI;X-ADDRESS=North Tillamook Library 571 Laneda Ave Manzanita OR 97130;X-APPLE-RADIUS=500;X-TITLE=571 Laneda Ave\, Manzanita\, OR 97130:geo:-123.9317422,45.7194742
END:VEVENT
BEGIN:VEVENT
DTSTART;TZID=America/Los_Angeles:20260423T170000
DTEND;TZID=America/Los_Angeles:20260423T200000
DTSTAMP:20260420T200917
CREATED:20260307T224159Z
LAST-MODIFIED:20260419T183515Z
UID:10009406-1776963600-1776974400@tillamookcoast.com
SUMMARY:Level Up Tillamook Pitch Contest Competition
DESCRIPTION:2026 Pitch Contest:\nThe Level Up Tillamook Pitch Contest is a competition where participants present a concise\, compelling introduction of their new product\, service\, or expansion plans in no more than 10 minutes.\nCompete for up to $10\,000 for your business.\nBusinesses must: -Be in operation for one year-Have a new product\, service\, or new expansion plans\n\nThe Pitch Contest will take place on the following date:\n• April 23: Tillamook – PRI Building :\nReach out for any questions!rudellarriba@tillamookbaycc.edu
URL:https://tillamookcoast.com/plan-your-trip/events/event/level-up-tillamook-pitch-contest-competition/
LOCATION:PRI Building\, 4506 3rd St Tillamook\, OR 97141
CATEGORIES:Business,Community,Education
ATTACH;FMTTYPE=image/jpeg:https://tillamookcoast.com/wp-content/uploads/2026/03/642293836_1422368299686310_108927373134495282_n-8YWhns.jpg
GEO:45.4573728;-123.8109218
X-APPLE-STRUCTURED-LOCATION;VALUE=URI;X-ADDRESS=PRI Building 4506 3rd St Tillamook OR 97141;X-APPLE-RADIUS=500;X-TITLE=4506 3rd St Tillamook\, OR 97141:geo:-123.8109218,45.4573728
END:VEVENT
BEGIN:VEVENT
DTSTART;TZID=America/Los_Angeles:20260424T100000
DTEND;TZID=America/Los_Angeles:20260424T110000
DTSTAMP:20260420T200917
CREATED:20260126T154436Z
LAST-MODIFIED:20260419T183515Z
UID:10009082-1777024800-1777028400@tillamookcoast.com
SUMMARY:Tillamook Main Library Storytime: Mother Goose on the Loose
DESCRIPTION:Mother Goose on the Loose (MGOL) on Fri @ 10am; developmentally appropriate for birth to 24mos; rhythm\, rhymes\, instruments\, scarves and puppets! There is no expectation that your children will sit still or be quiet. It’s not developmentally appropriate to ask them to.
URL:https://tillamookcoast.com/plan-your-trip/events/event/tillamook-main-library-storytime-mother-goose-on-the-loose-39/
LOCATION:Tillamook Main Library\, Tillamook\, 1716 3rd St\, Tillamook\, OR\, 97141\, United States
CATEGORIES:Education,Family Fun
ATTACH;FMTTYPE=image/png:https://tillamookcoast.com/wp-content/uploads/2023/01/TCL-transparent-logo-1-MLNzaD.tmp_.png
ORGANIZER;CN="Melanie Hetrick":MAILTO:mhetrick@co.tillamook.or.us
GEO:45.4566251;-123.846324
X-APPLE-STRUCTURED-LOCATION;VALUE=URI;X-ADDRESS=Tillamook Main Library Tillamook 1716 3rd St Tillamook OR 97141 United States;X-APPLE-RADIUS=500;X-TITLE=1716 3rd St:geo:-123.846324,45.4566251
END:VEVENT
BEGIN:VEVENT
DTSTART;TZID=America/Los_Angeles:20260424T100000
DTEND;TZID=America/Los_Angeles:20260424T120000
DTSTAMP:20260420T200917
CREATED:20260126T154211Z
LAST-MODIFIED:20260419T183516Z
UID:10009070-1777024800-1777032000@tillamookcoast.com
SUMMARY:Trail Building in Nehalem Bay With LNCT!
DESCRIPTION:Every Friday\, volunteers gather on LNCT lands near Manzanita\, Nehalem and Wheeler to protect and restore habitat in the lower Nehalem watershed. We would love to see new faces out on the land!\n\n\n\nThese work parties are beginner friendly and an opportunity to learn about the engineering of hiking trails. We will be working on uneven ground\, bending\, and moving small rocks and brush during this process. Tools and gloves are provided\, new volunteers welcome and no prior experience needed. Join as frequently as you please.  Email shane@nehalemtrust.org for weekly updates on where to meet.\n\nAlder Creek Farm and Natural Area’s Nehalem Teaching Trail already supports an impressive variety of native plants and simulated ecosystems for community learning—but we’re looking to grow. This short trail will extend educational access into a different ecosystem and connect to the Natural Area’s pollinator meadow. We hope it will also add some variety to habitat access for bird watchers who visit the farm as a part of the Oregon Coast Birding Trail.
URL:https://tillamookcoast.com/plan-your-trip/events/event/trail-building-in-nehalem-bay-with-lnct-35/
LOCATION:Lower Nehalem Community Trust
CATEGORIES:Community,Education,Outdoor
ATTACH;FMTTYPE=image/jpeg:https://tillamookcoast.com/wp-content/uploads/2025/12/LNCT-Stewardship-Poster-4-LH2xa6.jpg
GEO:45.7201074;-123.8940225
END:VEVENT
BEGIN:VEVENT
DTSTART;TZID=America/Los_Angeles:20260425T090000
DTEND;TZID=America/Los_Angeles:20260425T140000
DTSTAMP:20260420T200917
CREATED:20260324T150449Z
LAST-MODIFIED:20260419T183517Z
UID:10009588-1777107600-1777125600@tillamookcoast.com
SUMMARY:Tillamook Anglers Association 37th Annual Fin Clipping Day
DESCRIPTION:The very popular “Fin Clip Day” will be held on Saturday April 25th from 9am to 2pm at the Whiskey Creek Volunteer Fish Hatchery located on Netarts bay. Over 300 people of all ages are expected to volunteer and help celebrate Tillamook Anglers’ 37th year of fin clipping our juvenile Spring Chinook Salmon. This annual event draws participants from all up and down the North Coast and from as far away as Astoria\, Multnomah and Salem. Approximately 110\,000 salmon will have their Adipose fin removed prior to release to the Trask River during this event. Coffee and doughnuts will be provided in the morning with a BBQ lunch at noon that is free for everyone. We can use anyone that shows up and volunteers for this event. Bring your whole family! It is a great experience!
URL:https://tillamookcoast.com/plan-your-trip/events/event/tillamook-anglers-association-37th-annual-fin-clipping-day/
LOCATION:OR
CATEGORIES:Community,Education,Family Fun
END:VEVENT
BEGIN:VEVENT
DTSTART;TZID=America/Los_Angeles:20260425T100000
DTEND;TZID=America/Los_Angeles:20260425T160000
DTSTAMP:20260420T200917
CREATED:20260403T002319Z
LAST-MODIFIED:20260419T183519Z
UID:10009635-1777111200-1777132800@tillamookcoast.com
SUMMARY:Tillamook County Pioneer Museum Turns 91! Free Community Admission Day
DESCRIPTION:In celebration of the Museum’s 91st Anniversary\, enjoy free admission and treats on:\n\nSaturday\, April 25 from 10 am – 4 pm\n\nExplore the exhibits and chat with staff about TCPM’s history and vision for the Museum’s future.\nSee you there!
URL:https://tillamookcoast.com/plan-your-trip/events/event/tillamook-county-pioneer-museum-turns-91-free-community-admission-day/
LOCATION:Tillamook County Pioneer Museum\, 2106 Second St\, Tillamook OR 97141
CATEGORIES:Community,Education
GEO:45.4573215;-123.8427649
X-APPLE-STRUCTURED-LOCATION;VALUE=URI;X-ADDRESS=Tillamook County Pioneer Museum 2106 Second St Tillamook OR 97141;X-APPLE-RADIUS=500;X-TITLE=2106 Second St\, Tillamook OR 97141:geo:-123.8427649,45.4573215
END:VEVENT
BEGIN:VEVENT
DTSTART;TZID=America/Los_Angeles:20260425T110000
DTEND;TZID=America/Los_Angeles:20260425T140000
DTSTAMP:20260420T200917
CREATED:20260309T232505Z
LAST-MODIFIED:20260419T183519Z
UID:10009438-1777114800-1777125600@tillamookcoast.com
SUMMARY:Wild Food Foraging
DESCRIPTION:$40 | Registration Required \nLearn about the edible wild plants found in the Tillamook State Forest! \nSpring is when wildflowers bloom and wild greens are ripe for picking. See plants like wild violet\, Solomon’s seal\, fairy bells\, licorice fern\, sorrel\, various fiddleheads\, wild ginger and more. Join educator and author John Kallas to learn the many ways they can be used as food. \nCopies of Wild Edible Plants by John Kallas will be available for sale. \nRegistration is required by Wednesday\, April 22nd. Please call 503-815-6807 to submit payment for registration. Note: The TFC is closed on Monday and Tuesday and therefore won’t be able to take payment on these days.
URL:https://tillamookcoast.com/plan-your-trip/events/event/wild-food-foraging/
LOCATION:Tillamook Forest Center\, 45500 Wilson River Hwy
CATEGORIES:Community,Education
ATTACH;FMTTYPE=image/jpeg:https://tillamookcoast.com/wp-content/uploads/2026/03/IMG_2141-ezi6ZI.jpg
GEO:45.5860311;-123.5606006
X-APPLE-STRUCTURED-LOCATION;VALUE=URI;X-ADDRESS=Tillamook Forest Center 45500 Wilson River Hwy;X-APPLE-RADIUS=500;X-TITLE=45500 Wilson River Hwy:geo:-123.5606006,45.5860311
END:VEVENT
BEGIN:VEVENT
DTSTART;TZID=America/Los_Angeles:20260427T160000
DTEND;TZID=America/Los_Angeles:20260427T160000
DTSTAMP:20260420T200917
CREATED:20260313T084028Z
LAST-MODIFIED:20260419T183630Z
UID:10009474-1777305600-1777305600@tillamookcoast.com
SUMMARY:Grief Workshops with Morgan Motsinger at Tillamook Library
DESCRIPTION:Grief Literacy: Understanding Loss\, Reclaiming Life\nA four-part community workshop series\nGrief is not a problem to be solved or a stage to get through. It’s something we carry\, and with the right understanding\, it can become one of our greatest teachers. This series blends neuroscience\, psychology\, and lived experience to help you understand what grief actually is\, why it affects your brain and body the way it does\, and how to move through it with more compassion\, clarity\, and even joy. \nEach session includes mindfulness practice\, movement\, real conversation\, and tools you can use immediately. Come to one or come to all\, each session stands on its own. \nWeek 1 — What We Get Wrong About Grief \nUnpacking the myths (including the infamous 5 stages) and discovering what grief actually looks like. \nWeek 2 — Grief and the Brain \nWhy grief is so exhausting\, what’s happening neurologically\, and why your brain needs delight just as much as it needs to process. \nWeek 3 — Grief Is Everywhere \nGrief isn’t only about death. Exploring the losses that don’t get named (divorce\, illness\, identity\, relationships) and what they reveal about what we love most. \nWeek 4 — From Knowing to Tending \nGrief in the body\, somatic practices\, an in-the-moment grief toolkit\, and the big question: what does your grief make clear about the life you want to build? \nLed by Morgan Motsinger: TEDx speaker\, mindfulness teacher\, psychology educator\, and bereaved parent.
URL:https://tillamookcoast.com/plan-your-trip/events/event/grief-workshops-with-morgan-motsinger-at-tillamook-library-4/
LOCATION:Tillamook County Library\, 1716 3rd Street Tillamook Oregon 97141
CATEGORIES:Community,Education
ATTACH;FMTTYPE=image/png:https://tillamookcoast.com/wp-content/uploads/2026/03/Grief-Literacy-workshop-series-TM-7H9xVM.png
GEO:45.4566251;-123.846324
X-APPLE-STRUCTURED-LOCATION;VALUE=URI;X-ADDRESS=Tillamook County Library 1716 3rd Street Tillamook Oregon 97141;X-APPLE-RADIUS=500;X-TITLE=1716 3rd Street Tillamook Oregon 97141:geo:-123.846324,45.4566251
END:VEVENT
BEGIN:VEVENT
DTSTART;TZID=America/Los_Angeles:20260428T100000
DTEND;TZID=America/Los_Angeles:20260428T110000
DTSTAMP:20260420T200917
CREATED:20260128T181334Z
LAST-MODIFIED:20260419T183632Z
UID:10009104-1777370400-1777374000@tillamookcoast.com
SUMMARY:Tillamook Main Library Storytime: Terrific Twos
DESCRIPTION:Terrific Twos (TT) on Tues @ 10am; developmentally appropriate for 24-36mos; bubbles\, balls\, parachute & instruments! There is no expectation that your children will sit still or be quiet. It’s not developmentally appropriate to ask them to. \nA couple of things about the children’s room that might set you at ease: \n\nThere is no expectation that it will be a quiet zone; kids are kids and they are allowed to act themselves in the children’s room.\nOnly 2 hard and fast rules: No Running & No Screaming.\nIf your child needs a snack\, feed them!
URL:https://tillamookcoast.com/plan-your-trip/events/event/tillamook-main-library-storytime-terrific-twos-39/
LOCATION:Tillamook Main Library\, Tillamook\, 1716 3rd St\, Tillamook\, OR\, 97141\, United States
CATEGORIES:Education,Family Fun
ATTACH;FMTTYPE=image/jpeg:https://tillamookcoast.com/wp-content/uploads/2023/01/TCL-white-Et5zrw.tmp_.jpg
ORGANIZER;CN="Melanie Hetrick":MAILTO:mhetrick@co.tillamook.or.us
GEO:45.4566251;-123.846324
X-APPLE-STRUCTURED-LOCATION;VALUE=URI;X-ADDRESS=Tillamook Main Library Tillamook 1716 3rd St Tillamook OR 97141 United States;X-APPLE-RADIUS=500;X-TITLE=1716 3rd St:geo:-123.846324,45.4566251
END:VEVENT
BEGIN:VEVENT
DTSTART;TZID=America/Los_Angeles:20260429T100000
DTEND;TZID=America/Los_Angeles:20260429T110000
DTSTAMP:20260420T200917
CREATED:20260129T231100Z
LAST-MODIFIED:20260419T183524Z
UID:10009112-1777456800-1777460400@tillamookcoast.com
SUMMARY:Tillamook Main Library Storytime: Preschool
DESCRIPTION:Preschool storytime (PS) on Wed @ 10; developmentally appropriate for 3-5 yos; music\, stories\, interactive play and lots of laughs! In this class little begin to learn about a leader at the front of the room\, how to hold their wiggles\, listening and sitting still. When a child is transitioning from TT to PS my expectation is that they will sit for 5-10 minutes and then they might go play. I do not force them to sit still if they are not ready to. \nA couple of things about the children’s room that might set you at ease: \n\nThere is no expectation that it will be a quiet zone; kids are kids and they are allowed to act like themselves in the children’s room.\nOnly 2 hard and fast rules: No Running & No Screaming.\nIf your child needs a snack\, feed them!
URL:https://tillamookcoast.com/plan-your-trip/events/event/tillamook-main-library-storytime-preschool-39/
LOCATION:Tillamook Main Library\, Tillamook\, 1716 3rd St\, Tillamook\, OR\, 97141\, United States
CATEGORIES:Education,Family Fun
ATTACH;FMTTYPE=image/png:https://tillamookcoast.com/wp-content/uploads/2023/01/TCL-transparent-logo-9SAvyC.tmp_.png
ORGANIZER;CN="Melanie Hetrick":MAILTO:mhetrick@co.tillamook.or.us
GEO:45.4566251;-123.846324
X-APPLE-STRUCTURED-LOCATION;VALUE=URI;X-ADDRESS=Tillamook Main Library Tillamook 1716 3rd St Tillamook OR 97141 United States;X-APPLE-RADIUS=500;X-TITLE=1716 3rd St:geo:-123.846324,45.4566251
END:VEVENT
BEGIN:VEVENT
DTSTART;TZID=America/Los_Angeles:20260430T103000
DTEND;TZID=America/Los_Angeles:20260430T123000
DTSTAMP:20260420T200917
CREATED:20260313T084035Z
LAST-MODIFIED:20260419T183637Z
UID:10009476-1777545000-1777552200@tillamookcoast.com
SUMMARY:Dia del Niño at Tillamook Library
DESCRIPTION:Join us to celebrate Dia del Niño at the main library branch! We’ll have snacks\, stories\, and a performance by Mariachi Viva Mexico! \n¡Celebra el Dia del Niño en la biblioteca central! ¡Habrá comida\, cuentos\, y un concierto de Mariachi Viva Mexico!
URL:https://tillamookcoast.com/plan-your-trip/events/event/dia-del-nino-at-tillamook-library/
LOCATION:Tillamook County Library\, 1716 3rd Street Tillamook Oregon 97141
CATEGORIES:Community,Education,Family Fun
GEO:45.4566251;-123.846324
X-APPLE-STRUCTURED-LOCATION;VALUE=URI;X-ADDRESS=Tillamook County Library 1716 3rd Street Tillamook Oregon 97141;X-APPLE-RADIUS=500;X-TITLE=1716 3rd Street Tillamook Oregon 97141:geo:-123.846324,45.4566251
END:VEVENT
BEGIN:VEVENT
DTSTART;TZID=America/Los_Angeles:20260430T160000
DTEND;TZID=America/Los_Angeles:20260430T173000
DTSTAMP:20260420T200917
CREATED:20260130T232311Z
LAST-MODIFIED:20260419T183638Z
UID:10009125-1777564800-1777570200@tillamookcoast.com
SUMMARY:Knitting Group
DESCRIPTION:Join a fun group of knitters at North Tillamook Library in Manzanita on Thursdays from 4pm to 5:30pm.
URL:https://tillamookcoast.com/plan-your-trip/events/event/knitting-group-39/
LOCATION:North Tillamook Library\, 571 Laneda Ave\, Manzanita\, OR 97130
CATEGORIES:Community,Education
ATTACH;FMTTYPE=image/png:https://tillamookcoast.com/wp-content/uploads/2024/08/logo-OfhBMs.tmp_.png
GEO:45.7194742;-123.9317422
X-APPLE-STRUCTURED-LOCATION;VALUE=URI;X-ADDRESS=North Tillamook Library 571 Laneda Ave Manzanita OR 97130;X-APPLE-RADIUS=500;X-TITLE=571 Laneda Ave\, Manzanita\, OR 97130:geo:-123.9317422,45.7194742
END:VEVENT
END:VCALENDAR