BEGIN:VCALENDAR
VERSION:2.0
PRODID:-//Tillamook Coast - ECPv6.15.16//NONSGML v1.0//EN
CALSCALE:GREGORIAN
METHOD:PUBLISH
X-ORIGINAL-URL:https://tillamookcoast.com
X-WR-CALDESC:Events for Tillamook Coast
REFRESH-INTERVAL;VALUE=DURATION:PT1H
X-Robots-Tag:noindex
X-PUBLISHED-TTL:PT1H
BEGIN:VTIMEZONE
TZID:America/Los_Angeles
BEGIN:DAYLIGHT
TZOFFSETFROM:-0800
TZOFFSETTO:-0700
TZNAME:PDT
DTSTART:20250309T100000
END:DAYLIGHT
BEGIN:STANDARD
TZOFFSETFROM:-0700
TZOFFSETTO:-0800
TZNAME:PST
DTSTART:20251102T090000
END:STANDARD
BEGIN:DAYLIGHT
TZOFFSETFROM:-0800
TZOFFSETTO:-0700
TZNAME:PDT
DTSTART:20260308T100000
END:DAYLIGHT
BEGIN:STANDARD
TZOFFSETFROM:-0700
TZOFFSETTO:-0800
TZNAME:PST
DTSTART:20261101T090000
END:STANDARD
BEGIN:DAYLIGHT
TZOFFSETFROM:-0800
TZOFFSETTO:-0700
TZNAME:PDT
DTSTART:20270314T100000
END:DAYLIGHT
BEGIN:STANDARD
TZOFFSETFROM:-0700
TZOFFSETTO:-0800
TZNAME:PST
DTSTART:20271107T090000
END:STANDARD
END:VTIMEZONE
BEGIN:VEVENT
DTSTART;TZID=America/Los_Angeles:20260228T073000
DTEND;TZID=America/Los_Angeles:20260228T170000
DTSTAMP:20260424T155805
CREATED:20260204T091955Z
LAST-MODIFIED:20260228T202254Z
UID:10009153-1772263800-1772298000@tillamookcoast.com
SUMMARY:Three Capes Marathon Relay
DESCRIPTION:The Three Capes Marathon Relay is a 26.2 mile course traveling the Three Capes Scenic Loop\, starting at Cape Meares Lake\, passing Cape Lookout\, and ending at Web County Park in Pacific City. \nThe rugged course\, with plenty of hills\, passes through or runs adjacent to six state parks\, two National Wildlife Refuges\, multiple Tillamook County Parks\, and boasts stunning vantage points of the Tillamook Bay\, Netarts Bay\, and the Pacific Ocean. Local spectators are encouraged to come out and cheer participants along\, but: “Caution: runners on the road!” \nThe course is separated into five legs which vary in distances from 4.37 miles to just under seven miles. Team categories include: family\, business\, school\, or Clydesdale. Starting and ending at sea level\, there is a significant elevation climb within the course\, offering a challenging racing venue. \nCost for registration is $339 for a five-person team\, $165 for a two-person team\, and the solo marathoner is $95. Every participant will receive a custom Three Capes Relay Medal when crossing the finish line. Register online at threecapesrelay.com or register at packet pick-up the night before the event.
URL:https://tillamookcoast.com/plan-your-trip/events/event/three-capes-marathon-relay/
LOCATION:OR
CATEGORIES:Community,Fitness and Athletics,Outdoor
ATTACH;FMTTYPE=image/jpeg:https://tillamookcoast.com/wp-content/uploads/2026/02/Three-Capes-1-X5LL1k.jpg
END:VEVENT
END:VCALENDAR