BEGIN:VCALENDAR
VERSION:2.0
PRODID:-//Tillamook Coast - ECPv6.15.16//NONSGML v1.0//EN
CALSCALE:GREGORIAN
METHOD:PUBLISH
X-WR-CALNAME:Tillamook Coast
X-ORIGINAL-URL:https://tillamookcoast.com
X-WR-CALDESC:Events for Tillamook Coast
REFRESH-INTERVAL;VALUE=DURATION:PT1H
X-Robots-Tag:noindex
X-PUBLISHED-TTL:PT1H
BEGIN:VTIMEZONE
TZID:America/Los_Angeles
BEGIN:DAYLIGHT
TZOFFSETFROM:-0800
TZOFFSETTO:-0700
TZNAME:PDT
DTSTART:20250309T100000
END:DAYLIGHT
BEGIN:STANDARD
TZOFFSETFROM:-0700
TZOFFSETTO:-0800
TZNAME:PST
DTSTART:20251102T090000
END:STANDARD
BEGIN:DAYLIGHT
TZOFFSETFROM:-0800
TZOFFSETTO:-0700
TZNAME:PDT
DTSTART:20260308T100000
END:DAYLIGHT
BEGIN:STANDARD
TZOFFSETFROM:-0700
TZOFFSETTO:-0800
TZNAME:PST
DTSTART:20261101T090000
END:STANDARD
BEGIN:DAYLIGHT
TZOFFSETFROM:-0800
TZOFFSETTO:-0700
TZNAME:PDT
DTSTART:20270314T100000
END:DAYLIGHT
BEGIN:STANDARD
TZOFFSETFROM:-0700
TZOFFSETTO:-0800
TZNAME:PST
DTSTART:20271107T090000
END:STANDARD
END:VTIMEZONE
BEGIN:VEVENT
DTSTART;TZID=America/Los_Angeles:20260411T150000
DTEND;TZID=America/Los_Angeles:20260411T190000
DTSTAMP:20260425T105825
CREATED:20260410T183241Z
LAST-MODIFIED:20260410T183241Z
UID:10009685-1775919600-1775934000@tillamookcoast.com
SUMMARY:Silly Goose Coffee Company Fundraiser and Meet & Greet
DESCRIPTION:Come hear about our vision for a new coffee shop\nin downtown Tillamook. We’ll have free coffee and pastries available as well as plenty of opportunities for you to support us in bringing this dream to life. \nThis event is being hosted by Family Forward Network at 2010 Henson Plaza.
URL:https://tillamookcoast.com/plan-your-trip/events/event/silly-goose-coffee-company-fundraiser-and-meet-greet/
LOCATION:Downtown Tillamook\, Tillamook\, OR\, United States
CATEGORIES:Community,Fundraisers
GEO:45.489825;-123.958743
END:VEVENT
BEGIN:VEVENT
DTSTART;TZID=America/Los_Angeles:20260317T163000
DTEND;TZID=America/Los_Angeles:20260317T210000
DTSTAMP:20260425T105825
CREATED:20260305T220723Z
LAST-MODIFIED:20260317T113840Z
UID:10009391-1773765000-1773781200@tillamookcoast.com
SUMMARY:St. Patty’s Day Dinner and Fund Raiser for the Tillamook County Composite Squadron\, CAP
DESCRIPTION:On March 17th from 4:30 PM until 9:00 PM\, your local Tillamook County Composite Squadron of the Civil Air Patrol is taking over the Pacific Restaurant for a fund-raising dinner.  The Civil Air Patrol is a national organization composed of local squadrons who perform search and rescue missions\, train youth to become the future leaders of our country and engage in aerospace education activities across the county and state. The organization’s members are all volunteers and must raise funds for squadron activities. \nSo come join the Tillamook County Composite Squadron members for a traditional Irish meal on St. Patrick’s Day. Only $20.00 for Irish corned beef and cabbage\, potatoes\, traditional soda bread\, salad and some great dessert. Help support your local squadron and have a great meal. You might even want to purchase a raffle ticket for something very special!
URL:https://tillamookcoast.com/plan-your-trip/events/event/st-pattys-day-dinner-and-fund-raiser-for-the-tillamook-county-composite-squadron-cap/
LOCATION:Pacific Restaurant\, 205 Main Avenue in Tillamook
CATEGORIES:Community,Fundraisers
ATTACH;FMTTYPE=image/png:https://tillamookcoast.com/wp-content/uploads/2026/03/St-Patty-Dinner-DvCD6l.png
GEO:45.4570683;-123.8470791
X-APPLE-STRUCTURED-LOCATION;VALUE=URI;X-ADDRESS=Pacific Restaurant 205 Main Avenue in Tillamook;X-APPLE-RADIUS=500;X-TITLE=205 Main Avenue in Tillamook:geo:-123.8470791,45.4570683
END:VEVENT
BEGIN:VEVENT
DTSTART;TZID=America/Los_Angeles:20260315T150000
DTEND;TZID=America/Los_Angeles:20260315T163000
DTSTAMP:20260425T105825
CREATED:20260113T164933Z
LAST-MODIFIED:20260315T090720Z
UID:10008979-1773586800-1773592200@tillamookcoast.com
SUMMARY:John Nilsen Fundraiser Concert for Monday Musical Club of Tillamook
DESCRIPTION:We will have tickets for sale at our January\, February and March regular MMCT programs.  John is known around the Pacific Northwest and has performed in Tillamook County for various events.  This is sure to be an enjoyable afternoon of music and you’ll be helping support MMCT’s high school junior-senior competition at the same time.  Tickets are $20/person or $30/family.
URL:https://tillamookcoast.com/plan-your-trip/events/event/john-nilsen-fundraiser-concert-for-monday-musical-club-of-tillamook/
LOCATION:Tillamook United Methodist Church\, 3808 12th Street\, Tillamook\, OR. 97141\, OR\, United States
CATEGORIES:Community,Fundraisers,Live Music
ATTACH;FMTTYPE=image/jpeg:https://tillamookcoast.com/wp-content/uploads/2026/01/John-Nilsen-Poster-6FVlxn.jpg
GEO:45.44959;-123.82161
X-APPLE-STRUCTURED-LOCATION;VALUE=URI;X-ADDRESS=Tillamook United Methodist Church 3808 12th Street Tillamook OR. 97141 OR United States;X-APPLE-RADIUS=500;X-TITLE=3808 12th Street\, Tillamook\, OR. 97141:geo:-123.82161,45.44959
END:VEVENT
BEGIN:VEVENT
DTSTART;TZID=America/Los_Angeles:20260314T160000
DTEND;TZID=America/Los_Angeles:20260314T190000
DTSTAMP:20260425T105825
CREATED:20260224T192423Z
LAST-MODIFIED:20260314T085330Z
UID:10009322-1773504000-1773514800@tillamookcoast.com
SUMMARY:Friends of Tillamook Bay Fire & Rescue Dinner
DESCRIPTION:Come support the initiative of creating Tillamook Bay Fire & Rescue District! The proposed creation of a new fire district will go to Tillamook and Bay City voters in May. _Fundraiser dinner at the Pacific Restaurant includes: corned beef\, cabbage\, potatoes\, and soda bread. Dinner tickets are $20/person and can be purchased at Pacific Restaurant\, Valvoline Oil\, or by calling: 503-801-2235._Dinner to benefit the work of Friends of Tillamook Bay Fire & Rescue PAC.
URL:https://tillamookcoast.com/plan-your-trip/events/event/friends-of-tillamook-bay-fire-rescue-dinner/
LOCATION:Pacific Restaurant\, 205 Main Avenue in Tillamook
CATEGORIES:Community,Fundraisers
ATTACH;FMTTYPE=image/png:https://tillamookcoast.com/wp-content/uploads/2026/02/3bc986fe-0448-4568-9132-e97b8d76279a-8nm7Va.png
GEO:45.4570683;-123.8470791
X-APPLE-STRUCTURED-LOCATION;VALUE=URI;X-ADDRESS=Pacific Restaurant 205 Main Avenue in Tillamook;X-APPLE-RADIUS=500;X-TITLE=205 Main Avenue in Tillamook:geo:-123.8470791,45.4570683
END:VEVENT
BEGIN:VEVENT
DTSTART;TZID=America/Los_Angeles:20260314T160000
DTEND;TZID=America/Los_Angeles:20260314T190000
DTSTAMP:20260425T105825
CREATED:20260217T160647Z
LAST-MODIFIED:20260314T085214Z
UID:10009256-1773504000-1773514800@tillamookcoast.com
SUMMARY:Friends of Tillamook Bay Fire & Rescue Fundraiser Dinner
DESCRIPTION:Come support the initiative of creating Tillamook Bay Fire & Rescue District! The proposed creation of a new fire district will go to Tillamook and Bay City voters on the 2026 May ballot._Fundraiser dinner at the Pacific Restaurant includes: corned beef\, cabbage\, potatoes\, and soda bread. Dinner tickets are $20/person and can be purchased at Pacific Restaurant\, Valvoline Oil\, or by calling: 503-801-2235._Dinner to benefit the work of Friends of Tillamook Bay Fire & Rescue PAC.
URL:https://tillamookcoast.com/plan-your-trip/events/event/friends-of-tillamook-bay-fire-rescue-fundraiser-dinner/
LOCATION:Pacific Restaurant\, 205 Main Avenue in Tillamook
CATEGORIES:Community,Fundraisers
GEO:45.4570683;-123.8470791
X-APPLE-STRUCTURED-LOCATION;VALUE=URI;X-ADDRESS=Pacific Restaurant 205 Main Avenue in Tillamook;X-APPLE-RADIUS=500;X-TITLE=205 Main Avenue in Tillamook:geo:-123.8470791,45.4570683
END:VEVENT
BEGIN:VEVENT
DTSTART;TZID=America/Los_Angeles:20260227T180000
DTEND;TZID=America/Los_Angeles:20260227T200000
DTSTAMP:20260425T105825
CREATED:20260220T182502Z
LAST-MODIFIED:20260227T200746Z
UID:10009284-1772215200-1772222400@tillamookcoast.com
SUMMARY:After the Fire Benefit Concert for Scott Casey & Cosmo Jones
DESCRIPTION:Some good friends experienced a huge fire at the end of January and lost all the contents of a building on their property\, which contained two recording studios\, a myriad of musical instruments\, stage equipment\, lights\, computers\, and their livelihoods. Moss Creek Studios\, Coastal AV\, and Crow Cane Studios were completely destroyed.\n\nA bunch of us who love them would really like to provide support to cover the cost of things insurance will not provide. All of the people involved are the kind of people who have helped everyone around them in multiple ways\, on multiple occasions. They are a big part of the heart of our community. Money won’t replace the lost treasures and memories\, but it can help lighten the pain of starting over. Suggested donation is $10 for this event\, plus we are raffling off a brand new Taylor Guitar to one lucky person!
URL:https://tillamookcoast.com/plan-your-trip/events/event/after-the-fire-benefit-concert-for-scott-casey-cosmo-jones/
LOCATION:Tillamook Eagles #2144\, 209 Stillwell Ave
CATEGORIES:Community,Fundraisers,Live Music
ATTACH;FMTTYPE=image/jpeg:https://tillamookcoast.com/wp-content/uploads/2026/02/After-the-Fire-0ckzoR.jpg
END:VEVENT
BEGIN:VEVENT
DTSTART;TZID=America/Los_Angeles:20260219T183000
DTEND;TZID=America/Los_Angeles:20260219T200000
DTSTAMP:20260425T105825
CREATED:20260126T154124Z
LAST-MODIFIED:20260219T170630Z
UID:10009066-1771525800-1771531200@tillamookcoast.com
SUMMARY:Paint & Sip
DESCRIPTION:Join us for a fun night of art and community. All proceeds benefit the Nestucca 2026 Senior Class is hosting Paint & Sip with painting instruction hosted by Molly Ricks\, art teacher at Nestucca High School. \nRegistration fee includes all art supplies. Food and beverages are available for purchase from Pelican Brewing. All ages are welcome. \nDate: February 19 at 6:30pm\nLocation: Pelican Brewing- Pacific City \nCost: $35 Pre-payment\, $40 at door\, Group of 3 for $90\nPrepayment can be taken at the NHS concessions booth or by contacting Shannon at 503-965-6135
URL:https://tillamookcoast.com/plan-your-trip/events/event/paint-sip/
LOCATION:Pelican Brewing Company\, 33180 Cape Kiwanda Drive
CATEGORIES:Community,Fundraisers
ATTACH;FMTTYPE=image/png:https://tillamookcoast.com/wp-content/uploads/2026/01/paint-and-sip-oOt9RI.png
GEO:45.2151367;-123.9705111
X-APPLE-STRUCTURED-LOCATION;VALUE=URI;X-ADDRESS=Pelican Brewing Company 33180 Cape Kiwanda Drive;X-APPLE-RADIUS=500;X-TITLE=33180 Cape Kiwanda Drive:geo:-123.9705111,45.2151367
END:VEVENT
END:VCALENDAR