BEGIN:VCALENDAR
VERSION:2.0
PRODID:-//Tillamook Coast - ECPv6.15.16//NONSGML v1.0//EN
CALSCALE:GREGORIAN
METHOD:PUBLISH
X-ORIGINAL-URL:https://tillamookcoast.com
X-WR-CALDESC:Events for Tillamook Coast
REFRESH-INTERVAL;VALUE=DURATION:PT1H
X-Robots-Tag:noindex
X-PUBLISHED-TTL:PT1H
BEGIN:VTIMEZONE
TZID:America/Los_Angeles
BEGIN:DAYLIGHT
TZOFFSETFROM:-0800
TZOFFSETTO:-0700
TZNAME:PDT
DTSTART:20250309T100000
END:DAYLIGHT
BEGIN:STANDARD
TZOFFSETFROM:-0700
TZOFFSETTO:-0800
TZNAME:PST
DTSTART:20251102T090000
END:STANDARD
BEGIN:DAYLIGHT
TZOFFSETFROM:-0800
TZOFFSETTO:-0700
TZNAME:PDT
DTSTART:20260308T100000
END:DAYLIGHT
BEGIN:STANDARD
TZOFFSETFROM:-0700
TZOFFSETTO:-0800
TZNAME:PST
DTSTART:20261101T090000
END:STANDARD
BEGIN:DAYLIGHT
TZOFFSETFROM:-0800
TZOFFSETTO:-0700
TZNAME:PDT
DTSTART:20270314T100000
END:DAYLIGHT
BEGIN:STANDARD
TZOFFSETFROM:-0700
TZOFFSETTO:-0800
TZNAME:PST
DTSTART:20271107T090000
END:STANDARD
END:VTIMEZONE
BEGIN:VEVENT
DTSTART;TZID=America/Los_Angeles:20260509T100000
DTEND;TZID=America/Los_Angeles:20260509T160000
DTSTAMP:20260425T092706
CREATED:20260421T183049Z
LAST-MODIFIED:20260423T183053Z
UID:10009777-1778320800-1778342400@tillamookcoast.com
SUMMARY:Nehalem Bay Garden Club Plant Sale
DESCRIPTION:Nehalem Bay Garden Club  Plant Sale \nSaturday May 9\, 2026 \n10:00 am to 4:00 pm \nOne Day Only \n43080 North Fork Rd Nehalem \nAt North Fork Rd and Hwy 53 \nAnnuals – Perennials – Tomatoes \nShrubs – House Plants– Veggies Starts \nMother’s Day Gifts – Raffle  \nKid’s Gardening Activity and Sharpenator                                                                                             \nProceeds benefit local organizations that share the Club’s mission
URL:https://tillamookcoast.com/plan-your-trip/events/event/nehalem-bay-garden-club-plant-sale/
LOCATION:43080 North Fork Rd Nehalem\, 43080 North Fork Rd\, Nehalem\, 97131
CATEGORIES:Community,Fundraisers
ATTACH;FMTTYPE=image/jpeg:https://tillamookcoast.com/wp-content/uploads/2026/04/2026-poster-rotated-QbAI3r.jpg
END:VEVENT
BEGIN:VEVENT
DTSTART;TZID=America/Los_Angeles:20260607T130000
DTEND;TZID=America/Los_Angeles:20260607T153000
DTSTAMP:20260425T092706
CREATED:20260423T183313Z
LAST-MODIFIED:20260423T183313Z
UID:10009791-1780837200-1780846200@tillamookcoast.com
SUMMARY:Don’t Get High Tea
DESCRIPTION:The Tillamook Serenity Club’s 12th annual Don’t Get High Tea will take place on Sunday\, June 7\, 2026 at Pacific Restaurant located at 205 Main Avenue in Tillamook\, and it promises to be an afternoon of elegance including delicious savory and sweet options along with specialty teas and the opportunity to win the bid on many wonderful silent auction items. This fundraiser aims to raise essential funds to continue Tillamook Serenity’s addiction recovery mission within our community.
URL:https://tillamookcoast.com/plan-your-trip/events/event/dont-get-high-tea/
LOCATION:Pacific Restaurant\, 205 Main Avenue in Tillamook
CATEGORIES:Community,Fundraisers
ATTACH;FMTTYPE=image/jpeg:https://tillamookcoast.com/wp-content/uploads/2026/04/IMG_20260416_0001-scaled-rYtovW-scaled.jpg
GEO:45.4570683;-123.8470791
X-APPLE-STRUCTURED-LOCATION;VALUE=URI;X-ADDRESS=Pacific Restaurant 205 Main Avenue in Tillamook;X-APPLE-RADIUS=500;X-TITLE=205 Main Avenue in Tillamook:geo:-123.8470791,45.4570683
END:VEVENT
END:VCALENDAR