BEGIN:VCALENDAR
VERSION:2.0
PRODID:-//Tillamook Coast - ECPv6.15.16//NONSGML v1.0//EN
CALSCALE:GREGORIAN
METHOD:PUBLISH
X-WR-CALNAME:Tillamook Coast
X-ORIGINAL-URL:https://tillamookcoast.com
X-WR-CALDESC:Events for Tillamook Coast
REFRESH-INTERVAL;VALUE=DURATION:PT1H
X-Robots-Tag:noindex
X-PUBLISHED-TTL:PT1H
BEGIN:VTIMEZONE
TZID:America/Los_Angeles
BEGIN:DAYLIGHT
TZOFFSETFROM:-0800
TZOFFSETTO:-0700
TZNAME:PDT
DTSTART:20250309T100000
END:DAYLIGHT
BEGIN:STANDARD
TZOFFSETFROM:-0700
TZOFFSETTO:-0800
TZNAME:PST
DTSTART:20251102T090000
END:STANDARD
BEGIN:DAYLIGHT
TZOFFSETFROM:-0800
TZOFFSETTO:-0700
TZNAME:PDT
DTSTART:20260308T100000
END:DAYLIGHT
BEGIN:STANDARD
TZOFFSETFROM:-0700
TZOFFSETTO:-0800
TZNAME:PST
DTSTART:20261101T090000
END:STANDARD
BEGIN:DAYLIGHT
TZOFFSETFROM:-0800
TZOFFSETTO:-0700
TZNAME:PDT
DTSTART:20270314T100000
END:DAYLIGHT
BEGIN:STANDARD
TZOFFSETFROM:-0700
TZOFFSETTO:-0800
TZNAME:PST
DTSTART:20271107T090000
END:STANDARD
END:VTIMEZONE
BEGIN:VEVENT
DTSTART;TZID=America/Los_Angeles:20260206T080000
DTEND;TZID=America/Los_Angeles:20260206T170000
DTSTAMP:20260422T094229
CREATED:20260122T235742Z
LAST-MODIFIED:20260206T112726Z
UID:10009056-1770364800-1770397200@tillamookcoast.com
SUMMARY:Bay City Arts Center’s First Friday Gallery Opening A Winter Glimpse of the Beloved Ocean Celebration!
DESCRIPTION:Join local communities and visitors alike this February and experience the spirit of the beloved annual Ocean Celebration—traditionally held each August at Cape Lookout—through two special events at the Bay City Arts Center. The events highlight the work of Eduardo Cruz\, a self-taught mixed-media artist\, performer\, and the founder of Huehca Omeyocan\, the cultural group behind the “Ocean Celebration”.  \nTaking place on Friday\, February 6 and Saturday\, February 7\, the events offer two distinct ways to engage—through visual art and live performance. Attendees are welcome to join one or both events to celebrate Eduardo’s artwork\, experience cultural performance\, and learn more about the Ocean Celebration’s decade-long legacy as it approaches its 10th anniversary in 2026. \nOn Friday\, February 6\, Eduardo Cruz will be featured as February’s Artist of the Month during the Bay City Arts Center’s First Friday gallery opening. The exhibit will showcase his visually striking wood-burning artwork\, alongside cultural artifacts from the Ocean Celebration.The evening will also include participation from local environmental partners who help organize the celebration—such as Friends of Netarts Bay WEBS and Oregon Shores—highlighting the powerful intersection of art\, culture\, and environmental stewardship. \nThe celebration continues on Saturday\, February 7\, with a ticketed live performance at the Bay City Arts Center. Huehca Omeyocan\, led by Eduardo Cruz\, will present an Ancestral Music & Dance Celebration\, featuring traditional drumming\, Aztec dance\, and interactive audience participation. “This immersive experience honors the living traditions of Anahuac (Mesoamerican) culture\,” says Cruz. “The performance includes a beautifully curated display of instruments and artifacts from cultures across Mesoamérica\, inviting audiences to engage\, immerse\, and connect with the rhythms and stories of these ancestral traditions.” \nTogether\, these two events offer a rare winter opportunity to experience the creativity\, cultural depth\, and community partnerships that have made the Ocean Celebration a meaningful annual tradition on the Oregon coast. \nEvent Details \n\nGallery Opening: Friday\, February 6\, 5-7 p.m.\, 2026\nLive Performance: Saturday\, February 7\, 6-8:30 p.m.\, 2026\nTickets for Saturday’s live performance are $20. For more information and to purchase tickets online go to:  netartsbaywebs.org/events or https://www.baycityartscenter.com\nLocation: Bay City Arts Center\, 5680 A Street\, Bay City\, OR 97107\n\nStay connected \nEduardo Cruz on instagram: @huehcaomeyocan \nBay City Arts Center: https://baycityartscenter.com  \nFriends of Netarts Bay: https://netartsbaywebs.org Social: @netartsbaywebs \nOregon Shores: https://www.oregonshores.org \nOregon State Parks: https://stateparks.oregon.gov
URL:https://tillamookcoast.com/plan-your-trip/events/event/bay-city-arts-centers-first-friday-gallery-opening-a-winter-glimpse-of-the-beloved-ocean-celebration/
LOCATION:Bay City Arts Center\, 5680 A Street\, Bay City\, Oregon 97107
CATEGORIES:Community,Live Music
ATTACH;FMTTYPE=image/png:https://tillamookcoast.com/wp-content/uploads/2026/01/Friday-Event-5AEJVQ.png
GEO:45.525429;-123.8894722
X-APPLE-STRUCTURED-LOCATION;VALUE=URI;X-ADDRESS=Bay City Arts Center 5680 A Street Bay City Oregon 97107;X-APPLE-RADIUS=500;X-TITLE=5680 A Street\, Bay City\, Oregon 97107:geo:-123.8894722,45.525429
END:VEVENT
BEGIN:VEVENT
DTSTART;TZID=America/Los_Angeles:20260206T163000
DTEND;TZID=America/Los_Angeles:20260206T200000
DTSTAMP:20260422T094229
CREATED:20260119T230615Z
LAST-MODIFIED:20260206T112729Z
UID:10009018-1770395400-1770408000@tillamookcoast.com
SUMMARY:February First Friday at the Blue Heron
DESCRIPTION:Join us for February’s First Friday on February 6th from 4:30 – 8:00 PM! Whether you’re celebrating an early Valentine’s date or just looking for a cozy night out\, we’ve got the perfect atmosphere waiting for you.\n\n\n\nYou can settle in and enjoy the local talents of Eric Sappington performing live while sharing our featured dinner special\, a delicious Fondue for Two. To make the evening even sweeter\, there will be samplings of a decadent Chocolate Bar Port for you to enjoy.\n\n\n\nGrab your favorite person and join us for an evening of great tunes\, amazing food\, and sweet sips—we can’t wait to see you there!
URL:https://tillamookcoast.com/plan-your-trip/events/event/february-first-friday-at-the-blue-heron/
LOCATION:Blue Heron French Cheese Co.\, 2001 Blue Heron Rd A\, Tillamook\, OR 97141\, OR
CATEGORIES:Community,Live Music
ATTACH;FMTTYPE=image/png:https://tillamookcoast.com/wp-content/uploads/2026/01/January_FF_Instagram-JnjZ0k.png
GEO:45.4671926;-123.8429587
X-APPLE-STRUCTURED-LOCATION;VALUE=URI;X-ADDRESS=Blue Heron French Cheese Co. 2001 Blue Heron Rd A Tillamook OR 97141 OR;X-APPLE-RADIUS=500;X-TITLE=2001 Blue Heron Rd A\, Tillamook\, OR 97141:geo:-123.8429587,45.4671926
END:VEVENT
BEGIN:VEVENT
DTSTART;TZID=America/Los_Angeles:20260206T170000
DTEND;TZID=America/Los_Angeles:20260206T190000
DTSTAMP:20260422T094229
CREATED:20260122T235926Z
LAST-MODIFIED:20260206T112841Z
UID:10009058-1770397200-1770404400@tillamookcoast.com
SUMMARY:Bay City Arts Center’s First Friday Gallery Opening A Winter Glimpse of the Beloved Ocean Celebration!
DESCRIPTION:Join local communities and visitors alike this February and experience the spirit of the beloved annual Ocean Celebration—traditionally held each August at Cape Lookout—through two special events at the Bay City Arts Center. The events highlight the work of Eduardo Cruz\, a self-taught mixed-media artist\, performer\, and the founder of Huehca Omeyocan\, the cultural group behind the “Ocean Celebration”.  \nTaking place on Friday\, February 6 and Saturday\, February 7\, the events offer two distinct ways to engage—through visual art and live performance. Attendees are welcome to join one or both events to celebrate Eduardo’s artwork\, experience cultural performance\, and learn more about the Ocean Celebration’s decade-long legacy as it approaches its 10th anniversary in 2026. \nOn Friday\, February 6\, Eduardo Cruz will be featured as February’s Artist of the Month during the Bay City Arts Center’s First Friday gallery opening. The exhibit will showcase his visually striking wood-burning artwork\, alongside cultural artifacts from the Ocean Celebration.The evening will also include participation from local environmental partners who help organize the celebration—such as Friends of Netarts Bay WEBS and Oregon Shores—highlighting the powerful intersection of art\, culture\, and environmental stewardship. \nThe celebration continues on Saturday\, February 7\, with a ticketed live performance at the Bay City Arts Center. Huehca Omeyocan\, led by Eduardo Cruz\, will present an Ancestral Music & Dance Celebration\, featuring traditional drumming\, Aztec dance\, and interactive audience participation. “This immersive experience honors the living traditions of Anahuac (Mesoamerican) culture\,” says Cruz. “The performance includes a beautifully curated display of instruments and artifacts from cultures across Mesoamérica\, inviting audiences to engage\, immerse\, and connect with the rhythms and stories of these ancestral traditions.” \nTogether\, these two events offer a rare winter opportunity to experience the creativity\, cultural depth\, and community partnerships that have made the Ocean Celebration a meaningful annual tradition on the Oregon coast. \nEvent Details \n\nGallery Opening: Friday\, February 6\, 5-7 p.m.\, 2026\nLive Performance: Saturday\, February 7\, 6-8:30 p.m.\, 2026\nTickets for Saturday’s live performance are $20. For more information and to purchase tickets online go to:  netartsbaywebs.org/events or https://www.baycityartscenter.com\nLocation: Bay City Arts Center\, 5680 A Street\, Bay City\, OR 97107\n\nStay connected \nEduardo Cruz on instagram: @huehcaomeyocan \nBay City Arts Center: https://baycityartscenter.com  \nFriends of Netarts Bay: https://netartsbaywebs.org Social: @netartsbaywebs \nOregon Shores: https://www.oregonshores.org \nOregon State Parks: https://stateparks.oregon.gov
URL:https://tillamookcoast.com/plan-your-trip/events/event/bay-city-arts-centers-first-friday-gallery-opening-a-winter-glimpse-of-the-beloved-ocean-celebration-2/
LOCATION:Bay City Arts Center\, 5680 A Street\, Bay City\, Oregon 97107
CATEGORIES:Community,Live Music
ATTACH;FMTTYPE=image/png:https://tillamookcoast.com/wp-content/uploads/2026/01/Friday-Event-5AEJVQ.png
GEO:45.525429;-123.8894722
X-APPLE-STRUCTURED-LOCATION;VALUE=URI;X-ADDRESS=Bay City Arts Center 5680 A Street Bay City Oregon 97107;X-APPLE-RADIUS=500;X-TITLE=5680 A Street\, Bay City\, Oregon 97107:geo:-123.8894722,45.525429
END:VEVENT
END:VCALENDAR