BEGIN:VCALENDAR
VERSION:2.0
PRODID:-//Tillamook Coast - ECPv6.15.16//NONSGML v1.0//EN
CALSCALE:GREGORIAN
METHOD:PUBLISH
X-ORIGINAL-URL:https://tillamookcoast.com
X-WR-CALDESC:Events for Tillamook Coast
REFRESH-INTERVAL;VALUE=DURATION:PT1H
X-Robots-Tag:noindex
X-PUBLISHED-TTL:PT1H
BEGIN:VTIMEZONE
TZID:America/Los_Angeles
BEGIN:DAYLIGHT
TZOFFSETFROM:-0800
TZOFFSETTO:-0700
TZNAME:PDT
DTSTART:20250309T100000
END:DAYLIGHT
BEGIN:STANDARD
TZOFFSETFROM:-0700
TZOFFSETTO:-0800
TZNAME:PST
DTSTART:20251102T090000
END:STANDARD
BEGIN:DAYLIGHT
TZOFFSETFROM:-0800
TZOFFSETTO:-0700
TZNAME:PDT
DTSTART:20260308T100000
END:DAYLIGHT
BEGIN:STANDARD
TZOFFSETFROM:-0700
TZOFFSETTO:-0800
TZNAME:PST
DTSTART:20261101T090000
END:STANDARD
BEGIN:DAYLIGHT
TZOFFSETFROM:-0800
TZOFFSETTO:-0700
TZNAME:PDT
DTSTART:20270314T100000
END:DAYLIGHT
BEGIN:STANDARD
TZOFFSETFROM:-0700
TZOFFSETTO:-0800
TZNAME:PST
DTSTART:20271107T090000
END:STANDARD
END:VTIMEZONE
BEGIN:VEVENT
DTSTART;TZID=America/Los_Angeles:20260209T080000
DTEND;TZID=America/Los_Angeles:20260209T170000
DTSTAMP:20260422T094049
CREATED:20260127T174952Z
LAST-MODIFIED:20260209T123757Z
UID:10009090-1770624000-1770656400@tillamookcoast.com
SUMMARY:Monday Musical Club of Tillamook  February Program “Love at the Movies”
DESCRIPTION:Monday Musical Club of Tillamook will hold Its February program\, \non Monday February 9th at 7pm at the First Christian Church on \n2203 4th Street. \nAn  “Love at the Movies” will feature love songs and \nmovie clips from favorite romantic movies. \nCome and bring a friend and enjoy a musical evening of live music \nby  local musicians. \nThere is no admission charge and it is open to the public
URL:https://tillamookcoast.com/plan-your-trip/events/event/monday-musical-club-of-tillamook-february-program-love-at-the-movies/
LOCATION:First Christian Church\, 2203 4th Street\, OR\, United States
CATEGORIES:Community,Live Music
ATTACH;FMTTYPE=image/jpeg:https://tillamookcoast.com/wp-content/uploads/2026/01/Feb-26-Love-at-the-Movies-.98MB-yAFWVo-scaled.jpg
GEO:45.4553537;-123.84172
X-APPLE-STRUCTURED-LOCATION;VALUE=URI;X-ADDRESS=First Christian Church 2203 4th Street OR United States;X-APPLE-RADIUS=500;X-TITLE=2203 4th Street:geo:-123.84172,45.4553537
END:VEVENT
BEGIN:VEVENT
DTSTART;TZID=America/Los_Angeles:20260209T190000
DTEND;TZID=America/Los_Angeles:20260209T203000
DTSTAMP:20260422T094049
CREATED:20260127T175145Z
LAST-MODIFIED:20260209T123913Z
UID:10009091-1770663600-1770669000@tillamookcoast.com
SUMMARY:Monday Musical Club of Tillamook  February Program “Love at the Movies”
DESCRIPTION:Monday Musical Club of Tillamook will hold Its February program\, \non Monday February 9th at 7pm at the First Christian Church on \n2203 4th Street. \nAn  “Love at the Movies” will feature love songs and \nmovie clips from favorite romantic movies. \nCome and bring a friend and enjoy a musical evening of live music \nby  local musicians. \nThere is no admission charge and it is open to the public
URL:https://tillamookcoast.com/plan-your-trip/events/event/monday-musical-club-of-tillamook-february-program-love-at-the-movies-2/
LOCATION:First Christian Church\, 2203 4th Street\, OR\, United States
CATEGORIES:Community,Live Music
ATTACH;FMTTYPE=image/jpeg:https://tillamookcoast.com/wp-content/uploads/2026/01/Feb-26-Love-at-the-Movies-.98MB-yAFWVo-scaled.jpg
GEO:45.4553537;-123.84172
X-APPLE-STRUCTURED-LOCATION;VALUE=URI;X-ADDRESS=First Christian Church 2203 4th Street OR United States;X-APPLE-RADIUS=500;X-TITLE=2203 4th Street:geo:-123.84172,45.4553537
END:VEVENT
END:VCALENDAR