BEGIN:VCALENDAR
VERSION:2.0
PRODID:-//Tillamook Coast - ECPv6.15.16//NONSGML v1.0//EN
CALSCALE:GREGORIAN
METHOD:PUBLISH
X-WR-CALNAME:Tillamook Coast
X-ORIGINAL-URL:https://tillamookcoast.com
X-WR-CALDESC:Events for Tillamook Coast
REFRESH-INTERVAL;VALUE=DURATION:PT1H
X-Robots-Tag:noindex
X-PUBLISHED-TTL:PT1H
BEGIN:VTIMEZONE
TZID:America/Los_Angeles
BEGIN:DAYLIGHT
TZOFFSETFROM:-0800
TZOFFSETTO:-0700
TZNAME:PDT
DTSTART:20250309T100000
END:DAYLIGHT
BEGIN:STANDARD
TZOFFSETFROM:-0700
TZOFFSETTO:-0800
TZNAME:PST
DTSTART:20251102T090000
END:STANDARD
BEGIN:DAYLIGHT
TZOFFSETFROM:-0800
TZOFFSETTO:-0700
TZNAME:PDT
DTSTART:20260308T100000
END:DAYLIGHT
BEGIN:STANDARD
TZOFFSETFROM:-0700
TZOFFSETTO:-0800
TZNAME:PST
DTSTART:20261101T090000
END:STANDARD
BEGIN:DAYLIGHT
TZOFFSETFROM:-0800
TZOFFSETTO:-0700
TZNAME:PDT
DTSTART:20270314T100000
END:DAYLIGHT
BEGIN:STANDARD
TZOFFSETFROM:-0700
TZOFFSETTO:-0800
TZNAME:PST
DTSTART:20271107T090000
END:STANDARD
END:VTIMEZONE
BEGIN:VEVENT
DTSTART;TZID=America/Los_Angeles:20260214T190000
DTEND;TZID=America/Los_Angeles:20260214T210000
DTSTAMP:20260422T093750
CREATED:20251116T163833Z
LAST-MODIFIED:20260214T134847Z
UID:10008414-1771095600-1771102800@tillamookcoast.com
SUMMARY:Live Music!
DESCRIPTION:Live music every Saturday from 7–9pm in The Schooner Lounge—because your weekend deserves a soundtrack. \nKick back to the sounds of local musicians\, stay for the crave-worthy eats\, craft cocktails\, cold beers\, and our fabulous crew who always bring the good vibes. \nCurious who’s playing? Check out our lineup of Oregon-grown talent on our website!
URL:https://tillamookcoast.com/plan-your-trip/events/event/live-music-32/
LOCATION:The Schooner Restaurant & Lounge\, 2065 Boat Basin Rd
CATEGORIES:Arts and Culture,Live Music
ATTACH;FMTTYPE=image/jpeg:https://tillamookcoast.com/wp-content/uploads/2025/05/Schooner-music-scaled-ZTtYJX-scaled.jpg
GEO:45.4309728;-123.9467868
X-APPLE-STRUCTURED-LOCATION;VALUE=URI;X-ADDRESS=The Schooner Restaurant & Lounge 2065 Boat Basin Rd;X-APPLE-RADIUS=500;X-TITLE=2065 Boat Basin Rd:geo:-123.9467868,45.4309728
END:VEVENT
BEGIN:VEVENT
DTSTART;TZID=America/Los_Angeles:20260214T190000
DTEND;TZID=America/Los_Angeles:20260214T210000
DTSTAMP:20260422T093750
CREATED:20260128T180007Z
LAST-MODIFIED:20260214T134849Z
UID:10009100-1771095600-1771102800@tillamookcoast.com
SUMMARY:A Valentine’s Show
DESCRIPTION:Love Me\, Love Me Not \nEnjoy an evening of Gutsy Folk by Mana Stanaway and Indie Folk Rock by Katelyn Convery. \nTake your Valentine out or just come and enjoy some great music\, February 14th starting at 7:00 pm. at Fairview Grange\, 5520 3rd St.\, Tillamook \nGet advanced tickets at Hygge Kitchen (110 Stillwell Ave.) Advance tickets $20\, at the door $25
URL:https://tillamookcoast.com/plan-your-trip/events/event/a-valentines-show/
LOCATION:Fairview Grange\, 5520 3rd St\, Tillamook\, OR\, United States\, Oregon
CATEGORIES:Community,Holiday,Live Music
ATTACH;FMTTYPE=image/jpeg:https://tillamookcoast.com/wp-content/uploads/2026/01/Valentines-Poster-2026-pdf-8XDxb8-scaled.jpg
END:VEVENT
END:VCALENDAR