BEGIN:VCALENDAR
VERSION:2.0
PRODID:-//Tillamook Coast - ECPv6.15.16//NONSGML v1.0//EN
CALSCALE:GREGORIAN
METHOD:PUBLISH
X-WR-CALNAME:Tillamook Coast
X-ORIGINAL-URL:https://tillamookcoast.com
X-WR-CALDESC:Events for Tillamook Coast
REFRESH-INTERVAL;VALUE=DURATION:PT1H
X-Robots-Tag:noindex
X-PUBLISHED-TTL:PT1H
BEGIN:VTIMEZONE
TZID:America/Los_Angeles
BEGIN:DAYLIGHT
TZOFFSETFROM:-0800
TZOFFSETTO:-0700
TZNAME:PDT
DTSTART:20250309T100000
END:DAYLIGHT
BEGIN:STANDARD
TZOFFSETFROM:-0700
TZOFFSETTO:-0800
TZNAME:PST
DTSTART:20251102T090000
END:STANDARD
BEGIN:DAYLIGHT
TZOFFSETFROM:-0800
TZOFFSETTO:-0700
TZNAME:PDT
DTSTART:20260308T100000
END:DAYLIGHT
BEGIN:STANDARD
TZOFFSETFROM:-0700
TZOFFSETTO:-0800
TZNAME:PST
DTSTART:20261101T090000
END:STANDARD
BEGIN:DAYLIGHT
TZOFFSETFROM:-0800
TZOFFSETTO:-0700
TZNAME:PDT
DTSTART:20270314T100000
END:DAYLIGHT
BEGIN:STANDARD
TZOFFSETFROM:-0700
TZOFFSETTO:-0800
TZNAME:PST
DTSTART:20271107T090000
END:STANDARD
END:VTIMEZONE
BEGIN:VEVENT
DTSTART;TZID=America/Los_Angeles:20260403T163000
DTEND;TZID=America/Los_Angeles:20260403T200000
DTSTAMP:20260422T070124
CREATED:20260326T173426Z
LAST-MODIFIED:20260403T010523Z
UID:10009605-1775233800-1775246400@tillamookcoast.com
SUMMARY:First Friday at the Blue Heron
DESCRIPTION:Join us for a cozy and flavorful First Friday on April 3rd from 4:30 PM to 8:00 PM!\n\nWe’ll be serving up a comforting dinner special of Glazed Ham\, Scalloped Potatoes\, Green Beans\, and Mac N Cheese. Twist Wine Company will be pouring a selection of delicious sips and samples.\n\n\n\nSettle in and enjoy the wonderful sounds of live music by Perry Witt.
URL:https://tillamookcoast.com/plan-your-trip/events/event/first-friday-at-the-blue-heron/
LOCATION:Blue Heron French Cheese Co.\, 2001 Blue Heron Rd A\, Tillamook\, OR 97141\, OR
CATEGORIES:Live Music
ATTACH;FMTTYPE=image/png:https://tillamookcoast.com/wp-content/uploads/2026/03/March_FF_-Insta-2-dTkRTl.png
GEO:45.4671926;-123.8429587
X-APPLE-STRUCTURED-LOCATION;VALUE=URI;X-ADDRESS=Blue Heron French Cheese Co. 2001 Blue Heron Rd A Tillamook OR 97141 OR;X-APPLE-RADIUS=500;X-TITLE=2001 Blue Heron Rd A\, Tillamook\, OR 97141:geo:-123.8429587,45.4671926
END:VEVENT
END:VCALENDAR