BEGIN:VCALENDAR
VERSION:2.0
PRODID:-//Tillamook Coast - ECPv6.15.16//NONSGML v1.0//EN
CALSCALE:GREGORIAN
METHOD:PUBLISH
X-WR-CALNAME:Tillamook Coast
X-ORIGINAL-URL:https://tillamookcoast.com
X-WR-CALDESC:Events for Tillamook Coast
REFRESH-INTERVAL;VALUE=DURATION:PT1H
X-Robots-Tag:noindex
X-PUBLISHED-TTL:PT1H
BEGIN:VTIMEZONE
TZID:America/Los_Angeles
BEGIN:DAYLIGHT
TZOFFSETFROM:-0800
TZOFFSETTO:-0700
TZNAME:PDT
DTSTART:20250309T100000
END:DAYLIGHT
BEGIN:STANDARD
TZOFFSETFROM:-0700
TZOFFSETTO:-0800
TZNAME:PST
DTSTART:20251102T090000
END:STANDARD
BEGIN:DAYLIGHT
TZOFFSETFROM:-0800
TZOFFSETTO:-0700
TZNAME:PDT
DTSTART:20260308T100000
END:DAYLIGHT
BEGIN:STANDARD
TZOFFSETFROM:-0700
TZOFFSETTO:-0800
TZNAME:PST
DTSTART:20261101T090000
END:STANDARD
BEGIN:DAYLIGHT
TZOFFSETFROM:-0800
TZOFFSETTO:-0700
TZNAME:PDT
DTSTART:20270314T100000
END:DAYLIGHT
BEGIN:STANDARD
TZOFFSETFROM:-0700
TZOFFSETTO:-0800
TZNAME:PST
DTSTART:20271107T090000
END:STANDARD
END:VTIMEZONE
BEGIN:VEVENT
DTSTART;TZID=America/Los_Angeles:20260419T140000
DTEND;TZID=America/Los_Angeles:20260419T153000
DTSTAMP:20260422T070115
CREATED:20260410T183303Z
LAST-MODIFIED:20260419T183505Z
UID:10009688-1776607200-1776612600@tillamookcoast.com
SUMMARY:Monday Musical Club of Tillamook April Program “Junior-Senior Award Program”
DESCRIPTION:The Monday Musical Club of Tillamook  April paogram “Junior-Senior Award Program” will be held at  Tillamook United Methodist Church  on Sunday April 19th at 2:00 pm. \nThe program hosted by Jerilee Henderson will feature instrumental and vocal solos by high school Junior and Senior music students from Tillamook County. Each participant prepares 2 musical selections  for their performance in the award competition. \nIt will be a delightful afternoon musical program.  Awards will be presented at the end of the program. \nCome support and encourage our Tillamook County Juniors and Senior music students as they anticipate going on in their education!!! \nThe public is invited\, and the program is free of charge. \nBring a friend and enjoy an afternoon program of live\, local m
URL:https://tillamookcoast.com/plan-your-trip/events/event/monday-musical-club-of-tillamook-april-program-junior-senior-award-program/
LOCATION:Tillamook United Methodist Church\, 3808 12th Street\, Tillamook\, OR. 97141\, OR\, United States
CATEGORIES:Community,Live Music
ATTACH;FMTTYPE=image/jpeg:https://tillamookcoast.com/wp-content/uploads/2026/04/MMCT-Apr-26-scaled-X7MJih-scaled.jpg
GEO:45.44959;-123.82161
X-APPLE-STRUCTURED-LOCATION;VALUE=URI;X-ADDRESS=Tillamook United Methodist Church 3808 12th Street Tillamook OR. 97141 OR United States;X-APPLE-RADIUS=500;X-TITLE=3808 12th Street\, Tillamook\, OR. 97141:geo:-123.82161,45.44959
END:VEVENT
END:VCALENDAR