BEGIN:VCALENDAR
VERSION:2.0
PRODID:-//Tillamook Coast - ECPv6.15.16//NONSGML v1.0//EN
CALSCALE:GREGORIAN
METHOD:PUBLISH
X-WR-CALNAME:Tillamook Coast
X-ORIGINAL-URL:https://tillamookcoast.com
X-WR-CALDESC:Events for Tillamook Coast
REFRESH-INTERVAL;VALUE=DURATION:PT1H
X-Robots-Tag:noindex
X-PUBLISHED-TTL:PT1H
BEGIN:VTIMEZONE
TZID:America/Los_Angeles
BEGIN:DAYLIGHT
TZOFFSETFROM:-0800
TZOFFSETTO:-0700
TZNAME:PDT
DTSTART:20250309T100000
END:DAYLIGHT
BEGIN:STANDARD
TZOFFSETFROM:-0700
TZOFFSETTO:-0800
TZNAME:PST
DTSTART:20251102T090000
END:STANDARD
BEGIN:DAYLIGHT
TZOFFSETFROM:-0800
TZOFFSETTO:-0700
TZNAME:PDT
DTSTART:20260308T100000
END:DAYLIGHT
BEGIN:STANDARD
TZOFFSETFROM:-0700
TZOFFSETTO:-0800
TZNAME:PST
DTSTART:20261101T090000
END:STANDARD
BEGIN:DAYLIGHT
TZOFFSETFROM:-0800
TZOFFSETTO:-0700
TZNAME:PDT
DTSTART:20270314T100000
END:DAYLIGHT
BEGIN:STANDARD
TZOFFSETFROM:-0700
TZOFFSETTO:-0800
TZNAME:PST
DTSTART:20271107T090000
END:STANDARD
END:VTIMEZONE
BEGIN:VEVENT
DTSTART;TZID=America/Los_Angeles:20260426T150000
DTEND;TZID=America/Los_Angeles:20260507T163000
DTSTAMP:20260422T081842
CREATED:20260415T190918Z
LAST-MODIFIED:20260421T183044Z
UID:10009742-1777215600-1778171400@tillamookcoast.com
SUMMARY:Cannon Beach Chorus presents its FREE Spring 2026 concert\, “I Am America\, the land\, the people\, the struggle to be free”
DESCRIPTION:The Cannon Beach Chorus presents its Spring 2026 concert\, “I Am America\, the land\, the people\, the struggle to be free”. The concert music was selected in recognition of the 250th anniversary of the signing of the Declaration of Independence.\n\nKnown for performing in a wide range of musical styles\, the chorus has chosen music from the Revolutionary War period to contemporary times\, from composers including Aaron Copland\, Stephen Foster\, Garth Brooks as well as traditional folk and patriotic music with lyrics in English\, Spanish and Navajo. The chorus will be joined by guest musicians Kristin Wishon\, Flute\, Piccolo; Tim Berthelsen\, Violin\, Fiddle; Diane Ericson\, Percussion and Allen Barber\, Tenor.\n\n\nThe concert will feature Tillamook pianist\, Blake Poblador\, in a performance of L’Union\, written during the American Civil War by composer and pianist\, Louis Moreau Gottschalk.\n\nThere is no charge to attend. Donations are encouraged to support the chorus and our scholarship fund for Clatsop and Tillamook County high school Seniors who will continue their vocal/choral music training after graduation.\n\n\nRoy Seiber\, Director
URL:https://tillamookcoast.com/plan-your-trip/events/event/cannon-beach-chorus-presents-its-free-spring-2026-concert-i-am-america-the-land-the-people-the-struggle-to-be-free/
LOCATION:Tillamook United Methodist Church\, 3808 12th Street\, Tillamook\, OR. 97141\, OR\, United States
CATEGORIES:Community,Family Fun,Live Music
ATTACH;FMTTYPE=image/jpeg:https://tillamookcoast.com/wp-content/uploads/2026/04/CBChorusSpr26Flyer-2vh2FQ.jpg
GEO:45.44959;-123.82161
X-APPLE-STRUCTURED-LOCATION;VALUE=URI;X-ADDRESS=Tillamook United Methodist Church 3808 12th Street Tillamook OR. 97141 OR United States;X-APPLE-RADIUS=500;X-TITLE=3808 12th Street\, Tillamook\, OR. 97141:geo:-123.82161,45.44959
END:VEVENT
END:VCALENDAR