BEGIN:VCALENDAR
VERSION:2.0
PRODID:-//Tillamook Coast - ECPv6.15.16//NONSGML v1.0//EN
CALSCALE:GREGORIAN
METHOD:PUBLISH
X-WR-CALNAME:Tillamook Coast
X-ORIGINAL-URL:https://tillamookcoast.com
X-WR-CALDESC:Events for Tillamook Coast
REFRESH-INTERVAL;VALUE=DURATION:PT1H
X-Robots-Tag:noindex
X-PUBLISHED-TTL:PT1H
BEGIN:VTIMEZONE
TZID:America/Los_Angeles
BEGIN:DAYLIGHT
TZOFFSETFROM:-0800
TZOFFSETTO:-0700
TZNAME:PDT
DTSTART:20250309T100000
END:DAYLIGHT
BEGIN:STANDARD
TZOFFSETFROM:-0700
TZOFFSETTO:-0800
TZNAME:PST
DTSTART:20251102T090000
END:STANDARD
BEGIN:DAYLIGHT
TZOFFSETFROM:-0800
TZOFFSETTO:-0700
TZNAME:PDT
DTSTART:20260308T100000
END:DAYLIGHT
BEGIN:STANDARD
TZOFFSETFROM:-0700
TZOFFSETTO:-0800
TZNAME:PST
DTSTART:20261101T090000
END:STANDARD
BEGIN:DAYLIGHT
TZOFFSETFROM:-0800
TZOFFSETTO:-0700
TZNAME:PDT
DTSTART:20270314T100000
END:DAYLIGHT
BEGIN:STANDARD
TZOFFSETFROM:-0700
TZOFFSETTO:-0800
TZNAME:PST
DTSTART:20271107T090000
END:STANDARD
END:VTIMEZONE
BEGIN:VEVENT
DTSTART;TZID=America/Los_Angeles:20260501T163000
DTEND;TZID=America/Los_Angeles:20260501T200000
DTSTAMP:20260424T081519
CREATED:20260423T183026Z
LAST-MODIFIED:20260423T183026Z
UID:10009790-1777653000-1777665600@tillamookcoast.com
SUMMARY:First Friday at the Blue Heron
DESCRIPTION:Join us on May 1st from 4:30 PM to 8:00 PM for an evening of an incredible food and flavor at our upcoming First Friday!\n\nN. E. Daynow will be provide the perfect live soundtrack while you dive into a hearty Shrimp Boil dinner. We are also excited to welcome Argyle Winery who will be pouring special tastings of their fantastic wines throughout the event.\nWhether you are coming for the music\, the wine\, or just the great company\, it is going to be a Friday night to remember.
URL:https://tillamookcoast.com/plan-your-trip/events/event/first-friday-at-the-blue-heron-4/
LOCATION:Blue Heron French Cheese Company\, Highway 101 North Main\, Tillamook
CATEGORIES:Live Music
ATTACH;FMTTYPE=image/png:https://tillamookcoast.com/wp-content/uploads/2026/04/Copy-of-May_FF_-Insta-4-le2asl.png
END:VEVENT
END:VCALENDAR