BEGIN:VCALENDAR
VERSION:2.0
PRODID:-//Tillamook Coast - ECPv6.15.16//NONSGML v1.0//EN
CALSCALE:GREGORIAN
METHOD:PUBLISH
X-WR-CALNAME:Tillamook Coast
X-ORIGINAL-URL:https://tillamookcoast.com
X-WR-CALDESC:Events for Tillamook Coast
REFRESH-INTERVAL;VALUE=DURATION:PT1H
X-Robots-Tag:noindex
X-PUBLISHED-TTL:PT1H
BEGIN:VTIMEZONE
TZID:America/Los_Angeles
BEGIN:DAYLIGHT
TZOFFSETFROM:-0800
TZOFFSETTO:-0700
TZNAME:PDT
DTSTART:20250309T100000
END:DAYLIGHT
BEGIN:STANDARD
TZOFFSETFROM:-0700
TZOFFSETTO:-0800
TZNAME:PST
DTSTART:20251102T090000
END:STANDARD
BEGIN:DAYLIGHT
TZOFFSETFROM:-0800
TZOFFSETTO:-0700
TZNAME:PDT
DTSTART:20260308T100000
END:DAYLIGHT
BEGIN:STANDARD
TZOFFSETFROM:-0700
TZOFFSETTO:-0800
TZNAME:PST
DTSTART:20261101T090000
END:STANDARD
BEGIN:DAYLIGHT
TZOFFSETFROM:-0800
TZOFFSETTO:-0700
TZNAME:PDT
DTSTART:20270314T100000
END:DAYLIGHT
BEGIN:STANDARD
TZOFFSETFROM:-0700
TZOFFSETTO:-0800
TZNAME:PST
DTSTART:20271107T090000
END:STANDARD
END:VTIMEZONE
BEGIN:VEVENT
DTSTART;TZID=America/Los_Angeles:20260425T190000
DTEND;TZID=America/Los_Angeles:20260425T210000
DTSTAMP:20260424T054355
CREATED:20260126T154214Z
LAST-MODIFIED:20260423T183017Z
UID:10009074-1777143600-1777150800@tillamookcoast.com
SUMMARY:Live Music!
DESCRIPTION:Live music every Saturday from 7–9pm in The Schooner Lounge—because your weekend deserves a soundtrack. \nKick back to the sounds of local musicians\, stay for the crave-worthy eats\, craft cocktails\, cold beers\, and our fabulous crew who always bring the good vibes. \nCurious who’s playing? Check out our lineup of Oregon-grown talent on our website!
URL:https://tillamookcoast.com/plan-your-trip/events/event/live-music-42/
LOCATION:The Schooner Restaurant & Lounge\, 2065 Boat Basin Rd
CATEGORIES:Arts and Culture,Live Music
ATTACH;FMTTYPE=image/jpeg:https://tillamookcoast.com/wp-content/uploads/2025/05/Schooner-music-scaled-ZTtYJX-scaled.jpg
GEO:45.4309728;-123.9467868
X-APPLE-STRUCTURED-LOCATION;VALUE=URI;X-ADDRESS=The Schooner Restaurant & Lounge 2065 Boat Basin Rd;X-APPLE-RADIUS=500;X-TITLE=2065 Boat Basin Rd:geo:-123.9467868,45.4309728
END:VEVENT
BEGIN:VEVENT
DTSTART;TZID=America/Los_Angeles:20260502T190000
DTEND;TZID=America/Los_Angeles:20260502T210000
DTSTAMP:20260424T054355
CREATED:20260202T084941Z
LAST-MODIFIED:20260423T183047Z
UID:10009137-1777748400-1777755600@tillamookcoast.com
SUMMARY:Live Music!
DESCRIPTION:Live music every Saturday from 7–9pm in The Schooner Lounge—because your weekend deserves a soundtrack. \nKick back to the sounds of local musicians\, stay for the crave-worthy eats\, craft cocktails\, cold beers\, and our fabulous crew who always bring the good vibes. \nCurious who’s playing? Check out our lineup of Oregon-grown talent on our website!
URL:https://tillamookcoast.com/plan-your-trip/events/event/live-music-43/
LOCATION:The Schooner Restaurant & Lounge\, 2065 Boat Basin Rd
CATEGORIES:Arts and Culture,Live Music
ATTACH;FMTTYPE=image/jpeg:https://tillamookcoast.com/wp-content/uploads/2025/05/Schooner-music-scaled-ZTtYJX-scaled.jpg
GEO:45.4309728;-123.9467868
X-APPLE-STRUCTURED-LOCATION;VALUE=URI;X-ADDRESS=The Schooner Restaurant & Lounge 2065 Boat Basin Rd;X-APPLE-RADIUS=500;X-TITLE=2065 Boat Basin Rd:geo:-123.9467868,45.4309728
END:VEVENT
BEGIN:VEVENT
DTSTART;TZID=America/Los_Angeles:20260509T190000
DTEND;TZID=America/Los_Angeles:20260509T210000
DTSTAMP:20260424T054355
CREATED:20260208T122401Z
LAST-MODIFIED:20260423T183053Z
UID:10009191-1778353200-1778360400@tillamookcoast.com
SUMMARY:Live Music!
DESCRIPTION:Live music every Saturday from 7–9pm in The Schooner Lounge—because your weekend deserves a soundtrack. \nKick back to the sounds of local musicians\, stay for the crave-worthy eats\, craft cocktails\, cold beers\, and our fabulous crew who always bring the good vibes. \nCurious who’s playing? Check out our lineup of Oregon-grown talent on our website!
URL:https://tillamookcoast.com/plan-your-trip/events/event/live-music-44/
LOCATION:The Schooner Restaurant & Lounge\, 2065 Boat Basin Rd
CATEGORIES:Arts and Culture,Live Music
ATTACH;FMTTYPE=image/jpeg:https://tillamookcoast.com/wp-content/uploads/2025/05/Schooner-music-scaled-ZTtYJX-scaled.jpg
GEO:45.4309728;-123.9467868
X-APPLE-STRUCTURED-LOCATION;VALUE=URI;X-ADDRESS=The Schooner Restaurant & Lounge 2065 Boat Basin Rd;X-APPLE-RADIUS=500;X-TITLE=2065 Boat Basin Rd:geo:-123.9467868,45.4309728
END:VEVENT
BEGIN:VEVENT
DTSTART;TZID=America/Los_Angeles:20260516T190000
DTEND;TZID=America/Los_Angeles:20260516T210000
DTSTAMP:20260424T054355
CREATED:20260215T153010Z
LAST-MODIFIED:20260423T183100Z
UID:10009246-1778958000-1778965200@tillamookcoast.com
SUMMARY:Live Music!
DESCRIPTION:Live music every Saturday from 7–9pm in The Schooner Lounge—because your weekend deserves a soundtrack. \nKick back to the sounds of local musicians\, stay for the crave-worthy eats\, craft cocktails\, cold beers\, and our fabulous crew who always bring the good vibes. \nCurious who’s playing? Check out our lineup of Oregon-grown talent on our website!
URL:https://tillamookcoast.com/plan-your-trip/events/event/live-music-45/
LOCATION:The Schooner Restaurant & Lounge\, 2065 Boat Basin Rd
CATEGORIES:Arts and Culture,Live Music
ATTACH;FMTTYPE=image/jpeg:https://tillamookcoast.com/wp-content/uploads/2025/05/Schooner-music-scaled-ZTtYJX-scaled.jpg
GEO:45.4309728;-123.9467868
X-APPLE-STRUCTURED-LOCATION;VALUE=URI;X-ADDRESS=The Schooner Restaurant & Lounge 2065 Boat Basin Rd;X-APPLE-RADIUS=500;X-TITLE=2065 Boat Basin Rd:geo:-123.9467868,45.4309728
END:VEVENT
BEGIN:VEVENT
DTSTART;TZID=America/Los_Angeles:20260523T190000
DTEND;TZID=America/Los_Angeles:20260523T210000
DTSTAMP:20260424T054355
CREATED:20260222T185312Z
LAST-MODIFIED:20260423T183137Z
UID:10009308-1779562800-1779570000@tillamookcoast.com
SUMMARY:Live Music!
DESCRIPTION:Live music every Saturday from 7–9pm in The Schooner Lounge—because your weekend deserves a soundtrack. \nKick back to the sounds of local musicians\, stay for the crave-worthy eats\, craft cocktails\, cold beers\, and our fabulous crew who always bring the good vibes. \nCurious who’s playing? Check out our lineup of Oregon-grown talent on our website!
URL:https://tillamookcoast.com/plan-your-trip/events/event/live-music-46/
LOCATION:The Schooner Restaurant & Lounge\, 2065 Boat Basin Rd
CATEGORIES:Arts and Culture,Live Music
ATTACH;FMTTYPE=image/jpeg:https://tillamookcoast.com/wp-content/uploads/2025/05/Schooner-music-scaled-ZTtYJX-scaled.jpg
GEO:45.4309728;-123.9467868
X-APPLE-STRUCTURED-LOCATION;VALUE=URI;X-ADDRESS=The Schooner Restaurant & Lounge 2065 Boat Basin Rd;X-APPLE-RADIUS=500;X-TITLE=2065 Boat Basin Rd:geo:-123.9467868,45.4309728
END:VEVENT
BEGIN:VEVENT
DTSTART;TZID=America/Los_Angeles:20260530T190000
DTEND;TZID=America/Los_Angeles:20260530T210000
DTSTAMP:20260424T054355
CREATED:20260301T204430Z
LAST-MODIFIED:20260423T183153Z
UID:10009372-1780167600-1780174800@tillamookcoast.com
SUMMARY:Live Music!
DESCRIPTION:Live music every Saturday from 7–9pm in The Schooner Lounge—because your weekend deserves a soundtrack. \nKick back to the sounds of local musicians\, stay for the crave-worthy eats\, craft cocktails\, cold beers\, and our fabulous crew who always bring the good vibes. \nCurious who’s playing? Check out our lineup of Oregon-grown talent on our website!
URL:https://tillamookcoast.com/plan-your-trip/events/event/live-music/
LOCATION:The Schooner Restaurant & Lounge\, 2065 Boat Basin Rd
CATEGORIES:Arts and Culture,Live Music
ATTACH;FMTTYPE=image/jpeg:https://tillamookcoast.com/wp-content/uploads/2025/05/Schooner-music-scaled-ZTtYJX-scaled.jpg
GEO:45.4309728;-123.9467868
X-APPLE-STRUCTURED-LOCATION;VALUE=URI;X-ADDRESS=The Schooner Restaurant & Lounge 2065 Boat Basin Rd;X-APPLE-RADIUS=500;X-TITLE=2065 Boat Basin Rd:geo:-123.9467868,45.4309728
END:VEVENT
BEGIN:VEVENT
DTSTART;TZID=America/Los_Angeles:20260606T190000
DTEND;TZID=America/Los_Angeles:20260606T210000
DTSTAMP:20260424T054355
CREATED:20260308T230233Z
LAST-MODIFIED:20260423T183311Z
UID:10009415-1780772400-1780779600@tillamookcoast.com
SUMMARY:Live Music!
DESCRIPTION:Live music every Saturday from 7–9pm in The Schooner Lounge—because your weekend deserves a soundtrack. \nKick back to the sounds of local musicians\, stay for the crave-worthy eats\, craft cocktails\, cold beers\, and our fabulous crew who always bring the good vibes. \nCurious who’s playing? Check out our lineup of Oregon-grown talent on our website!
URL:https://tillamookcoast.com/plan-your-trip/events/event/live-music-47/
LOCATION:The Schooner Restaurant & Lounge\, 2065 Boat Basin Rd
CATEGORIES:Arts and Culture,Live Music
ATTACH;FMTTYPE=image/jpeg:https://tillamookcoast.com/wp-content/uploads/2025/05/Schooner-music-scaled-ZTtYJX-scaled.jpg
GEO:45.4309728;-123.9467868
X-APPLE-STRUCTURED-LOCATION;VALUE=URI;X-ADDRESS=The Schooner Restaurant & Lounge 2065 Boat Basin Rd;X-APPLE-RADIUS=500;X-TITLE=2065 Boat Basin Rd:geo:-123.9467868,45.4309728
END:VEVENT
BEGIN:VEVENT
DTSTART;TZID=America/Los_Angeles:20260613T190000
DTEND;TZID=America/Los_Angeles:20260613T210000
DTSTAMP:20260424T054355
CREATED:20260315T090835Z
LAST-MODIFIED:20260423T183637Z
UID:10009492-1781377200-1781384400@tillamookcoast.com
SUMMARY:Live Music!
DESCRIPTION:Live music every Saturday from 7–9pm in The Schooner Lounge—because your weekend deserves a soundtrack. \nKick back to the sounds of local musicians\, stay for the crave-worthy eats\, craft cocktails\, cold beers\, and our fabulous crew who always bring the good vibes. \nCurious who’s playing? Check out our lineup of Oregon-grown talent on our website!
URL:https://tillamookcoast.com/plan-your-trip/events/event/live-music-48/
LOCATION:The Schooner Restaurant & Lounge\, 2065 Boat Basin Rd
CATEGORIES:Arts and Culture,Live Music
ATTACH;FMTTYPE=image/jpeg:https://tillamookcoast.com/wp-content/uploads/2025/05/Schooner-music-scaled-ZTtYJX-scaled.jpg
GEO:45.4309728;-123.9467868
X-APPLE-STRUCTURED-LOCATION;VALUE=URI;X-ADDRESS=The Schooner Restaurant & Lounge 2065 Boat Basin Rd;X-APPLE-RADIUS=500;X-TITLE=2065 Boat Basin Rd:geo:-123.9467868,45.4309728
END:VEVENT
BEGIN:VEVENT
DTSTART;TZID=America/Los_Angeles:20260620T190000
DTEND;TZID=America/Los_Angeles:20260620T210000
DTSTAMP:20260424T054355
CREATED:20260322T124957Z
LAST-MODIFIED:20260423T183639Z
UID:10009580-1781982000-1781989200@tillamookcoast.com
SUMMARY:Live Music!
DESCRIPTION:Live music every Saturday from 7–9pm in The Schooner Lounge—because your weekend deserves a soundtrack. \nKick back to the sounds of local musicians\, stay for the crave-worthy eats\, craft cocktails\, cold beers\, and our fabulous crew who always bring the good vibes. \nCurious who’s playing? Check out our lineup of Oregon-grown talent on our website!
URL:https://tillamookcoast.com/plan-your-trip/events/event/live-music-49/
LOCATION:The Schooner Restaurant & Lounge\, 2065 Boat Basin Rd
CATEGORIES:Arts and Culture,Live Music
ATTACH;FMTTYPE=image/jpeg:https://tillamookcoast.com/wp-content/uploads/2025/05/Schooner-music-scaled-ZTtYJX-scaled.jpg
GEO:45.4309728;-123.9467868
X-APPLE-STRUCTURED-LOCATION;VALUE=URI;X-ADDRESS=The Schooner Restaurant & Lounge 2065 Boat Basin Rd;X-APPLE-RADIUS=500;X-TITLE=2065 Boat Basin Rd:geo:-123.9467868,45.4309728
END:VEVENT
BEGIN:VEVENT
DTSTART;TZID=America/Los_Angeles:20260627T190000
DTEND;TZID=America/Los_Angeles:20260627T210000
DTSTAMP:20260424T054355
CREATED:20260403T002323Z
LAST-MODIFIED:20260423T183642Z
UID:10009641-1782586800-1782594000@tillamookcoast.com
SUMMARY:Live Music!
DESCRIPTION:Live music every Saturday from 7–9pm in The Schooner Lounge—because your weekend deserves a soundtrack. \nKick back to the sounds of local musicians\, stay for the crave-worthy eats\, craft cocktails\, cold beers\, and our fabulous crew who always bring the good vibes. \nCurious who’s playing? Check out our lineup of Oregon-grown talent on our website!
URL:https://tillamookcoast.com/plan-your-trip/events/event/live-music-50/
LOCATION:The Schooner Restaurant & Lounge\, 2065 Boat Basin Rd
CATEGORIES:Arts and Culture,Live Music
ATTACH;FMTTYPE=image/jpeg:https://tillamookcoast.com/wp-content/uploads/2025/05/Schooner-music-scaled-ZTtYJX-scaled.jpg
GEO:45.4309728;-123.9467868
X-APPLE-STRUCTURED-LOCATION;VALUE=URI;X-ADDRESS=The Schooner Restaurant & Lounge 2065 Boat Basin Rd;X-APPLE-RADIUS=500;X-TITLE=2065 Boat Basin Rd:geo:-123.9467868,45.4309728
END:VEVENT
BEGIN:VEVENT
DTSTART;TZID=America/Los_Angeles:20260704T190000
DTEND;TZID=America/Los_Angeles:20260704T210000
DTSTAMP:20260424T054355
CREATED:20260410T183413Z
LAST-MODIFIED:20260423T183645Z
UID:10009692-1783191600-1783198800@tillamookcoast.com
SUMMARY:Live Music!
DESCRIPTION:Live music every Saturday from 7–9pm in The Schooner Lounge—because your weekend deserves a soundtrack. \nKick back to the sounds of local musicians\, stay for the crave-worthy eats\, craft cocktails\, cold beers\, and our fabulous crew who always bring the good vibes. \nCurious who’s playing? Check out our lineup of Oregon-grown talent on our website!
URL:https://tillamookcoast.com/plan-your-trip/events/event/live-music-51/
LOCATION:The Schooner Restaurant & Lounge\, 2065 Boat Basin Rd
CATEGORIES:Arts and Culture,Live Music
ATTACH;FMTTYPE=image/jpeg:https://tillamookcoast.com/wp-content/uploads/2025/05/Schooner-music-scaled-ZTtYJX-scaled.jpg
GEO:45.4309728;-123.9467868
X-APPLE-STRUCTURED-LOCATION;VALUE=URI;X-ADDRESS=The Schooner Restaurant & Lounge 2065 Boat Basin Rd;X-APPLE-RADIUS=500;X-TITLE=2065 Boat Basin Rd:geo:-123.9467868,45.4309728
END:VEVENT
BEGIN:VEVENT
DTSTART;TZID=America/Los_Angeles:20260711T190000
DTEND;TZID=America/Los_Angeles:20260711T210000
DTSTAMP:20260424T054355
CREATED:20260412T183810Z
LAST-MODIFIED:20260423T183756Z
UID:10009724-1783796400-1783803600@tillamookcoast.com
SUMMARY:Live Music!
DESCRIPTION:Live music every Saturday from 7–9pm in The Schooner Lounge—because your weekend deserves a soundtrack. \nKick back to the sounds of local musicians\, stay for the crave-worthy eats\, craft cocktails\, cold beers\, and our fabulous crew who always bring the good vibes. \nCurious who’s playing? Check out our lineup of Oregon-grown talent on our website!
URL:https://tillamookcoast.com/plan-your-trip/events/event/live-music-52/
LOCATION:The Schooner Restaurant & Lounge\, 2065 Boat Basin Rd
CATEGORIES:Arts and Culture,Live Music
ATTACH;FMTTYPE=image/jpeg:https://tillamookcoast.com/wp-content/uploads/2025/05/Schooner-music-scaled-ZTtYJX-scaled.jpg
GEO:45.4309728;-123.9467868
X-APPLE-STRUCTURED-LOCATION;VALUE=URI;X-ADDRESS=The Schooner Restaurant & Lounge 2065 Boat Basin Rd;X-APPLE-RADIUS=500;X-TITLE=2065 Boat Basin Rd:geo:-123.9467868,45.4309728
END:VEVENT
BEGIN:VEVENT
DTSTART;TZID=America/Los_Angeles:20260718T190000
DTEND;TZID=America/Los_Angeles:20260718T210000
DTSTAMP:20260424T054355
CREATED:20260419T183616Z
LAST-MODIFIED:20260423T183847Z
UID:10009769-1784401200-1784408400@tillamookcoast.com
SUMMARY:Live Music!
DESCRIPTION:Live music every Saturday from 7–9pm in The Schooner Lounge—because your weekend deserves a soundtrack. \nKick back to the sounds of local musicians\, stay for the crave-worthy eats\, craft cocktails\, cold beers\, and our fabulous crew who always bring the good vibes. \nCurious who’s playing? Check out our lineup of Oregon-grown talent on our website!
URL:https://tillamookcoast.com/plan-your-trip/events/event/live-music-53/
LOCATION:The Schooner Restaurant & Lounge\, 2065 Boat Basin Rd
CATEGORIES:Arts and Culture,Live Music
ATTACH;FMTTYPE=image/jpeg:https://tillamookcoast.com/wp-content/uploads/2025/05/Schooner-music-scaled-ZTtYJX-scaled.jpg
GEO:45.4309728;-123.9467868
X-APPLE-STRUCTURED-LOCATION;VALUE=URI;X-ADDRESS=The Schooner Restaurant & Lounge 2065 Boat Basin Rd;X-APPLE-RADIUS=500;X-TITLE=2065 Boat Basin Rd:geo:-123.9467868,45.4309728
END:VEVENT
END:VCALENDAR